BEGIN:VCALENDAR
VERSION:2.0
PRODID:-// - ECPv6.15.20//NONSGML v1.0//EN
CALSCALE:GREGORIAN
METHOD:PUBLISH
X-ORIGINAL-URL:https://uucpalisades.org
X-WR-CALDESC:Events for 
REFRESH-INTERVAL;VALUE=DURATION:PT1H
X-Robots-Tag:noindex
X-PUBLISHED-TTL:PT1H
BEGIN:VTIMEZONE
TZID:America/New_York
BEGIN:DAYLIGHT
TZOFFSETFROM:-0500
TZOFFSETTO:-0400
TZNAME:EDT
DTSTART:20140309T070000
END:DAYLIGHT
BEGIN:STANDARD
TZOFFSETFROM:-0400
TZOFFSETTO:-0500
TZNAME:EST
DTSTART:20141102T060000
END:STANDARD
BEGIN:DAYLIGHT
TZOFFSETFROM:-0500
TZOFFSETTO:-0400
TZNAME:EDT
DTSTART:20150308T070000
END:DAYLIGHT
BEGIN:STANDARD
TZOFFSETFROM:-0400
TZOFFSETTO:-0500
TZNAME:EST
DTSTART:20151101T060000
END:STANDARD
BEGIN:DAYLIGHT
TZOFFSETFROM:-0500
TZOFFSETTO:-0400
TZNAME:EDT
DTSTART:20160313T070000
END:DAYLIGHT
BEGIN:STANDARD
TZOFFSETFROM:-0400
TZOFFSETTO:-0500
TZNAME:EST
DTSTART:20161106T060000
END:STANDARD
BEGIN:DAYLIGHT
TZOFFSETFROM:-0500
TZOFFSETTO:-0400
TZNAME:EDT
DTSTART:20170312T070000
END:DAYLIGHT
BEGIN:STANDARD
TZOFFSETFROM:-0400
TZOFFSETTO:-0500
TZNAME:EST
DTSTART:20171105T060000
END:STANDARD
BEGIN:DAYLIGHT
TZOFFSETFROM:-0500
TZOFFSETTO:-0400
TZNAME:EDT
DTSTART:20180311T070000
END:DAYLIGHT
BEGIN:STANDARD
TZOFFSETFROM:-0400
TZOFFSETTO:-0500
TZNAME:EST
DTSTART:20181104T060000
END:STANDARD
BEGIN:DAYLIGHT
TZOFFSETFROM:-0500
TZOFFSETTO:-0400
TZNAME:EDT
DTSTART:20190310T070000
END:DAYLIGHT
BEGIN:STANDARD
TZOFFSETFROM:-0400
TZOFFSETTO:-0500
TZNAME:EST
DTSTART:20191103T060000
END:STANDARD
BEGIN:DAYLIGHT
TZOFFSETFROM:-0500
TZOFFSETTO:-0400
TZNAME:EDT
DTSTART:20200308T070000
END:DAYLIGHT
BEGIN:STANDARD
TZOFFSETFROM:-0400
TZOFFSETTO:-0500
TZNAME:EST
DTSTART:20201101T060000
END:STANDARD
BEGIN:DAYLIGHT
TZOFFSETFROM:-0500
TZOFFSETTO:-0400
TZNAME:EDT
DTSTART:20210314T070000
END:DAYLIGHT
BEGIN:STANDARD
TZOFFSETFROM:-0400
TZOFFSETTO:-0500
TZNAME:EST
DTSTART:20211107T060000
END:STANDARD
BEGIN:DAYLIGHT
TZOFFSETFROM:-0500
TZOFFSETTO:-0400
TZNAME:EDT
DTSTART:20220313T070000
END:DAYLIGHT
BEGIN:STANDARD
TZOFFSETFROM:-0400
TZOFFSETTO:-0500
TZNAME:EST
DTSTART:20221106T060000
END:STANDARD
BEGIN:DAYLIGHT
TZOFFSETFROM:-0500
TZOFFSETTO:-0400
TZNAME:EDT
DTSTART:20230312T070000
END:DAYLIGHT
BEGIN:STANDARD
TZOFFSETFROM:-0400
TZOFFSETTO:-0500
TZNAME:EST
DTSTART:20231105T060000
END:STANDARD
BEGIN:DAYLIGHT
TZOFFSETFROM:-0500
TZOFFSETTO:-0400
TZNAME:EDT
DTSTART:20240310T070000
END:DAYLIGHT
BEGIN:STANDARD
TZOFFSETFROM:-0400
TZOFFSETTO:-0500
TZNAME:EST
DTSTART:20241103T060000
END:STANDARD
END:VTIMEZONE
BEGIN:VEVENT
DTSTART;TZID=America/New_York:20230205T103000
DTEND;TZID=America/New_York:20230205T113000
DTSTAMP:20260421T000528
CREATED:20230113T232220Z
LAST-MODIFIED:20230202T233902Z
UID:10000429-1675593000-1675596600@uucpalisades.org
SUMMARY:Don’t Make Assumptions: The Four Agreements (Part 3) - Rev. Sonia Ketchian (Hybrid Service)
DESCRIPTION:Please join UUCP for today’s in-person and online service\, “Don’t Make Assumptions: The Four Agreements (Part 3)” at 10:30 AM led by Rev. Sonia Ketchian. \n\n\nJoin us this Sunday for part three of our four-part series based on the extraordinary book\, “The Four Agreements” by Don Miguel Ruiz.  This week we’ll focus on the third agreement “Don’t Make Assumptions“. We’ll examine why we make assumptions. How making assumptions impacts our lives and the lives of those we connect with. And\, ultimately what might we do differently?\n\n\nAll are welcome. We look forward to seeing you!\n\n\nPoster By: Liandra Pires \n\n\n\n\nDate: Sunday\, February 5 at 10:30 AM\nLocation: The Bristal Assisted Living at Englewood\n412 S Van Brunt St\, Englewood\, NJ 07631\nAmple parking is available under the building \nPLEASE NOTE: You will be required to sign in. Please arrive between 10-10:15 AM. to allow ample time for this process. Please let them know you’re there for the UUCP service which will begin promptly at 10:30 AM.\nCoffee hour: 11:30 AM – 12:30 PM\nCoffee and pastries will be provided! \n\n\nUUCP IS INVITING YOU TO A SCHEDULED ZOOM MEETING\nTopic: UUCP Sunday Service\nJoin Zoom Meeting\nhttps://zoom.us/j/6442007072?pwd=ZVBkT21WeG9DdThac1NiVlNkVjkvUT09\nMeeting ID: 644 200 7072\nPasscode: uucpzoom\nOne tap mobile\n+13126266799\,\,6442007072#\,\,\,\,*77000206# US (Chicago)\n+16465588656\,\,6442007072#\,\,\,\,*77000206# US (New York)\nDial by your location\n        +1 312 626 6799 US (Chicago)\n        +1 646 558 8656 US (New York)\n        +1 301 715 8592 US (Washington DC)\n        +1 346 248 7799 US (Houston)\n        +1 669 900 9128 US (San Jose)\n        +1 253 215 8782 US (Tacoma)\nMeeting ID: 644 200 7072\nPasscode: 77000206\nFind your local number: https://zoom.us/u/advKAl0eri
URL:https://uucpalisades.org/event/dont-make-assumptions-the-four-agreements-part-3-rev-sonia-ketchian-hybrid-service/
LOCATION:Virtual\, United States
ORGANIZER;CN="UUCP":MAILTO:Use our contact form on our website
END:VEVENT
BEGIN:VEVENT
DTSTART;TZID=America/New_York:20230129T103000
DTEND;TZID=America/New_York:20230129T113000
DTSTAMP:20260421T000528
CREATED:20230123T185521Z
LAST-MODIFIED:20230127T200905Z
UID:10000754-1674988200-1674991800@uucpalisades.org
SUMMARY:The Guiding Light of Gandhi - Rev. Pippa Jones
DESCRIPTION:Please join UUCP for today’s online service\, “The Guiding Light of Gandhi” at 10:30 AM led by Rev. Pippa Jones.  \nEach year\, in the month of January\, the world remembers two giants of activism: Martin Luther King Jr. and Mahatma Gandhi\, who died January 30\, 1948. MLK said about Gandhi: “…he (lifted) love from individual relationships to the place of social transformation.” Gandhi was\, as we know\, Rev Dr. King’s inspiration and guiding light in his struggle for freedom and civil rights in the USA. \nThis Sunday\, Rev Pippa Jones invites you to a celebration of Gandhi’s life and legacy\, and an opportunity to explore some of his perennial and profound teachings that continue to find meaning to this day. \nAll are welcome. We look forward to seeing you! \nPoster By: Liandra Pires \n  \nUUCP IS INVITING YOU TO A SCHEDULED ZOOM MEETING\nTopic: UUCP Sunday Service\nJoin Zoom Meeting\nhttps://zoom.us/j/6442007072?pwd=ZVBkT21WeG9DdThac1NiVlNkVjkvUT09\nMeeting ID: 644 200 7072\nPasscode: uucpzoom\nOne tap mobile\n+13126266799\,\,6442007072#\,\,\,\,*77000206# US (Chicago)\n+16465588656\,\,6442007072#\,\,\,\,*77000206# US (New York)\nDial by your location\n        +1 312 626 6799 US (Chicago)\n        +1 646 558 8656 US (New York)\n        +1 301 715 8592 US (Washington DC)\n        +1 346 248 7799 US (Houston)\n        +1 669 900 9128 US (San Jose)\n        +1 253 215 8782 US (Tacoma)\nMeeting ID: 644 200 7072\nPasscode: 77000206\nFind your local number: https://zoom.us/u/advKAl0eri
URL:https://uucpalisades.org/event/the-guiding-light-of-gandhi-rev-pippa-jones/
LOCATION:Virtual\, United States
CATEGORIES:Online
ORGANIZER;CN="UUCP":MAILTO:Use our contact form on our website
END:VEVENT
BEGIN:VEVENT
DTSTART;TZID=America/New_York:20230126T190000
DTEND;TZID=America/New_York:20230126T200000
DTSTAMP:20260421T000528
CREATED:20230113T231618Z
LAST-MODIFIED:20230124T180130Z
UID:10000428-1674759600-1674763200@uucpalisades.org
SUMMARY:Conscious Conversation with Rev. Sonia Ketchian (The Four Agreements - Part 2)
DESCRIPTION:Please join us for a Conscious Conversation with Rev. Sonia Ketchian! \nTopic: Discussing “The Four Agreements (Part 2)” – “Don’t Take Anything Personally” \nDate: Thursday\, January 26 \nTime: 7:00 PM \nLocation: Zoom \nFor most of us\, the idea to not take anything personally sounds almost impossible with the complex challenges of relationships in our world. As we explore Don Miguel Ruiz’ teachings\, we see how he invites us to process interactions differently to help free us from suffering. Join us for this conscious conversation on the second of  “The Four Agreements” as we take a deep dive into these profound Toltec wisdom teachings.\n\n\n\n\n\n\n\nUUCP IS INVITING YOU TO A SCHEDULED ZOOM MEETING\nTopic: Conscious Conversation with Rev. Sonia Ketchian\nJoin Zoom Meeting\nhttps://zoom.us/j/6442007072?pwd=ZVBkT21WeG9DdThac1NiVlNkVjkvUT09\nMeeting ID: 644 200 7072\nPasscode: uucpzoom\nOne tap mobile\n+13126266799\,\,6442007072#\,\,\,\,*77000206# US (Chicago)\n+16465588656\,\,6442007072#\,\,\,\,*77000206# US (New York)\nDial by your location\n        +1 312 626 6799 US (Chicago)\n        +1 646 558 8656 US (New York)\n        +1 301 715 8592 US (Washington DC)\n        +1 346 248 7799 US (Houston)\n        +1 669 900 9128 US (San Jose)\n        +1 253 215 8782 US (Tacoma)\nMeeting ID: 644 200 7072\nPasscode: 77000206\nFind your local number: https://zoom.us/u/advKAl0eri
URL:https://uucpalisades.org/event/conscious-conversation-with-rev-sonia-ketchian-the-four-agreements-part-2/
LOCATION:Virtual\, United States
CATEGORIES:Online
ORGANIZER;CN="UUCP":MAILTO:Use our contact form on our website
END:VEVENT
BEGIN:VEVENT
DTSTART;TZID=America/New_York:20230122T103000
DTEND;TZID=America/New_York:20230122T113000
DTSTAMP:20260421T000528
CREATED:20230113T230457Z
LAST-MODIFIED:20230119T213431Z
UID:10000427-1674383400-1674387000@uucpalisades.org
SUMMARY:Don't Take Anything Personally: The Four Agreements (Part 2) - Rev. Sonia Ketchian
DESCRIPTION:Please join UUCP for today’s online service\, “Don’t Take Anything Personally: The Four Agreements (Part 2)” at 10:30 AM led by Rev. Sonia Ketchian.  \nIn this 2nd service in our series on “The Four Agreements”\, we’ll explore the 2nd Agreement\, “Don’t Take Anything Personally”.  To not take anything personally certainly sounds like a big ask\, especially with the complexity and challenges of relationships in this world.  As we explore Don Miguel Ruiz’s teachings\, we can see how invitations to perceive and process life differently can free us from profound suffering. \n All are welcome. We look forward to seeing you! \nPoster By: Liandra Pires \n  \nUUCP IS INVITING YOU TO A SCHEDULED ZOOM MEETING\nTopic: UUCP Sunday Service\nJoin Zoom Meeting\nhttps://zoom.us/j/6442007072?pwd=ZVBkT21WeG9DdThac1NiVlNkVjkvUT09\nMeeting ID: 644 200 7072\nPasscode: uucpzoom\nOne tap mobile\n+13126266799\,\,6442007072#\,\,\,\,*77000206# US (Chicago)\n+16465588656\,\,6442007072#\,\,\,\,*77000206# US (New York)\nDial by your location\n        +1 312 626 6799 US (Chicago)\n        +1 646 558 8656 US (New York)\n        +1 301 715 8592 US (Washington DC)\n        +1 346 248 7799 US (Houston)\n        +1 669 900 9128 US (San Jose)\n        +1 253 215 8782 US (Tacoma)\nMeeting ID: 644 200 7072\nPasscode: 77000206\nFind your local number: https://zoom.us/u/advKAl0eri
URL:https://uucpalisades.org/event/dont-take-anything-personally-the-four-agreements-part-2-rev-sonia-ketchian/
LOCATION:Virtual\, United States
CATEGORIES:Online
ORGANIZER;CN="UUCP":MAILTO:Use our contact form on our website
END:VEVENT
BEGIN:VEVENT
DTSTART;TZID=America/New_York:20230115T103000
DTEND;TZID=America/New_York:20230115T113000
DTSTAMP:20260421T000528
CREATED:20230109T182650Z
LAST-MODIFIED:20230119T210006Z
UID:10000426-1673778600-1673782200@uucpalisades.org
SUMMARY:Meeting Life’s Challenges: A Unitarian Universalist’s Response - Arlene Holpp Scala
DESCRIPTION:Please join UUCP for today’s online service\, “Meeting Life’s Challenges: A Unitarian Universalist’s Response” at 10:30 AM led by UUCP Co-President\, Arlene Holpp Scala.  \nThis service will include reflections on the many challenges that arise along life’s journey and our responses. Some people lose a partner/spouse\, a child\, other relatives\, and friends. Most of us in this congregation have lost our parents. Divorce\, financial losses\, illness\, and so much more are all too common as we travel on our life path. Our former minister\, Paul Dodenhoff\, used to say that we move along in life and then there is “Duhkha\,” a Buddhist term for suffering\, pain\, or unhappiness. “Duhkha” is a given. The question is\, “How do we respond?” \nAll are welcome. We look forward to seeing you. \n\nPoster By: Liandra Pires \n\n\nUUCP IS INVITING YOU TO A SCHEDULED ZOOM MEETING\nTopic: UUCP Sunday Service\nJoin Zoom Meeting\nhttps://zoom.us/j/6442007072?pwd=ZVBkT21WeG9DdThac1NiVlNkVjkvUT09\nMeeting ID: 644 200 7072\nPasscode: uucpzoom\nOne tap mobile\n+13126266799\,\,6442007072#\,\,\,\,*77000206# US (Chicago)\n+16465588656\,\,6442007072#\,\,\,\,*77000206# US (New York)\nDial by your location\n        +1 312 626 6799 US (Chicago)\n        +1 646 558 8656 US (New York)\n        +1 301 715 8592 US (Washington DC)\n        +1 346 248 7799 US (Houston)\n        +1 669 900 9128 US (San Jose)\n        +1 253 215 8782 US (Tacoma)\nMeeting ID: 644 200 7072\nPasscode: 77000206\nFind your local number: https://zoom.us/u/advKAl0eri
URL:https://uucpalisades.org/event/meeting-lifes-challenges-a-unitarian-universalists-response-arlene-holpp-scala/
LOCATION:Virtual\, United States
CATEGORIES:Online
ORGANIZER;CN="UUCP":MAILTO:Use our contact form on our website
END:VEVENT
BEGIN:VEVENT
DTSTART;TZID=America/New_York:20230112T190000
DTEND;TZID=America/New_York:20230112T193000
DTSTAMP:20260421T000528
CREATED:20230105T191610Z
LAST-MODIFIED:20230113T231602Z
UID:10000425-1673550000-1673551800@uucpalisades.org
SUMMARY:Conscious Conversation with Rev. Sonia Ketchian (The Four Agreements - Part 1)
DESCRIPTION:Please join us for a Conscious Conversation with Rev. Sonia Ketchian! \nTopic: What does “Be Impeccable With Your Word” mean to you? – Discussing “The 4 Agreements (Part 1)” \nDate: Thursday\, January 12 \nTime: 7:00 PM \nLocation: Zoom \nIn this first conscious conversation of our four-part series on “The 4 Agreements”\, we will discuss what the statement “Be Impeccable With Your Word” means to you. And how did this week’s service impact your thoughts on how you communicate?\n\n\n\n\nUUCP IS INVITING YOU TO A SCHEDULED ZOOM MEETING\nTopic: Conscious Conversation with Rev. Sonia Ketchian\nJoin Zoom Meeting\nhttps://zoom.us/j/6442007072?pwd=ZVBkT21WeG9DdThac1NiVlNkVjkvUT09\nMeeting ID: 644 200 7072\nPasscode: uucpzoom\nOne tap mobile\n+13126266799\,\,6442007072#\,\,\,\,*77000206# US (Chicago)\n+16465588656\,\,6442007072#\,\,\,\,*77000206# US (New York)\nDial by your location\n        +1 312 626 6799 US (Chicago)\n        +1 646 558 8656 US (New York)\n        +1 301 715 8592 US (Washington DC)\n        +1 346 248 7799 US (Houston)\n        +1 669 900 9128 US (San Jose)\n        +1 253 215 8782 US (Tacoma)\nMeeting ID: 644 200 7072\nPasscode: 77000206\nFind your local number: https://zoom.us/u/advKAl0eri
URL:https://uucpalisades.org/event/conscious-conversation-with-rev-sonia-ketchian-10/
LOCATION:Virtual\, United States
CATEGORIES:Online
ORGANIZER;CN="UUCP":MAILTO:Use our contact form on our website
END:VEVENT
BEGIN:VEVENT
DTSTART;VALUE=DATE:20230101
DTEND;VALUE=DATE:20230102
DTSTAMP:20260421T000528
CREATED:20221230T193413Z
LAST-MODIFIED:20221230T193413Z
UID:10000424-1672531200-1672617599@uucpalisades.org
SUMMARY:NO SUNDAY SERVICE
DESCRIPTION:
URL:https://uucpalisades.org/event/no-sunday-service-3/
LOCATION:Virtual\, United States
ORGANIZER;CN="UUCP":MAILTO:Use our contact form on our website
END:VEVENT
BEGIN:VEVENT
DTSTART;TZID=America/New_York:20181118T103000
DTEND;TZID=America/New_York:20181118T113000
DTSTAMP:20260421T000528
CREATED:20181112T174127Z
LAST-MODIFIED:20220528T004920Z
UID:10000146-1542537000-1542540600@uucpalisades.org
SUMMARY:GIVING THANKS IN TENSE TIMES - Rev. Paul Dodenhoff
DESCRIPTION:Please join UUCP for today’s service at 10:30 a.m. led by Rev. Paul Dodenhoff. It’s not easy to be thankful all the time\, especially in times that are full of tension and stress. Yet\, being grateful can help us during those difficult times if we allow ourselves to understand and learn gratitude as a spiritual practice. Join us today as we think about giving thanks in these times. \nBring a friend and stay for coffee and light refreshments. We look forward to seeing you! \nPoster by: Liandra Pires
URL:https://uucpalisades.org/event/giving-thanks-in-tense-times-rev-paul-dodenhoff/
LOCATION:
ORGANIZER;CN="UUCP":MAILTO:Use our contact form on our website
END:VEVENT
BEGIN:VEVENT
DTSTART;TZID=America/New_York:20170423T103000
DTEND;TZID=America/New_York:20170423T113000
DTSTAMP:20260421T000528
CREATED:20170412T210010Z
LAST-MODIFIED:20220528T005005Z
UID:10000200-1492943400-1492947000@uucpalisades.org
SUMMARY:WELCOMING THE STRANGER: JESUS\, REFUGEES\, AND BOMBS - Rev. Paul Dodenhoff
DESCRIPTION:Please join us for today’s service led by Rev. Paul Dodenhoff. Would Jesus welcome the refugees from Syria and other nations in turmoil? Would he break apart families and deport undocumented immigrants? There are many so-called evangelical Christian leaders and their supporters who use the Bible to justify such actions. Today\, Rev. Paul returns to his Christian roots to examine their claims. And he begs to differ. \nBring a friend and stay for coffee and light refreshments. We look forward to seeing you! \nPoster by: Liandra Pires
URL:https://uucpalisades.org/event/welcoming-the-stranger-jesus-refugees-and-bombs-rev-paul-dodenhoff/
LOCATION:Englewood\, 07631\, United States
ORGANIZER;CN="UUCP":MAILTO:Use our contact form on our website
END:VEVENT
BEGIN:VEVENT
DTSTART;TZID=America/New_York:20151108T103000
DTEND;TZID=America/New_York:20151108T113000
DTSTAMP:20260421T000528
CREATED:20151027T160128Z
LAST-MODIFIED:20220528T004812Z
UID:10000057-1446978600-1446982200@uucpalisades.org
SUMMARY:HEALING THE WORLD - ONE INNER CHILD AT A TIME - Dr. Jay Kantor
DESCRIPTION:Please join us for today’s service led by special guest speaker\, Dr. Jay Kantor. Each of us has an Inner Child\, an aspect of our mind created in childhood that lasts a lifetime. If we were hurt in childhood\, our Inner Child lives with that trauma until we heal it\, no matter how long it takes. Healing and nurturing a wounded Inner Child – learning what it really means to love ourselves unconditionally – is the critical step in a person’s spiritual development we will explore today. \nDr. Jay Kantor holds a Ph.D. in Psychology from Columbia University and began utilizing the Inner Child concept in 1990 to help people overcome the effects of inadequate parenting and parental abuse.  Jay combines the use of Inner Child Psychology with other forms of energy and spiritual healing to help people overcome long-term emotional\, psychological\, and relationship problems\, which have not responded to talk or drug therapies. \nBring a friend and stay for coffee and great conversation. We look forward to seeing you! \nPoster by: Bonnie Savitz
URL:https://uucpalisades.org/event/healing-the-world-one-inner-child-at-a-time-dr-jay-kantor/
LOCATION:
END:VEVENT
END:VCALENDAR