BEGIN:VCALENDAR
VERSION:2.0
PRODID:-// - ECPv6.15.20//NONSGML v1.0//EN
CALSCALE:GREGORIAN
METHOD:PUBLISH
X-ORIGINAL-URL:https://uucpalisades.org
X-WR-CALDESC:Events for 
REFRESH-INTERVAL;VALUE=DURATION:PT1H
X-Robots-Tag:noindex
X-PUBLISHED-TTL:PT1H
BEGIN:VTIMEZONE
TZID:America/New_York
BEGIN:DAYLIGHT
TZOFFSETFROM:-0500
TZOFFSETTO:-0400
TZNAME:EDT
DTSTART:20120311T070000
END:DAYLIGHT
BEGIN:STANDARD
TZOFFSETFROM:-0400
TZOFFSETTO:-0500
TZNAME:EST
DTSTART:20121104T060000
END:STANDARD
BEGIN:DAYLIGHT
TZOFFSETFROM:-0500
TZOFFSETTO:-0400
TZNAME:EDT
DTSTART:20130310T070000
END:DAYLIGHT
BEGIN:STANDARD
TZOFFSETFROM:-0400
TZOFFSETTO:-0500
TZNAME:EST
DTSTART:20131103T060000
END:STANDARD
BEGIN:DAYLIGHT
TZOFFSETFROM:-0500
TZOFFSETTO:-0400
TZNAME:EDT
DTSTART:20140309T070000
END:DAYLIGHT
BEGIN:STANDARD
TZOFFSETFROM:-0400
TZOFFSETTO:-0500
TZNAME:EST
DTSTART:20141102T060000
END:STANDARD
BEGIN:DAYLIGHT
TZOFFSETFROM:-0500
TZOFFSETTO:-0400
TZNAME:EDT
DTSTART:20150308T070000
END:DAYLIGHT
BEGIN:STANDARD
TZOFFSETFROM:-0400
TZOFFSETTO:-0500
TZNAME:EST
DTSTART:20151101T060000
END:STANDARD
BEGIN:DAYLIGHT
TZOFFSETFROM:-0500
TZOFFSETTO:-0400
TZNAME:EDT
DTSTART:20160313T070000
END:DAYLIGHT
BEGIN:STANDARD
TZOFFSETFROM:-0400
TZOFFSETTO:-0500
TZNAME:EST
DTSTART:20161106T060000
END:STANDARD
BEGIN:DAYLIGHT
TZOFFSETFROM:-0500
TZOFFSETTO:-0400
TZNAME:EDT
DTSTART:20170312T070000
END:DAYLIGHT
BEGIN:STANDARD
TZOFFSETFROM:-0400
TZOFFSETTO:-0500
TZNAME:EST
DTSTART:20171105T060000
END:STANDARD
END:VTIMEZONE
BEGIN:VEVENT
DTSTART;TZID=America/New_York:20160313T103000
DTEND;TZID=America/New_York:20160313T113000
DTSTAMP:20260422T151805
CREATED:20160223T152756Z
LAST-MODIFIED:20160303T180638Z
UID:10000010-1457865000-1457868600@uucpalisades.org
SUMMARY:BELIEF: IN JUSTICE\, IN LOVE - Rev. Craig Hirshberg
DESCRIPTION:Please join us for today’s service led by special guest speaker\, Rev. Craig Hirshberg. What are the assumptions we hold onto as we move toward a more just society … and what are some of the assumptions we need to dispel.  Join Rev. Craig Hirshberg\, Exec. Director of the Unitarian Universalist Legislative Ministry\, as she explores the foundations and the myths of social justice work and how the UU Legislative Ministry of NJ addresses them. \nRev. Craig Hirshberg’s Bio: \nRev. Hirshberg currently serves as the Executive Director of the Unitarian Universalist Legislative Ministry of New Jersey (UULMNJ)\, representing Unitarian Universalist congregations throughout New Jersey.  UULMNJ strives to be a courageous\, compassionate\, non-partisan voice for truth\, justice and equality in New Jersey public policy\, working in collaboration with like-minded organizations through education\, research\, advocacy\, witness\, and service. Rev. Hirshberg believes that public advocacy is a necessary component of any spiritual practice. \nRev. Craig Hirshberg came to the Legislative Ministry in May 2011 with a wealth of experience in the pulpit and in the community. She is Minister Emerita of the UU Congregation of Somerset Hills where she served as the founding minister.  She brought to her ministry extensive non-profit experience including training\, planning\, community organizing and program development.  She has a private practice in spiritual direction and hosts meditation classes\, retreats and other spiritual development activities.  She is a graduate of Drew Theological School\, and a lifelong student at the Barre Center for Buddhist Studies. She received her spiritual direction training at Shalem in Washington DC.  Rev. Hirshberg also serves on the Unitarian Universalist Association’s Trauma Response Team\, being deployed in the aftermath of Hurricanes Katrina and Sandy. \nFollowing the service: “Belief: In Justice\, In Love” with Rev. Craig Hirshberg\, there will be a short session led by Frances Prestianni and Lessie Culmer-Nier of the UU Legislative Ministry of NJ\, “How to Make a Better World – One Law at a Time”.  How the Legislative Ministry works with Q&A. \nPoster by: Liandra Pires
URL:https://uucpalisades.org/event/belief-in-justice-in-love-rev-craig-hirshberg/
LOCATION:Englewood\, 07631\, United States
ORGANIZER;CN="UUCP":MAILTO:Use our contact form on our website
END:VEVENT
BEGIN:VEVENT
DTSTART;TZID=America/New_York:20160306T103000
DTEND;TZID=America/New_York:20160306T113000
DTSTAMP:20260422T151805
CREATED:20160222T164226Z
LAST-MODIFIED:20220522T174534Z
UID:10000008-1457260200-1457263800@uucpalisades.org
SUMMARY:ANOTHER LOOK AT BEING SPIRITUAL BUT NOT RELIGIOUS - Rev. Paul Dodenhoff
DESCRIPTION:Please join us for today’s service led by Rev. Paul Dodenhoff. There’s been much attention in recent years to the growing number of people who identify themselves as spiritual but not religious. Today\, we’ll take a second look at what that means and at some alternatives we might not have considered. \nBring a friend and stay for coffee and light refreshments. We look forward to seeing you! \nPoster by: Liandra Pires \n 
URL:https://uucpalisades.org/event/another-look-at-being-spiritual-but-not-religious-rev-paul-dodenhoff/
LOCATION:
ORGANIZER;CN="UUCP":MAILTO:Use our contact form on our website
END:VEVENT
BEGIN:VEVENT
DTSTART;TZID=America/New_York:20160228T103000
DTEND;TZID=America/New_York:20160228T113000
DTSTAMP:20260422T151805
CREATED:20160209T160348Z
LAST-MODIFIED:20160210T161435Z
UID:10000002-1456655400-1456659000@uucpalisades.org
SUMMARY:JAZZ - LET THE SPIRIT MOVE YOU - Al Stawsky
DESCRIPTION:Please join us for today’s service led by UUCP member Al Stawsky. “Jazz” originated uniquely from the African American experience in the United States.  Today it is a powerful worldwide cultural presence.  It is expressed and reflected in many musical forms.  But\, what is Jazz?  How and why did it come to be?  What does it “mean”?  What makes Jazz spiritual and how can Jazz change your life?  How does Jazz connect with Unitarian Universalism? These questions will be explored and discussed in the upcoming Sunday Service.  Excerpts and examples will be given. \nBring a friend and stay for coffee and light refreshments. We look forward to seeing you! \nPoster by: Liandra Pires
URL:https://uucpalisades.org/event/jazz-let-the-spirit-move-you-al-stawsky/
LOCATION:Englewood\, 07631\, United States
ORGANIZER;CN="UUCP":MAILTO:Use our contact form on our website
END:VEVENT
BEGIN:VEVENT
DTSTART;TZID=America/New_York:20160226T193000
DTEND;TZID=America/New_York:20160226T220000
DTSTAMP:20260422T151805
CREATED:20160124T204528Z
LAST-MODIFIED:20160210T000300Z
UID:10000003-1456515000-1456524000@uucpalisades.org
SUMMARY:AN EVENING OF COLORING MEDITATION
DESCRIPTION:Please join us for this special evening of coloring meditation led by Rev. Paul Dodenhoff. \nThe word mandala comes from the ancient Sanskrit language and loosely means “circle” or “center.” The mandala is a circular matrix with a center point\, a sacred center that helps to stimulate and promote creativity\, relaxation\, healing\, and other positive states of being. As an alternate style of meditation\, coloring allows us to enter into and experience the power of the mandala in our lives. \nRev. Paul Dodenhoff will begin the evening with a brief talk on meditation and the mandala before we begin our evening of coloring. Our coloring meditation will be a silent one followed by a time for refreshments and conversation. Crayons\, colored pencils\, and coloring mandalas will be provided. \nPoster by: Liandra Pires
URL:https://uucpalisades.org/event/coloring-meditation/
LOCATION:Englewood\, 07631\, United States
ORGANIZER;CN="UUCP":MAILTO:Use our contact form on our website
END:VEVENT
BEGIN:VEVENT
DTSTART;TZID=America/New_York:20160218T190000
DTEND;TZID=America/New_York:20160218T210000
DTSTAMP:20260422T151805
CREATED:20160124T201339Z
LAST-MODIFIED:20160124T203610Z
UID:10000080-1455822000-1455829200@uucpalisades.org
SUMMARY:Board of Trustees Meeting
DESCRIPTION:
URL:https://uucpalisades.org/event/board-of-trustees-meeting/
ORGANIZER;CN="UUCP":MAILTO:Use our contact form on our website
END:VEVENT
BEGIN:VEVENT
DTSTART;TZID=America/New_York:20160214T103000
DTEND;TZID=America/New_York:20160214T113000
DTSTAMP:20260422T151805
CREATED:20160125T230435Z
LAST-MODIFIED:20160210T160646Z
UID:10000007-1455445800-1455449400@uucpalisades.org
SUMMARY:THE DEVINE FEMINIST - Rev. Paul Dodenhoff
DESCRIPTION:Please join us for today’s service led by Rev. Paul Dodenhoff. In recent years\, much has been written and taught about the importance of honoring the Divine Feminine in our spiritual lives and  is acknowledged in almost every faith tradition. But many people aren’t quite sure what the Divine Feminine is or how to honor it. Today we will consider not only the truth of the Divine Feminine\, but the equally important idea of the Divine Feminist in our lives. \nBring a friend and stay for coffee and light refreshments. We look forward to seeing you! \nPoster by: Liandra Pires
URL:https://uucpalisades.org/event/the-devine-feminist-rev-paul-dodenhoff/
LOCATION:Englewood\, 07631\, United States
ORGANIZER;CN="UUCP":MAILTO:Use our contact form on our website
END:VEVENT
BEGIN:VEVENT
DTSTART;TZID=America/New_York:20160207T103000
DTEND;TZID=America/New_York:20160207T113000
DTSTAMP:20260422T151805
CREATED:20160111T210949Z
LAST-MODIFIED:20160210T223301Z
UID:10000077-1454841000-1454844600@uucpalisades.org
SUMMARY:THE PRESSURE OF PURPOSE - Rev. Paul Dodenhoff
DESCRIPTION:Please join us for today’s service led by Rev. Paul Dodenhoff. The pressure to find the unique “purpose” for our life is great. And for those who struggle to find that purpose\, life often seems to become one big\, constant apology. But Ralph Waldo Emerson wrote: “My life is not an apology\, but a life. It is for itself and not for a spectacle.” Today we’ll look at the pressure society puts on us to find our “purpose” and consider what “finding our purpose” really means and ways we can do that without having to apologize for ourselves! \nBring a friend and stay for coffee and light refreshments. We look forward to seeing you! \nPoster by: Liandra Pires
URL:https://uucpalisades.org/event/the-pressure-of-purpose-rev-paul-dodenhoff/
LOCATION:Englewood\, 07631\, United States
ORGANIZER;CN="UUCP":MAILTO:Use our contact form on our website
END:VEVENT
BEGIN:VEVENT
DTSTART;TZID=America/New_York:20160131T103000
DTEND;TZID=America/New_York:20160131T113000
DTSTAMP:20260422T151805
CREATED:20160108T015529Z
LAST-MODIFIED:20160124T205750Z
UID:10000075-1454236200-1454239800@uucpalisades.org
SUMMARY:SMALL BOATS ON ROUGH SEAS - HELD AT UUCR IN POMONA\, NY
DESCRIPTION:Please join UUCP and The Unitarian Universalist Congregation of Rockland for this joint service led by Rev. Karen Brammer. Karen will share some of what she has learned about smaller congregations. What might thriving as a smaller congregation looking like? What are some of the questions we need to address in order to thrive? Come be part of the conversation. Service will be followed by a potluck​. \nThis service will be held at: \nThe Unitarian Universalist Congregation of Rockland \n130 Concklin Road \nPomona\, NY 10970 \n \nPoster by: Bonnie Savitz
URL:https://uucpalisades.org/event/small-boats-on-rough-seas-rev-karen-brammer-2/
ORGANIZER;CN="UUCP":MAILTO:Use our contact form on our website
END:VEVENT
BEGIN:VEVENT
DTSTART;TZID=America/New_York:20160124T103000
DTEND;TZID=America/New_York:20160124T113000
DTSTAMP:20260422T151805
CREATED:20160104T171504Z
LAST-MODIFIED:20160123T145810Z
UID:10000052-1453631400-1453635000@uucpalisades.org
SUMMARY:SERVICE CANCELLED DUE TO WEATHER
DESCRIPTION:
URL:https://uucpalisades.org/event/god-reality-and-what-really-matters-rev-paul-dodenhoff/
LOCATION:Englewood\, 07631\, United States
ORGANIZER;CN="UUCP":MAILTO:Use our contact form on our website
END:VEVENT
BEGIN:VEVENT
DTSTART;TZID=America/New_York:20160122T190000
DTEND;TZID=America/New_York:20160122T213000
DTSTAMP:20260422T151805
CREATED:20160114T195143Z
LAST-MODIFIED:20160114T201227Z
UID:10000085-1453489200-1453498200@uucpalisades.org
SUMMARY:EMERSON: THE IDEAL IN AMERICA (DOCUMENTARY)
DESCRIPTION:On Friday\, January 22nd at 7:00 PM\, UUCP will be hosting a viewing of the documentary\, “Emerson: The Ideal in America”. Please join us! \nRalph Waldo Emerson\, American essayist\, lecturer and poet who led the Transcendentalist movement of the mid-19th century is still seen today as a champion of individualism. His belief in “the infinitude of the private man” still resonates with spiritual seekers today. Most people know Emerson’s essay\, “Self-Reliance\,” but there is much more to the fascinating life of the man and his circle\, which included Henry David Thoreau\, Walt Whitman\, and Margaret Fuller. You will never look at Emerson – or yourself – quite the same way again. \n“Why should we not also enjoy an original relation to the universe? Why should we not have a poetry and philosophy of insight and not of tradition\, and a religion by revelation to us\, and not the history of theirs?” (Nature\, 1836) \nBring a friend. We look forward to seeing you! \nPoster by: Bonnie Savitz \n 
URL:https://uucpalisades.org/event/emerson-the-ideal-in-america-documentary/
LOCATION:Englewood\, 07631\, United States
ORGANIZER;CN="UUCP":MAILTO:Use our contact form on our website
END:VEVENT
BEGIN:VEVENT
DTSTART;TZID=America/New_York:20160117T103000
DTEND;TZID=America/New_York:20160117T113000
DTSTAMP:20260422T151805
CREATED:20151228T191008Z
LAST-MODIFIED:20160108T013518Z
UID:10000086-1453026600-1453030200@uucpalisades.org
SUMMARY:FACING THE FACTS ABOUT RELIGION AND VIOLENCE - Rev. Paul Dodenhoff
DESCRIPTION:Please join us for today’s service led by Rev. Paul Dodenhoff. Is religion responsible for most of the violence in the world? Is Islam a violent religion? What about Christianity\, Judaism\, Hinduism? Is any religion free from violence? Is violence only physical or are there other forms of violence?\nToday we’ll consider those and other questions and try to make some sense of a topic that is increasingly in the news. \nBring a friend and stay for coffee and great conversation. We look forward to seeing you! \nPoster by: Bonnie Savitz
URL:https://uucpalisades.org/event/facing-the-facts-about-religion-and-violence-rev-paul-dodenhoff/
LOCATION:Englewood\, 07631\, United States
ORGANIZER;CN="UUCP":MAILTO:Use our contact form on our website
END:VEVENT
BEGIN:VEVENT
DTSTART;TZID=America/New_York:20160103T103000
DTEND;TZID=America/New_York:20160103T113000
DTSTAMP:20260422T151805
CREATED:20151228T190652Z
LAST-MODIFIED:20151228T190652Z
UID:10000087-1451817000-1451820600@uucpalisades.org
SUMMARY:THE (INNER) HOUSING CRISIS - Rev. Paul Dodenhoff
DESCRIPTION:Please join us for today’s service led by Rev. Paul Dodenhoff. Ah\, home\, sweet home! This is the time of year when “coming home” takes on deep meaning for many of us. Today\, we’ll explore the inner meaning of home and houses\, what all of those rooms signify\, and consider the inner housing crisis that all of us face at times. \nBring a friend and stay for coffee and great conversation. We look forward to seeing you! \nPoster by: Bonnie Savitz
URL:https://uucpalisades.org/event/the-inner-housing-crisis-rev-paul-dodenhoff/
LOCATION:Englewood\, 07631\, United States
ORGANIZER;CN="UUCP":MAILTO:Use our contact form on our website
END:VEVENT
BEGIN:VEVENT
DTSTART;TZID=America/New_York:20151227T103000
DTEND;TZID=America/New_York:20151227T113000
DTSTAMP:20260422T151805
CREATED:20151225T171624Z
LAST-MODIFIED:20151225T172318Z
UID:10000073-1451212200-1451215800@uucpalisades.org
SUMMARY:WINTER CONTEMPLATIONS - The Program Team
DESCRIPTION:Please join the UUCP Program Team at 10:30 AM in a service where we will share short stories and musings about the holidays and this time of year. If you have a favorite reading or short story we might not know\, please bring it to share with the congregation. \nBring a friend and stay for coffee and good conversation. We look forward to seeing you! \nPoster by: Bonnie Savitz
URL:https://uucpalisades.org/event/winter-contemplations-the-program-team/
LOCATION:Englewood\, 07631\, United States
ORGANIZER;CN="UUCP":MAILTO:Use our contact form on our website
END:VEVENT
BEGIN:VEVENT
DTSTART;TZID=America/New_York:20151018T103000
DTEND;TZID=America/New_York:20151018T113000
DTSTAMP:20260422T151805
CREATED:20150924T181246Z
LAST-MODIFIED:20221125T164545Z
UID:10000054-1445164200-1445167800@uucpalisades.org
SUMMARY:AUTUMN: EVENTIDE OF THE YEAR - Rev. Paul Dodenhoff
DESCRIPTION:Poster by: Bonnie Savitz \nPlease join us for today’s service led by Rev. Paul Dodenhoff. We’re now well into Autumn\, the “even-tide” of the year. Even though it’s a season of wondrous beauty and color\, for many of us it is also a season of melancholy and a season of turning inward. But that turning inward is vital if we are to be renewed. Rev. Dodenhoff will share some thoughts today on this paradoxical season of Autumn.
URL:https://uucpalisades.org/event/autumn-eventide-of-the-year-rev-paul-dodenhoff/
LOCATION:Englewood\, 07631\, United States
ORGANIZER:MAILTO:Use our contact form on our website
END:VEVENT
BEGIN:VEVENT
DTSTART;TZID=America/New_York:20140919T190000
DTEND;TZID=America/New_York:20140919T223000
DTSTAMP:20260422T151805
CREATED:20140117T183339Z
LAST-MODIFIED:20140819T134207Z
UID:10000038-1411153200-1411165800@uucpalisades.org
SUMMARY:25th. Aniversary Gala
DESCRIPTION:
URL:https://uucpalisades.org/event/25th-aniversary-gala/
CATEGORIES:Events
ORGANIZER;CN="UUCP":MAILTO:Use our contact form on our website
END:VEVENT
BEGIN:VEVENT
DTSTART;TZID=America/New_York:20140613T193000
DTEND;TZID=America/New_York:20140613T213000
DTSTAMP:20260422T151805
CREATED:20140602T194057Z
LAST-MODIFIED:20140602T194105Z
UID:10000042-1402687800-1402695000@uucpalisades.org
SUMMARY:Love Liberates: A Celebration of Maya Angelou
DESCRIPTION:Please join us as we celebrate the life of author\, poet and activist\, Maya Angelou. Along with special music\, we will be reading selections of her poems and prose works and sharing how this great teacher touched us individualy\, and how her legacy of love\, faith and activism calls us to do it in our own lives. Refreshments will be served. \nPoster by Bonnie Savitz
URL:https://uucpalisades.org/event/love-liberates-a-celebration-of-maya-angelou/
LOCATION:Englewood\, 07631\, United States
CATEGORIES:Events
ORGANIZER;CN="UUCP":MAILTO:Use our contact form on our website
END:VEVENT
BEGIN:VEVENT
DTSTART;TZID=America/New_York:20140323T103000
DTEND;TZID=America/New_York:20140323T113000
DTSTAMP:20260422T151805
CREATED:20140302T000834Z
LAST-MODIFIED:20140302T002707Z
UID:10000041-1395570600-1395574200@uucpalisades.org
SUMMARY:"Spring\, Rebirth\, Creativity & the Goddess - Deborah Singer Pires & Arlene Holpp-Scala
DESCRIPTION:The spring equinox\, when light and dark are in balance\, marks the beginning of spring\, a time of rebirth\, renewal\, growth and creativity. It is also time to celebrate the spring goddess of fertility and divinity of the radiant new light\, bringing joy and blessing. Lets celebrate. \nPoster by Bonnie Savitz
URL:https://uucpalisades.org/event/spring-creativity-rebirth-the-goddess-deborah-singer-pires-arlene-holpp-scala/
LOCATION:Englewood\, 07631\, United States
ORGANIZER;CN="UUCP":MAILTO:Use our contact form on our website
END:VEVENT
BEGIN:VEVENT
DTSTART;TZID=America/New_York:20140316T103000
DTEND;TZID=America/New_York:20140316T113000
DTSTAMP:20260422T151805
CREATED:20140302T000321Z
LAST-MODIFIED:20140302T000321Z
UID:10000040-1394965800-1394969400@uucpalisades.org
SUMMARY:"Water\, Water Everywhere:The Spirituality and Politics of Water" - Rev. Paul Dodenhoff
DESCRIPTION:Poster by Bonnie Savitz \nWater has held a spiritual significance in every culture and represents spiritual life. And In our everyday lives\nwe cannot exist without it. Yet\, over 1 billion people on our planet do not have access to clean water on a daily\nbasis. Climate change\, war\, and corporate privatization of the water supply are making water an even more scarce – and expensive – commodity. What is our relationship to water as individuals and as people of faith? What is our responsibility to the planet and those people and other beings who share our planet? How can we bring the spiritual life-giving meaning of water into practical stewardship and service in our daily lives? You are invited to consider those questions with us today and to join us in observing a reimagined celebration of our UU Water Communion.
URL:https://uucpalisades.org/event/water-water-everywherethe-spirituality-and-politics-of-water-rev-paul-dodenhoff/
LOCATION:Englewood\, 07631\, United States
ORGANIZER;CN="UUCP":MAILTO:Use our contact form on our website
END:VEVENT
BEGIN:VEVENT
DTSTART;TZID=America/New_York:20140302T103000
DTEND;TZID=America/New_York:20140302T113000
DTSTAMP:20260422T151805
CREATED:20140301T234402Z
LAST-MODIFIED:20140301T234701Z
UID:10000039-1393756200-1393759800@uucpalisades.org
SUMMARY:What Symbol are You? - Rev. Paul Dodenhoff
DESCRIPTION:Symbols and signs surround us constantly in our daily life\, yet\, many of then are meaningless or confusing to us. Today we consider the difference between and symbol and a sign\, try to unpack what some of them mean\, and examine why they are important in our lives. \nPoster by Bonnie Savitz
URL:https://uucpalisades.org/event/what-symbol-are-you-rev-paul-dodenhoff/
LOCATION:Englewood\, 07631\, United States
ORGANIZER;CN="UUCP":MAILTO:Use our contact form on our website
END:VEVENT
BEGIN:VEVENT
DTSTART;TZID=America/New_York:20131129T200000
DTEND;TZID=America/New_York:20131129T220000
DTSTAMP:20260422T151805
CREATED:20131126T235840Z
LAST-MODIFIED:20131127T000449Z
UID:10000035-1385755200-1385762400@uucpalisades.org
SUMMARY:Square Dance
DESCRIPTION:A wonderful dance that we had!
URL:https://uucpalisades.org/event/square-dance/
CATEGORIES:Events
ORGANIZER;CN="UUCP":MAILTO:Use our contact form on our website
END:VEVENT
END:VCALENDAR