BEGIN:VCALENDAR
VERSION:2.0
PRODID:-// - ECPv6.15.20//NONSGML v1.0//EN
CALSCALE:GREGORIAN
METHOD:PUBLISH
X-ORIGINAL-URL:https://uucpalisades.org
X-WR-CALDESC:Events for 
REFRESH-INTERVAL;VALUE=DURATION:PT1H
X-Robots-Tag:noindex
X-PUBLISHED-TTL:PT1H
BEGIN:VTIMEZONE
TZID:America/New_York
BEGIN:DAYLIGHT
TZOFFSETFROM:-0500
TZOFFSETTO:-0400
TZNAME:EDT
DTSTART:20140309T070000
END:DAYLIGHT
BEGIN:STANDARD
TZOFFSETFROM:-0400
TZOFFSETTO:-0500
TZNAME:EST
DTSTART:20141102T060000
END:STANDARD
BEGIN:DAYLIGHT
TZOFFSETFROM:-0500
TZOFFSETTO:-0400
TZNAME:EDT
DTSTART:20150308T070000
END:DAYLIGHT
BEGIN:STANDARD
TZOFFSETFROM:-0400
TZOFFSETTO:-0500
TZNAME:EST
DTSTART:20151101T060000
END:STANDARD
BEGIN:DAYLIGHT
TZOFFSETFROM:-0500
TZOFFSETTO:-0400
TZNAME:EDT
DTSTART:20160313T070000
END:DAYLIGHT
BEGIN:STANDARD
TZOFFSETFROM:-0400
TZOFFSETTO:-0500
TZNAME:EST
DTSTART:20161106T060000
END:STANDARD
END:VTIMEZONE
BEGIN:VEVENT
DTSTART;VALUE=DATE:20151114
DTEND;VALUE=DATE:20151115
DTSTAMP:20260423T060246
CREATED:20150903T165930Z
LAST-MODIFIED:20150903T165930Z
UID:10000027-1447459200-1447545599@uucpalisades.org
SUMMARY:15TH Annual Unitarian Universalist Outreach Auction
DESCRIPTION:SATURDAY\, NOVEMBER 14\, 2015 \nCENTRAL UNITARIAN CHURCH \n15 FOREST AVENUE \nPARAMUS\, NJ  07652 \n  \nThis gala event has raised over $400\,000 since 2000 for Bergen County Charities with 100% of the proceeds going to the selected charities.  The 2015 charities include: \n  \nShelter our Sisters \nCenter for Food Action \nCourt Appointed Special Advocates (CASA) \nHolley Childcare & Development Center \nChildren’s Aid and Family Services \nFamily Promise of Bergen County \n  \nThe Outreach Auction features a live auction as well as a Trick Tray and includes live entertainment and hors d’oeuvres. \n  \nBe sure to SAVE THE DATE for this very important and worthwhile event that benefits our friends and neighbors in need in Bergen County.  When we work together\, we are greater than the sum of our parts! \n  \nFor more information\, contact uuoutreachauction@gmail.com.
URL:https://uucpalisades.org/event/15th-annual-unitarian-universalist-outreach-auction/
ORGANIZER;CN="Unnamed Organizer":MAILTO:uuoutreachauction@gmail.com
END:VEVENT
END:VCALENDAR