BEGIN:VCALENDAR
VERSION:2.0
PRODID:-// - ECPv6.15.20//NONSGML v1.0//EN
CALSCALE:GREGORIAN
METHOD:PUBLISH
X-ORIGINAL-URL:https://uucpalisades.org
X-WR-CALDESC:Events for 
REFRESH-INTERVAL;VALUE=DURATION:PT1H
X-Robots-Tag:noindex
X-PUBLISHED-TTL:PT1H
BEGIN:VTIMEZONE
TZID:America/New_York
BEGIN:DAYLIGHT
TZOFFSETFROM:-0500
TZOFFSETTO:-0400
TZNAME:EDT
DTSTART:20170312T070000
END:DAYLIGHT
BEGIN:STANDARD
TZOFFSETFROM:-0400
TZOFFSETTO:-0500
TZNAME:EST
DTSTART:20171105T060000
END:STANDARD
BEGIN:DAYLIGHT
TZOFFSETFROM:-0500
TZOFFSETTO:-0400
TZNAME:EDT
DTSTART:20180311T070000
END:DAYLIGHT
BEGIN:STANDARD
TZOFFSETFROM:-0400
TZOFFSETTO:-0500
TZNAME:EST
DTSTART:20181104T060000
END:STANDARD
BEGIN:DAYLIGHT
TZOFFSETFROM:-0500
TZOFFSETTO:-0400
TZNAME:EDT
DTSTART:20190310T070000
END:DAYLIGHT
BEGIN:STANDARD
TZOFFSETFROM:-0400
TZOFFSETTO:-0500
TZNAME:EST
DTSTART:20191103T060000
END:STANDARD
END:VTIMEZONE
BEGIN:VEVENT
DTSTART;TZID=America/New_York:20181111T103000
DTEND;TZID=America/New_York:20181111T113000
DTSTAMP:20260419T234758
CREATED:20181031T154652Z
LAST-MODIFIED:20181031T154652Z
UID:10000145-1541932200-1541935800@uucpalisades.org
SUMMARY:POST ELECTION POETRY - Deborah Singer Pires
DESCRIPTION:Please join UUCP for today’s service at 10:30 a.m. led by UUCP Co-President\, Deborah Singer Pires. Whatever the outcome of the election\, come share your feelings by reading a poem. If you are trying to get away from politics\, then you can share a poem about autumn. \nBring a friend and stay for coffee and light refreshments. We look forward to seeing you! \nPoster by: Liandra Pires
URL:https://uucpalisades.org/event/post-election-poetry-deborah-singer-pires/
LOCATION:Englewood\, 07631\, United States
ORGANIZER;CN="UUCP":MAILTO:Use our contact form on our website
END:VEVENT
BEGIN:VEVENT
DTSTART;TZID=America/New_York:20181111T120000
DTEND;TZID=America/New_York:20181111T130000
DTSTAMP:20260419T234758
CREATED:20181029T194418Z
LAST-MODIFIED:20181029T194418Z
UID:10000144-1541937600-1541941200@uucpalisades.org
SUMMARY:UUCP Racial & Social Justice Team Meeting
DESCRIPTION:Hello UUCP Members and Friends\, \nPlease join the UUCP Racial & Social Justice Team (Sunday\, November 11 at 12:00 PM). At this time when there are SO MANY things happening it’s important for us to meet\, compare notes/ideas and plan activities and events. If you’re not happy with what’s going on in the country\, then come be a part of making your voice heard and making a difference. We welcome newcomers and look forward to seeing you! \nNovember 11\, 2018 \n12:00 PM \nThe Lydecker Homestead \n228 Grand Avenue \nEnglewood\, NJ 07631 \nUUCP Racial & Social Justice Team
URL:https://uucpalisades.org/event/uucp-racial-social-justice-team-meeting-4/
LOCATION:Englewood\, 07631\, United States
ORGANIZER;CN="UUCP":MAILTO:Use our contact form on our website
END:VEVENT
END:VCALENDAR