BEGIN:VCALENDAR
VERSION:2.0
PRODID:-// - ECPv6.15.20//NONSGML v1.0//EN
CALSCALE:GREGORIAN
METHOD:PUBLISH
X-ORIGINAL-URL:https://uucpalisades.org
X-WR-CALDESC:Events for 
REFRESH-INTERVAL;VALUE=DURATION:PT1H
X-Robots-Tag:noindex
X-PUBLISHED-TTL:PT1H
BEGIN:VTIMEZONE
TZID:America/New_York
BEGIN:DAYLIGHT
TZOFFSETFROM:-0500
TZOFFSETTO:-0400
TZNAME:EDT
DTSTART:20170312T070000
END:DAYLIGHT
BEGIN:STANDARD
TZOFFSETFROM:-0400
TZOFFSETTO:-0500
TZNAME:EST
DTSTART:20171105T060000
END:STANDARD
BEGIN:DAYLIGHT
TZOFFSETFROM:-0500
TZOFFSETTO:-0400
TZNAME:EDT
DTSTART:20180311T070000
END:DAYLIGHT
BEGIN:STANDARD
TZOFFSETFROM:-0400
TZOFFSETTO:-0500
TZNAME:EST
DTSTART:20181104T060000
END:STANDARD
BEGIN:DAYLIGHT
TZOFFSETFROM:-0500
TZOFFSETTO:-0400
TZNAME:EDT
DTSTART:20190310T070000
END:DAYLIGHT
BEGIN:STANDARD
TZOFFSETFROM:-0400
TZOFFSETTO:-0500
TZNAME:EST
DTSTART:20191103T060000
END:STANDARD
END:VTIMEZONE
BEGIN:VEVENT
DTSTART;TZID=America/New_York:20180826T103000
DTEND;TZID=America/New_York:20180826T113000
DTSTAMP:20260420T025747
CREATED:20180821T155800Z
LAST-MODIFIED:20180821T160228Z
UID:10000140-1535279400-1535283000@uucpalisades.org
SUMMARY:GIVING THANKS FOR GRANDCHILDREN AND CATS: SPIRITUAL AND HEARTFELT REFLECTIONS - Arlene Holpp Scala
DESCRIPTION:Please join UUCP for today’s service at 10:30 a.m. led by UUCP Co-President\, Arlene Holpp Scala. For some of us in the second-half of our lives\, grandchildren bring great joy. For others\, cats provide endless pleasure. Then there are the lucky people who have grandchildren and cats! Grandchildren and cats give us pause to reflect. (Congregants and visitors are invited to bring in photographs of their grandchildren and/or cats.) \nBring a friend and stay for coffee and light refreshments. We look forward to seeing you! \nPoster by: Liandra Pires
URL:https://uucpalisades.org/event/giving-thanks-for-grandchildren-and-cats-spiritual-and-heartfelt-reflections-arlene-holpp-scala/
LOCATION:Englewood\, 07631\, United States
ORGANIZER;CN="UUCP":MAILTO:Use our contact form on our website
END:VEVENT
END:VCALENDAR