BEGIN:VCALENDAR
VERSION:2.0
PRODID:-// - ECPv6.15.20//NONSGML v1.0//EN
CALSCALE:GREGORIAN
METHOD:PUBLISH
X-ORIGINAL-URL:https://uucpalisades.org
X-WR-CALDESC:Events for 
REFRESH-INTERVAL;VALUE=DURATION:PT1H
X-Robots-Tag:noindex
X-PUBLISHED-TTL:PT1H
BEGIN:VTIMEZONE
TZID:America/New_York
BEGIN:DAYLIGHT
TZOFFSETFROM:-0500
TZOFFSETTO:-0400
TZNAME:EDT
DTSTART:20170312T070000
END:DAYLIGHT
BEGIN:STANDARD
TZOFFSETFROM:-0400
TZOFFSETTO:-0500
TZNAME:EST
DTSTART:20171105T060000
END:STANDARD
BEGIN:DAYLIGHT
TZOFFSETFROM:-0500
TZOFFSETTO:-0400
TZNAME:EDT
DTSTART:20180311T070000
END:DAYLIGHT
BEGIN:STANDARD
TZOFFSETFROM:-0400
TZOFFSETTO:-0500
TZNAME:EST
DTSTART:20181104T060000
END:STANDARD
BEGIN:DAYLIGHT
TZOFFSETFROM:-0500
TZOFFSETTO:-0400
TZNAME:EDT
DTSTART:20190310T070000
END:DAYLIGHT
BEGIN:STANDARD
TZOFFSETFROM:-0400
TZOFFSETTO:-0500
TZNAME:EST
DTSTART:20191103T060000
END:STANDARD
END:VTIMEZONE
BEGIN:VEVENT
DTSTART;TZID=America/New_York:20180708T103000
DTEND;TZID=America/New_York:20180708T113000
DTSTAMP:20260420T091426
CREATED:20180703T212342Z
LAST-MODIFIED:20180703T212342Z
UID:10000133-1531045800-1531049400@uucpalisades.org
SUMMARY:A CASE FOR REPARATIONS FOR SLAVERY - Arlene Corsano
DESCRIPTION:Please join us for today’s service at 10:30 a.m. led by UUCP member\, Arlene Corsano. Though slavery has long since been abolished\, it gave birth to racism and segregation\, and the inequality between whites and blacks that still exist today.  This service includes a screening of the 28 minute documentary\, “Slave Reparations: The Final Passage”. \nBring a friend and stay for coffee and light refreshments. we look forward to seeing you! \nPoster by: Liandra Pires
URL:https://uucpalisades.org/event/a-case-for-reparations-for-slavery-arlene-corsano/
LOCATION:Englewood\, 07631\, United States
ORGANIZER;CN="UUCP":MAILTO:Use our contact form on our website
END:VEVENT
END:VCALENDAR