BEGIN:VCALENDAR
VERSION:2.0
PRODID:-// - ECPv6.15.20//NONSGML v1.0//EN
CALSCALE:GREGORIAN
METHOD:PUBLISH
X-ORIGINAL-URL:https://uucpalisades.org
X-WR-CALDESC:Events for 
REFRESH-INTERVAL;VALUE=DURATION:PT1H
X-Robots-Tag:noindex
X-PUBLISHED-TTL:PT1H
BEGIN:VTIMEZONE
TZID:America/New_York
BEGIN:DAYLIGHT
TZOFFSETFROM:-0500
TZOFFSETTO:-0400
TZNAME:EDT
DTSTART:20170312T070000
END:DAYLIGHT
BEGIN:STANDARD
TZOFFSETFROM:-0400
TZOFFSETTO:-0500
TZNAME:EST
DTSTART:20171105T060000
END:STANDARD
BEGIN:DAYLIGHT
TZOFFSETFROM:-0500
TZOFFSETTO:-0400
TZNAME:EDT
DTSTART:20180311T070000
END:DAYLIGHT
BEGIN:STANDARD
TZOFFSETFROM:-0400
TZOFFSETTO:-0500
TZNAME:EST
DTSTART:20181104T060000
END:STANDARD
BEGIN:DAYLIGHT
TZOFFSETFROM:-0500
TZOFFSETTO:-0400
TZNAME:EDT
DTSTART:20190310T070000
END:DAYLIGHT
BEGIN:STANDARD
TZOFFSETFROM:-0400
TZOFFSETTO:-0500
TZNAME:EST
DTSTART:20191103T060000
END:STANDARD
END:VTIMEZONE
BEGIN:VEVENT
DTSTART;TZID=America/New_York:20180624T103000
DTEND;TZID=America/New_York:20180624T113000
DTSTAMP:20260420T091537
CREATED:20180620T161421Z
LAST-MODIFIED:20180620T161421Z
UID:10000132-1529836200-1529839800@uucpalisades.org
SUMMARY:THIS EVIL THAT IS COME UPON US: JESUS\, BUDDHA\, AND RESISTING TRUMP'S WHITE AGENDA - Rev. Paul Dodenhoff
DESCRIPTION:Please join UUCP for today’s service at 10:30 a.m. led by Rev. Paul Dodenhoff. Today Rev. Dodenhoff will address the horrors that are happening at our Southern border due to the Trump administration’s “Zero Tolerance Policy” and the separation of families and interment of children. \nBring a friend and stay for coffee and light refreshments. We look forward to seeing you! \nPoster by: Liandra Pires
URL:https://uucpalisades.org/event/this-evil-that-is-come-upon-us-jesus-buddha-and-resisting-trumps-white-agenda-rev-paul-dodenhoff/
LOCATION:Englewood\, 07631\, United States
ORGANIZER;CN="UUCP":MAILTO:Use our contact form on our website
END:VEVENT
END:VCALENDAR