BEGIN:VCALENDAR
VERSION:2.0
PRODID:-// - ECPv6.15.20//NONSGML v1.0//EN
CALSCALE:GREGORIAN
METHOD:PUBLISH
X-ORIGINAL-URL:https://uucpalisades.org
X-WR-CALDESC:Events for 
REFRESH-INTERVAL;VALUE=DURATION:PT1H
X-Robots-Tag:noindex
X-PUBLISHED-TTL:PT1H
BEGIN:VTIMEZONE
TZID:America/New_York
BEGIN:DAYLIGHT
TZOFFSETFROM:-0500
TZOFFSETTO:-0400
TZNAME:EDT
DTSTART:20170312T070000
END:DAYLIGHT
BEGIN:STANDARD
TZOFFSETFROM:-0400
TZOFFSETTO:-0500
TZNAME:EST
DTSTART:20171105T060000
END:STANDARD
BEGIN:DAYLIGHT
TZOFFSETFROM:-0500
TZOFFSETTO:-0400
TZNAME:EDT
DTSTART:20180311T070000
END:DAYLIGHT
BEGIN:STANDARD
TZOFFSETFROM:-0400
TZOFFSETTO:-0500
TZNAME:EST
DTSTART:20181104T060000
END:STANDARD
BEGIN:DAYLIGHT
TZOFFSETFROM:-0500
TZOFFSETTO:-0400
TZNAME:EDT
DTSTART:20190310T070000
END:DAYLIGHT
BEGIN:STANDARD
TZOFFSETFROM:-0400
TZOFFSETTO:-0500
TZNAME:EST
DTSTART:20191103T060000
END:STANDARD
END:VTIMEZONE
BEGIN:VEVENT
DTSTART;TZID=America/New_York:20180603T103000
DTEND;TZID=America/New_York:20180603T113000
DTSTAMP:20260420T104038
CREATED:20180521T192841Z
LAST-MODIFIED:20180521T192841Z
UID:10000324-1528021800-1528025400@uucpalisades.org
SUMMARY:WHY BOOKS AND LIBRARIES STILL MATTER - Rev. Paul Dodenhoff
DESCRIPTION:Please join UUCP for today’s service at 10:30 a.m. led by Rev. Paul Dodenhoff. \nSummer reading time is upon us! \n“I have always imagined\,” said the Argentine author Jorge Luis Borges\, “that Paradise will be a kind of library.” \nThe percentage of American adults who read literature — any novels\, short stories\, poetry or plays — fell to at least a three-decade low in 2015 according to the National Endowment for the Arts. \nSo\, today\, we will celebrate books\, all kinds of books! We’ll discuss why books still matter (libraries\, too!) and three of our members will share their thoughts about a book that they’ve enjoyed and what it means to them. \nEveryone is invited to bring a book\, used or new\, especially a children’s book that will be donated to the Center for Food Action to be given to a child in need. \nBring a friend and stay for coffee and light refreshments. We look forward to seeing you! \nPoster by: Liandra Pires
URL:https://uucpalisades.org/event/why-books-and-libraries-still-matter-rev-paul-dodenhoff/
LOCATION:Englewood\, 07631\, United States
ORGANIZER;CN="UUCP":MAILTO:Use our contact form on our website
END:VEVENT
END:VCALENDAR