BEGIN:VCALENDAR
VERSION:2.0
PRODID:-// - ECPv6.15.20//NONSGML v1.0//EN
CALSCALE:GREGORIAN
METHOD:PUBLISH
X-ORIGINAL-URL:https://uucpalisades.org
X-WR-CALDESC:Events for 
REFRESH-INTERVAL;VALUE=DURATION:PT1H
X-Robots-Tag:noindex
X-PUBLISHED-TTL:PT1H
BEGIN:VTIMEZONE
TZID:America/New_York
BEGIN:DAYLIGHT
TZOFFSETFROM:-0500
TZOFFSETTO:-0400
TZNAME:EDT
DTSTART:20170312T070000
END:DAYLIGHT
BEGIN:STANDARD
TZOFFSETFROM:-0400
TZOFFSETTO:-0500
TZNAME:EST
DTSTART:20171105T060000
END:STANDARD
BEGIN:DAYLIGHT
TZOFFSETFROM:-0500
TZOFFSETTO:-0400
TZNAME:EDT
DTSTART:20180311T070000
END:DAYLIGHT
BEGIN:STANDARD
TZOFFSETFROM:-0400
TZOFFSETTO:-0500
TZNAME:EST
DTSTART:20181104T060000
END:STANDARD
BEGIN:DAYLIGHT
TZOFFSETFROM:-0500
TZOFFSETTO:-0400
TZNAME:EDT
DTSTART:20190310T070000
END:DAYLIGHT
BEGIN:STANDARD
TZOFFSETFROM:-0400
TZOFFSETTO:-0500
TZNAME:EST
DTSTART:20191103T060000
END:STANDARD
END:VTIMEZONE
BEGIN:VEVENT
DTSTART;TZID=America/New_York:20180318T103000
DTEND;TZID=America/New_York:20180318T113000
DTSTAMP:20260420T155614
CREATED:20180307T182522Z
LAST-MODIFIED:20180312T171804Z
UID:10000270-1521369000-1521372600@uucpalisades.org
SUMMARY:WE NEED MORE EMMAS - Rev. Paul Dodenhoff
DESCRIPTION:Please join us at 10:30 a.m. for today’s service led by Rev. Paul Dodenhoff. 18-year old Emma Gonzalez\, one of the survivors of the recent school shooting in Parkland\, Florida\, has become the face of the new student activist movement opposing the NRA and demanding gun reform in America. \nJoin us today as we take a look back on three other women named Emma who were activists who helped to bring about change and who still inspire us to stand up and speak truth to power as our nation faces  a time of crisis during the current administration. \nBring a friend and stay for coffee and light refreshments. We look forward to seeing you! \nPoster by: Liandra Pires
URL:https://uucpalisades.org/event/we-need-more-emmas-rev-paul-dodenhoff/
LOCATION:Englewood\, 07631\, United States
ORGANIZER;CN="UUCP":MAILTO:Use our contact form on our website
END:VEVENT
BEGIN:VEVENT
DTSTART;TZID=America/New_York:20180324T190000
DTEND;TZID=America/New_York:20180324T220000
DTSTAMP:20260420T155614
CREATED:20171211T181807Z
LAST-MODIFIED:20180228T212713Z
UID:10000109-1521918000-1521928800@uucpalisades.org
SUMMARY:UUCP SERVICE AUCTION
DESCRIPTION:Something awesome is happening on Saturday March 24 at 7:00 pm!\nThe Unitarian Universalist Congregation of the Palisades is having their annual service auction.\nYour can purchase your tickets below\, or simply make a donation.\n \nThere will be a live and silent auction with plenty of exciting items. Some items included are day trips\, dinners\, restaurant/service certificates\, a boutique and more. This fun filled evening helps UUCP to continue their work of promoting social justice and interfaith cooperation and understanding. \nTickets are $15 in advance or $20 at the door. \nEven if you are not able to join us\, purchasing a ticket or making a donation will help UUCP to continue its great work. \nPURCHASE TICKETS HERE \nPoster by: Liandra Pires
URL:https://uucpalisades.org/event/service-auction-2/
LOCATION:Englewood\, 07631\, United States
ORGANIZER;CN="UUCP":MAILTO:Use our contact form on our website
END:VEVENT
END:VCALENDAR