BEGIN:VCALENDAR
VERSION:2.0
PRODID:-// - ECPv6.15.20//NONSGML v1.0//EN
CALSCALE:GREGORIAN
METHOD:PUBLISH
X-ORIGINAL-URL:https://uucpalisades.org
X-WR-CALDESC:Events for 
REFRESH-INTERVAL;VALUE=DURATION:PT1H
X-Robots-Tag:noindex
X-PUBLISHED-TTL:PT1H
BEGIN:VTIMEZONE
TZID:America/New_York
BEGIN:DAYLIGHT
TZOFFSETFROM:-0500
TZOFFSETTO:-0400
TZNAME:EDT
DTSTART:20170312T070000
END:DAYLIGHT
BEGIN:STANDARD
TZOFFSETFROM:-0400
TZOFFSETTO:-0500
TZNAME:EST
DTSTART:20171105T060000
END:STANDARD
BEGIN:DAYLIGHT
TZOFFSETFROM:-0500
TZOFFSETTO:-0400
TZNAME:EDT
DTSTART:20180311T070000
END:DAYLIGHT
BEGIN:STANDARD
TZOFFSETFROM:-0400
TZOFFSETTO:-0500
TZNAME:EST
DTSTART:20181104T060000
END:STANDARD
BEGIN:DAYLIGHT
TZOFFSETFROM:-0500
TZOFFSETTO:-0400
TZNAME:EDT
DTSTART:20190310T070000
END:DAYLIGHT
BEGIN:STANDARD
TZOFFSETFROM:-0400
TZOFFSETTO:-0500
TZNAME:EST
DTSTART:20191103T060000
END:STANDARD
END:VTIMEZONE
BEGIN:VEVENT
DTSTART;TZID=America/New_York:20180311T103000
DTEND;TZID=America/New_York:20180311T113000
DTSTAMP:20260420T172905
CREATED:20180219T193120Z
LAST-MODIFIED:20180219T193120Z
UID:10000268-1520764200-1520767800@uucpalisades.org
SUMMARY:BLACK WOMEN: SPIRITUALITY AND ACTIVISM - Arlene Holpp Scala
DESCRIPTION:Please join UUCP at 10:30 a.m. for our service led by UUCP Co-President\, Arlene Holpp Scala. The service will focus on Black UU women and other Black women activists\, including Black Lives Matter leaders. \nBring a friend and stay for coffee and light refreshemnts. We look forward to seeing you! \nPoster by: Liandra Pires
URL:https://uucpalisades.org/event/black-women-spirituality-and-activism-arlene-holpp-scala/
LOCATION:Englewood\, 07631\, United States
ORGANIZER;CN="UUCP":MAILTO:Use our contact form on our website
END:VEVENT
END:VCALENDAR