BEGIN:VCALENDAR
VERSION:2.0
PRODID:-// - ECPv6.15.20//NONSGML v1.0//EN
CALSCALE:GREGORIAN
METHOD:PUBLISH
X-ORIGINAL-URL:https://uucpalisades.org
X-WR-CALDESC:Events for 
REFRESH-INTERVAL;VALUE=DURATION:PT1H
X-Robots-Tag:noindex
X-PUBLISHED-TTL:PT1H
BEGIN:VTIMEZONE
TZID:America/New_York
BEGIN:DAYLIGHT
TZOFFSETFROM:-0500
TZOFFSETTO:-0400
TZNAME:EDT
DTSTART:20170312T070000
END:DAYLIGHT
BEGIN:STANDARD
TZOFFSETFROM:-0400
TZOFFSETTO:-0500
TZNAME:EST
DTSTART:20171105T060000
END:STANDARD
BEGIN:DAYLIGHT
TZOFFSETFROM:-0500
TZOFFSETTO:-0400
TZNAME:EDT
DTSTART:20180311T070000
END:DAYLIGHT
BEGIN:STANDARD
TZOFFSETFROM:-0400
TZOFFSETTO:-0500
TZNAME:EST
DTSTART:20181104T060000
END:STANDARD
BEGIN:DAYLIGHT
TZOFFSETFROM:-0500
TZOFFSETTO:-0400
TZNAME:EDT
DTSTART:20190310T070000
END:DAYLIGHT
BEGIN:STANDARD
TZOFFSETFROM:-0400
TZOFFSETTO:-0500
TZNAME:EST
DTSTART:20191103T060000
END:STANDARD
END:VTIMEZONE
BEGIN:VEVENT
DTSTART;TZID=America/New_York:20180121T103000
DTEND;TZID=America/New_York:20180121T113000
DTSTAMP:20260420T172908
CREATED:20180112T195410Z
LAST-MODIFIED:20180112T195410Z
UID:10000255-1516530600-1516534200@uucpalisades.org
SUMMARY:WHEN THE WELL RUNS DRY - Rev. Paul Dodenhoff
DESCRIPTION:Please join UUCP for our service today at 10:30 a.m. led by Rev. Paul Dodenhoff. If you live in a home that relies on well water for a water supply\, it’s important to watch the safety and the supply of water in the well so that it doesn’t run dry. The same applies to the wells from which we draw the water that keeps us alive spiritually. When was the last time you examined your spiritual well? Is it time to dig a deeper well? \nBring a friend and stay for coffee and light refreshments. We look forward to seeing you! \nPoster by: Liandra Pires
URL:https://uucpalisades.org/event/when-the-well-runs-dry-rev-paul-dodenhoff/
LOCATION:Englewood\, 07631\, United States
ORGANIZER;CN="UUCP":MAILTO:Use our contact form on our website
END:VEVENT
BEGIN:VEVENT
DTSTART;TZID=America/New_York:20180126T190000
DTEND;TZID=America/New_York:20180126T210000
DTSTAMP:20260420T172908
CREATED:20180108T191628Z
LAST-MODIFIED:20180108T191628Z
UID:10000254-1516993200-1517000400@uucpalisades.org
SUMMARY:WHY SHOULD MARIJUANA BE LEGAL IN NEW JERSEY?
DESCRIPTION:On January 26\, 2018 at 7:00 p.m. the Racial and Social Justice Team\, a committee of the Unitarian Universalist Congregation of the Palisades (UUCP)\, will hold a public meeting on the important question of the legalization of Marijuana in New Jersey. Alex Staropoli\, Esq.\, the Policy Manager for the Drug Policy Alliance (DPA)\, New Jersey office\, will be the speaker. \nLegalization of marijuana is on the agenda of incoming Governor Phil Murphy’s administration. Eight states and Washington D.C. have already legalized use of recreational marijuana with constructive results. Although there is controversy around this issue\, there are many benefits to legalization including but not limited to creating jobs\, boosting the economy\, providing funds for important social programs and abolishing the racial and social injustice of existing marijuana laws. \nSpeaker\, Alex Staropoli\, has worked on a variety of drug policy issues with a focus on criminal justice reform. Prior to joining DPA\, she was the Senior Policy and Legislative Analyst for the Governor’s Office of Crime Control & Prevention in Maryland where she worked on a wide range of criminal justice issues including pretrial justice\, substance abuse treatment and overdose prevention\, domestic violence and reentry. \nWe invite all to attend the event on January 26th for information\, questions and discussion. \nPoster by: Liandra Pires
URL:https://uucpalisades.org/event/why-should-marijuana-be-legal-in-new-jersey/
LOCATION:Englewood\, 07631\, United States
ORGANIZER;CN="UUCP":MAILTO:Use our contact form on our website
END:VEVENT
END:VCALENDAR