BEGIN:VCALENDAR
VERSION:2.0
PRODID:-// - ECPv6.15.20//NONSGML v1.0//EN
CALSCALE:GREGORIAN
METHOD:PUBLISH
X-ORIGINAL-URL:https://uucpalisades.org
X-WR-CALDESC:Events for 
REFRESH-INTERVAL;VALUE=DURATION:PT1H
X-Robots-Tag:noindex
X-PUBLISHED-TTL:PT1H
BEGIN:VTIMEZONE
TZID:America/New_York
BEGIN:DAYLIGHT
TZOFFSETFROM:-0500
TZOFFSETTO:-0400
TZNAME:EDT
DTSTART:20170312T070000
END:DAYLIGHT
BEGIN:STANDARD
TZOFFSETFROM:-0400
TZOFFSETTO:-0500
TZNAME:EST
DTSTART:20171105T060000
END:STANDARD
BEGIN:DAYLIGHT
TZOFFSETFROM:-0500
TZOFFSETTO:-0400
TZNAME:EDT
DTSTART:20180311T070000
END:DAYLIGHT
BEGIN:STANDARD
TZOFFSETFROM:-0400
TZOFFSETTO:-0500
TZNAME:EST
DTSTART:20181104T060000
END:STANDARD
BEGIN:DAYLIGHT
TZOFFSETFROM:-0500
TZOFFSETTO:-0400
TZNAME:EDT
DTSTART:20190310T070000
END:DAYLIGHT
BEGIN:STANDARD
TZOFFSETFROM:-0400
TZOFFSETTO:-0500
TZNAME:EST
DTSTART:20191103T060000
END:STANDARD
END:VTIMEZONE
BEGIN:VEVENT
DTSTART;TZID=America/New_York:20180107T103000
DTEND;TZID=America/New_York:20180107T103000
DTSTAMP:20260420T185858
CREATED:20180102T194633Z
LAST-MODIFIED:20180102T194633Z
UID:10000252-1515321000-1515321000@uucpalisades.org
SUMMARY:BREAKFAST AND EPIPHANIES - Rev. Paul Dodenhoff
DESCRIPTION:Please join UUCP for our service led by Rev. Paul Dodenhoff. Saturday\, January 6th was the Feast of the Epiphany (also called Three Kings Day) in the Western Christian Tradition. \nJust what is an “epiphany” and what is this celebration? What broader meaning does it have for us in our own spiritual and daily lives? When and where do epiphanies happen? Join us today as we consider this question and\, perhaps\, have an epiphany of your own! \nBring a friend and stay for coffee and light refreshments. We look forward to seeing you! \nPoster by: Liandra Pires
URL:https://uucpalisades.org/event/breakfast-and-epiphanies-rev-paul-dodenhoff/
LOCATION:Englewood\, 07631\, United States
ORGANIZER;CN="UUCP":MAILTO:Use our contact form on our website
END:VEVENT
BEGIN:VEVENT
DTSTART;TZID=America/New_York:20180107T120000
DTEND;TZID=America/New_York:20180107T130000
DTSTAMP:20260420T185858
CREATED:20171211T181557Z
LAST-MODIFIED:20171211T181557Z
UID:10000105-1515326400-1515330000@uucpalisades.org
SUMMARY:Service Auction Planning Meeting
DESCRIPTION:
URL:https://uucpalisades.org/event/service-auction-planning-meeting/
LOCATION:Englewood\, 07631\, United States
CATEGORIES:Team Meetings
ORGANIZER;CN="UUCP":MAILTO:Use our contact form on our website
END:VEVENT
END:VCALENDAR