BEGIN:VCALENDAR
VERSION:2.0
PRODID:-// - ECPv6.15.20//NONSGML v1.0//EN
CALSCALE:GREGORIAN
METHOD:PUBLISH
X-ORIGINAL-URL:https://uucpalisades.org
X-WR-CALDESC:Events for 
REFRESH-INTERVAL;VALUE=DURATION:PT1H
X-Robots-Tag:noindex
X-PUBLISHED-TTL:PT1H
BEGIN:VTIMEZONE
TZID:America/New_York
BEGIN:DAYLIGHT
TZOFFSETFROM:-0500
TZOFFSETTO:-0400
TZNAME:EDT
DTSTART:20160313T070000
END:DAYLIGHT
BEGIN:STANDARD
TZOFFSETFROM:-0400
TZOFFSETTO:-0500
TZNAME:EST
DTSTART:20161106T060000
END:STANDARD
BEGIN:DAYLIGHT
TZOFFSETFROM:-0500
TZOFFSETTO:-0400
TZNAME:EDT
DTSTART:20170312T070000
END:DAYLIGHT
BEGIN:STANDARD
TZOFFSETFROM:-0400
TZOFFSETTO:-0500
TZNAME:EST
DTSTART:20171105T060000
END:STANDARD
BEGIN:DAYLIGHT
TZOFFSETFROM:-0500
TZOFFSETTO:-0400
TZNAME:EDT
DTSTART:20180311T070000
END:DAYLIGHT
BEGIN:STANDARD
TZOFFSETFROM:-0400
TZOFFSETTO:-0500
TZNAME:EST
DTSTART:20181104T060000
END:STANDARD
END:VTIMEZONE
BEGIN:VEVENT
DTSTART;TZID=America/New_York:20171224T170000
DTEND;TZID=America/New_York:20171224T180000
DTSTAMP:20260420T185830
CREATED:20171120T234337Z
LAST-MODIFIED:20171121T010025Z
UID:10000251-1514134800-1514138400@uucpalisades.org
SUMMARY:THE GHOST OF CHRISTMAS PRESENT - Rev. Paul Dodenhoff
DESCRIPTION:Please join UUCP for our service at 5:00 p.m. led by Rev. Paul Dodenhoff. 174 years ago\, Charles Dickens’ classic\, “A Christmas Carol” was published and became an immediate success. Dickens tale was not only a critic of Victorian England\, but still resonates as a harsh critique of America in 2017. Yet it is still one of the abiding messages of hope at this time of year. \nBring friends or family and join us for our annual Candlelight Christmas Eve Service and stay for cider and cookies after our service! We look forward to seeing you! \nPoster by: Liandra Pires \n 
URL:https://uucpalisades.org/event/the-ghost-of-christmas-present-rev-paul-dodenhoff/
LOCATION:Englewood\, 07631\, United States
ORGANIZER;CN="UUCP":MAILTO:Use our contact form on our website
END:VEVENT
END:VCALENDAR