BEGIN:VCALENDAR
VERSION:2.0
PRODID:-// - ECPv6.15.20//NONSGML v1.0//EN
CALSCALE:GREGORIAN
METHOD:PUBLISH
X-ORIGINAL-URL:https://uucpalisades.org
X-WR-CALDESC:Events for 
REFRESH-INTERVAL;VALUE=DURATION:PT1H
X-Robots-Tag:noindex
X-PUBLISHED-TTL:PT1H
BEGIN:VTIMEZONE
TZID:America/New_York
BEGIN:DAYLIGHT
TZOFFSETFROM:-0500
TZOFFSETTO:-0400
TZNAME:EDT
DTSTART:20160313T070000
END:DAYLIGHT
BEGIN:STANDARD
TZOFFSETFROM:-0400
TZOFFSETTO:-0500
TZNAME:EST
DTSTART:20161106T060000
END:STANDARD
BEGIN:DAYLIGHT
TZOFFSETFROM:-0500
TZOFFSETTO:-0400
TZNAME:EDT
DTSTART:20170312T070000
END:DAYLIGHT
BEGIN:STANDARD
TZOFFSETFROM:-0400
TZOFFSETTO:-0500
TZNAME:EST
DTSTART:20171105T060000
END:STANDARD
BEGIN:DAYLIGHT
TZOFFSETFROM:-0500
TZOFFSETTO:-0400
TZNAME:EDT
DTSTART:20180311T070000
END:DAYLIGHT
BEGIN:STANDARD
TZOFFSETFROM:-0400
TZOFFSETTO:-0500
TZNAME:EST
DTSTART:20181104T060000
END:STANDARD
END:VTIMEZONE
BEGIN:VEVENT
DTSTART;TZID=America/New_York:20170924T103000
DTEND;TZID=America/New_York:20170924T113000
DTSTAMP:20260420T233112
CREATED:20170911T182854Z
LAST-MODIFIED:20170911T182854Z
UID:10000235-1506249000-1506252600@uucpalisades.org
SUMMARY:SPIRITUAL TRADITIONS OF THE JEWISH HOLIDAYS - Deborah Singer Pires
DESCRIPTION:Please join us for today’s service at 10:30 a.m. led by UUCP Co-President\, Deborah Singer Pires. Join us for a festive celebration of the Jewish High Holy Days when we will experience the sweetness and spirituality of their traditions. The children will participate and we will share challah\, apples and honey. \nBring a friend and stay for coffee and light refreshments. We look forward to seeing you! \nPoster by: Liandra Pires
URL:https://uucpalisades.org/event/spiritual-traditions-of-the-jewish-holidays-deborah-singer-pires/
LOCATION:Englewood\, 07631\, United States
ORGANIZER;CN="UUCP":MAILTO:Use our contact form on our website
END:VEVENT
BEGIN:VEVENT
DTSTART;TZID=America/New_York:20170924T121500
DTEND;TZID=America/New_York:20170924T133000
DTSTAMP:20260420T233112
CREATED:20170919T161854Z
LAST-MODIFIED:20170919T161854Z
UID:10000237-1506255300-1506259800@uucpalisades.org
SUMMARY:UUCP Racial & Social Justice Team Monthly Meeting
DESCRIPTION:The Racial & Social Justice Team of the Unitarian Universalist Congregation of the Palisades (UUCP) Monthly Meeting this Sunday\, September 24\, 12:15 PM at The Historical Lydecker Homestead\, 228 Grand Ave. Englewood\, NJ 07631.\n\n \nAGENDA –\n \n1) CHECK IN\n\n \n2) MEDICARE FOR ALL – Review and status\, HR676 & Bernie’s Bill\n\n \n3) DACA\, SANCTUARY & IMMIGRATION JUSTICE – Review & Actions \n \n4) Announcements\, Closing Remarks\, Next Meeting\, Adjourn\n\n \nJOIN US THIS SUNDAY –\nALL ARE WELCOME TO ATTEND.
URL:https://uucpalisades.org/event/uucp-racial-social-justice-team-monthly-meeting/
LOCATION:Englewood\, 07631\, United States
ORGANIZER;CN="UUCP":MAILTO:Use our contact form on our website
END:VEVENT
END:VCALENDAR