BEGIN:VCALENDAR
VERSION:2.0
PRODID:-// - ECPv6.15.20//NONSGML v1.0//EN
CALSCALE:GREGORIAN
METHOD:PUBLISH
X-ORIGINAL-URL:https://uucpalisades.org
X-WR-CALDESC:Events for 
REFRESH-INTERVAL;VALUE=DURATION:PT1H
X-Robots-Tag:noindex
X-PUBLISHED-TTL:PT1H
BEGIN:VTIMEZONE
TZID:America/New_York
BEGIN:DAYLIGHT
TZOFFSETFROM:-0500
TZOFFSETTO:-0400
TZNAME:EDT
DTSTART:20160313T070000
END:DAYLIGHT
BEGIN:STANDARD
TZOFFSETFROM:-0400
TZOFFSETTO:-0500
TZNAME:EST
DTSTART:20161106T060000
END:STANDARD
BEGIN:DAYLIGHT
TZOFFSETFROM:-0500
TZOFFSETTO:-0400
TZNAME:EDT
DTSTART:20170312T070000
END:DAYLIGHT
BEGIN:STANDARD
TZOFFSETFROM:-0400
TZOFFSETTO:-0500
TZNAME:EST
DTSTART:20171105T060000
END:STANDARD
BEGIN:DAYLIGHT
TZOFFSETFROM:-0500
TZOFFSETTO:-0400
TZNAME:EDT
DTSTART:20180311T070000
END:DAYLIGHT
BEGIN:STANDARD
TZOFFSETFROM:-0400
TZOFFSETTO:-0500
TZNAME:EST
DTSTART:20181104T060000
END:STANDARD
END:VTIMEZONE
BEGIN:VEVENT
DTSTART;TZID=America/New_York:20170416T103000
DTEND;TZID=America/New_York:20170416T113000
DTSTAMP:20260421T110450
CREATED:20170328T001020Z
LAST-MODIFIED:20170328T001020Z
UID:10000074-1492338600-1492342200@uucpalisades.org
SUMMARY:THE EASTER MESSAGE: RADICALS RISE UP - Rev. Paul Dodenhoff
DESCRIPTION:Please join us for today’s service led by Rev. Paul Dodenhoff. Easter is the holiest day on the Christian calendar. It’s also the most radical spiritual message ever given\, calling us to wake up\, rise up\, and fully engage in the work of toppling a system that is built on oppression\, inequality\,  abuse of power\, bigotry\, and falsehood.   Whether you believe it literally or metaphorically\, the radical message of Easter and its call to action has never been more urgent.  \nBring a friend and stay for coffee and light refreshments. We look forward to seeing you! \nPoster by: Liandra Pires
URL:https://uucpalisades.org/event/the-easter-message-radicals-rise-up-rev-paul-dodenhoff/
LOCATION:Englewood\, 07631\, United States
ORGANIZER;CN="UUCP":MAILTO:Use our contact form on our website
END:VEVENT
BEGIN:VEVENT
DTSTART;TZID=America/New_York:20170420T190000
DTEND;TZID=America/New_York:20170420T210000
DTSTAMP:20260421T110450
CREATED:20170410T152824Z
LAST-MODIFIED:20170410T152824Z
UID:10000078-1492714800-1492722000@uucpalisades.org
SUMMARY:BLACK HISTORY'S LESSONS FOR 2017
DESCRIPTION:Please join UUCP for a lecture and discussion at 7:00 PM\, led by Al Stawsky\, Chair Racial & Social Justice Team; founder and formerly Chair Criminal Justice Reform Task Force of Unitarian Universalist Legislative Ministry of New Jersey. \nThe lessons and significance of Black History cannot be segregated into one month of the year. At this critical moment in United States history we look for answers which can help guide us to defeat the very worst elements of reaction that have taken power. The history of African Americans is central to U.S. history.  It can guide us to those answers. \nWe look forward to seeing you! \nPoster by: Liandra Pires
URL:https://uucpalisades.org/event/black-historys-lessons-for-2017/
LOCATION:Englewood\, 07631\, United States
ORGANIZER;CN="UUCP":MAILTO:Use our contact form on our website
END:VEVENT
BEGIN:VEVENT
DTSTART;TZID=America/New_York:20170422T190000
DTEND;TZID=America/New_York:20170422T220000
DTSTAMP:20260421T110450
CREATED:20170125T223222Z
LAST-MODIFIED:20170412T211340Z
UID:10000198-1492887600-1492898400@uucpalisades.org
SUMMARY:UUCP SERVICE AUCTION
DESCRIPTION:Please join UUCP for our annual Service Auction. There will be a Tricky Tray\, Boutique\, Live Auction\, Professional Caller and more! \nTickets are $20 in advance / $25 at the door\nPrice includes appetizers and dessert.\n\nBring a friend and stay for an evening of fun!\n\n\nPoster by: Liandra Pires
URL:https://uucpalisades.org/event/uucp-service-auction/
LOCATION:Englewood\, 07631\, United States
ORGANIZER;CN="UUCP":MAILTO:Use our contact form on our website
END:VEVENT
END:VCALENDAR