BEGIN:VCALENDAR
VERSION:2.0
PRODID:-// - ECPv6.15.20//NONSGML v1.0//EN
CALSCALE:GREGORIAN
METHOD:PUBLISH
X-ORIGINAL-URL:https://uucpalisades.org
X-WR-CALDESC:Events for 
REFRESH-INTERVAL;VALUE=DURATION:PT1H
X-Robots-Tag:noindex
X-PUBLISHED-TTL:PT1H
BEGIN:VTIMEZONE
TZID:America/New_York
BEGIN:DAYLIGHT
TZOFFSETFROM:-0500
TZOFFSETTO:-0400
TZNAME:EDT
DTSTART:20160313T070000
END:DAYLIGHT
BEGIN:STANDARD
TZOFFSETFROM:-0400
TZOFFSETTO:-0500
TZNAME:EST
DTSTART:20161106T060000
END:STANDARD
BEGIN:DAYLIGHT
TZOFFSETFROM:-0500
TZOFFSETTO:-0400
TZNAME:EDT
DTSTART:20170312T070000
END:DAYLIGHT
BEGIN:STANDARD
TZOFFSETFROM:-0400
TZOFFSETTO:-0500
TZNAME:EST
DTSTART:20171105T060000
END:STANDARD
BEGIN:DAYLIGHT
TZOFFSETFROM:-0500
TZOFFSETTO:-0400
TZNAME:EDT
DTSTART:20180311T070000
END:DAYLIGHT
BEGIN:STANDARD
TZOFFSETFROM:-0400
TZOFFSETTO:-0500
TZNAME:EST
DTSTART:20181104T060000
END:STANDARD
END:VTIMEZONE
BEGIN:VEVENT
DTSTART;TZID=America/New_York:20170409T103000
DTEND;TZID=America/New_York:20170409T113000
DTSTAMP:20260421T110436
CREATED:20170328T000231Z
LAST-MODIFIED:20170328T000246Z
UID:10000071-1491733800-1491737400@uucpalisades.org
SUMMARY:POT LUCK PASSOVER SEDER
DESCRIPTION:Please join us this Sunday at 10:30 AM for a pot luck Passover Seder led by UUCP Co-President\, Deborah Singer Pires. Instead of our usual service format\, we will experience the Jewish holiday of Passover with a traditional Seder. Learn the meaning of Passover and its relevance to Unitarian Universalists. \nBring a dish to share\, but please do not bring food items made with pork\, shellfish\, or bread. Please be on time to be seated at the table in order to not disrupt the service after it has begun. All are welcome: bring family and friends. \nWe look forward to seeing you! \nPoster by: Liandra Pires
URL:https://uucpalisades.org/event/pot-luck-passover-seder/
LOCATION:Englewood\, 07631\, United States
ORGANIZER;CN="UUCP":MAILTO:Use our contact form on our website
END:VEVENT
END:VCALENDAR