BEGIN:VCALENDAR
VERSION:2.0
PRODID:-// - ECPv6.15.20//NONSGML v1.0//EN
CALSCALE:GREGORIAN
METHOD:PUBLISH
X-ORIGINAL-URL:https://uucpalisades.org
X-WR-CALDESC:Events for 
REFRESH-INTERVAL;VALUE=DURATION:PT1H
X-Robots-Tag:noindex
X-PUBLISHED-TTL:PT1H
BEGIN:VTIMEZONE
TZID:America/New_York
BEGIN:DAYLIGHT
TZOFFSETFROM:-0500
TZOFFSETTO:-0400
TZNAME:EDT
DTSTART:20160313T070000
END:DAYLIGHT
BEGIN:STANDARD
TZOFFSETFROM:-0400
TZOFFSETTO:-0500
TZNAME:EST
DTSTART:20161106T060000
END:STANDARD
BEGIN:DAYLIGHT
TZOFFSETFROM:-0500
TZOFFSETTO:-0400
TZNAME:EDT
DTSTART:20170312T070000
END:DAYLIGHT
BEGIN:STANDARD
TZOFFSETFROM:-0400
TZOFFSETTO:-0500
TZNAME:EST
DTSTART:20171105T060000
END:STANDARD
BEGIN:DAYLIGHT
TZOFFSETFROM:-0500
TZOFFSETTO:-0400
TZNAME:EDT
DTSTART:20180311T070000
END:DAYLIGHT
BEGIN:STANDARD
TZOFFSETFROM:-0400
TZOFFSETTO:-0500
TZNAME:EST
DTSTART:20181104T060000
END:STANDARD
END:VTIMEZONE
BEGIN:VEVENT
DTSTART;TZID=America/New_York:20170129T103000
DTEND;TZID=America/New_York:20170129T113000
DTSTAMP:20260421T110438
CREATED:20170103T212930Z
LAST-MODIFIED:20170103T212930Z
UID:10000179-1485685800-1485689400@uucpalisades.org
SUMMARY:A VACATION IN SLAVE TERRITORY - Michael S. Meyers-Jouan
DESCRIPTION:Please join us for today’s service led by UUCP member\, Michael S. Meyers-Jouan. “On a visit to the idyllic island of Guadeloupe\, we visited the Le Mémorial ACTe\, the Caribbean Center of Expressions and Memory of Trafficking and Slavery. In this service\, we reflect on the experience.” \nBring a friend and stay for coffee and light refreshments. We look forward to seeing you! \nPoster by: Liandra Pires
URL:https://uucpalisades.org/event/a-vacation-in-slave-territory-michael-s-meyers-jouan/
LOCATION:Englewood\, 07631\, United States
ORGANIZER;CN="UUCP":MAILTO:Use our contact form on our website
END:VEVENT
BEGIN:VEVENT
DTSTART;TZID=America/New_York:20170129T120000
DTEND;TZID=America/New_York:20170129T130000
DTSTAMP:20260421T110438
CREATED:20170125T221907Z
LAST-MODIFIED:20170125T222616Z
UID:10000197-1485691200-1485694800@uucpalisades.org
SUMMARY:ORGANIZE for ACTION AFTER the MARCH
DESCRIPTION:Meet with the Racial & Social Justice Team of the Unitarian Universalist Congregation of the Palisades. If you marched with millions in the great Women’s March\, Saturday\, January 21\, in body or spirit\, now is the time to plan for action to RESIST the anti-people backlash and TURN THINGS AROUND. \nShare stories of the big march and let’s plan 10 actions for the next 100 days. The meeting will be led by Al Stawsky\, Chair\, Congregational Racial and Social Justice Team; Founder & Former Chair\, Criminal Justice Reform Task Force of the Unitarian Universalist Legislative Ministry of New Jersey. \nWe look forward to seeing you!
URL:https://uucpalisades.org/event/organize-for-action-after-the-march/
LOCATION:Englewood\, 07631\, United States
CATEGORIES:Team Meetings
ORGANIZER;CN="UUCP":MAILTO:Use our contact form on our website
END:VEVENT
END:VCALENDAR