BEGIN:VCALENDAR
VERSION:2.0
PRODID:-// - ECPv6.15.20//NONSGML v1.0//EN
CALSCALE:GREGORIAN
METHOD:PUBLISH
X-ORIGINAL-URL:https://uucpalisades.org
X-WR-CALDESC:Events for 
REFRESH-INTERVAL;VALUE=DURATION:PT1H
X-Robots-Tag:noindex
X-PUBLISHED-TTL:PT1H
BEGIN:VTIMEZONE
TZID:America/New_York
BEGIN:DAYLIGHT
TZOFFSETFROM:-0500
TZOFFSETTO:-0400
TZNAME:EDT
DTSTART:20160313T070000
END:DAYLIGHT
BEGIN:STANDARD
TZOFFSETFROM:-0400
TZOFFSETTO:-0500
TZNAME:EST
DTSTART:20161106T060000
END:STANDARD
BEGIN:DAYLIGHT
TZOFFSETFROM:-0500
TZOFFSETTO:-0400
TZNAME:EDT
DTSTART:20170312T070000
END:DAYLIGHT
BEGIN:STANDARD
TZOFFSETFROM:-0400
TZOFFSETTO:-0500
TZNAME:EST
DTSTART:20171105T060000
END:STANDARD
BEGIN:DAYLIGHT
TZOFFSETFROM:-0500
TZOFFSETTO:-0400
TZNAME:EDT
DTSTART:20180311T070000
END:DAYLIGHT
BEGIN:STANDARD
TZOFFSETFROM:-0400
TZOFFSETTO:-0500
TZNAME:EST
DTSTART:20181104T060000
END:STANDARD
END:VTIMEZONE
BEGIN:VEVENT
DTSTART;TZID=America/New_York:20170108T103000
DTEND;TZID=America/New_York:20170108T113000
DTSTAMP:20260421T162944
CREATED:20161229T211642Z
LAST-MODIFIED:20170103T182010Z
UID:10000177-1483871400-1483875000@uucpalisades.org
SUMMARY:LEARNING TO EXHALE - JOINT SERVICE AT UU CONGREGATION OF ROCKLAND
DESCRIPTION:Please join us for our joint service held today at the Unitarian Universalist Congregation of Rockland at 10:30 AM. The service “Learning to Exhale” will be led by Rev. Dawn Sangrey. As we begin a new year together\, we ask ourselves these questions: How can I make room for the new in my life? What can I release\, let go of? What am I willing to surrender\, to question\, to sacrifice in order to realize the world that I believe in? How can I become more open to working with other people? What can we do together in this religious community to bring the world we live in closer to the world we long for? \nWe will car pool and meet at the Lydecker House at 9:30 AM. We will contribute to the pot luck lunch. Please bring a dish. Arlene Holpp Scala will coordinate the carpooling. Send all  questions and carpooling information (driver or rider) to Arlene at scalaa@wpunj.edu \nAddress:  \nUnitarian Universalist Congregation of Rockland \n130 Concklin Road\,  \nPomona\, NY 10970  \nTel: (845) 354-1789 \n 
URL:https://uucpalisades.org/event/joint-service-at-unitarian-universalist-congregation-of-rockland/
ORGANIZER;CN="UUCP":MAILTO:Use our contact form on our website
END:VEVENT
END:VCALENDAR