BEGIN:VCALENDAR
VERSION:2.0
PRODID:-// - ECPv6.15.20//NONSGML v1.0//EN
CALSCALE:GREGORIAN
METHOD:PUBLISH
X-ORIGINAL-URL:https://uucpalisades.org
X-WR-CALDESC:Events for 
REFRESH-INTERVAL;VALUE=DURATION:PT1H
X-Robots-Tag:noindex
X-PUBLISHED-TTL:PT1H
BEGIN:VTIMEZONE
TZID:America/New_York
BEGIN:DAYLIGHT
TZOFFSETFROM:-0500
TZOFFSETTO:-0400
TZNAME:EDT
DTSTART:20150308T070000
END:DAYLIGHT
BEGIN:STANDARD
TZOFFSETFROM:-0400
TZOFFSETTO:-0500
TZNAME:EST
DTSTART:20151101T060000
END:STANDARD
BEGIN:DAYLIGHT
TZOFFSETFROM:-0500
TZOFFSETTO:-0400
TZNAME:EDT
DTSTART:20160313T070000
END:DAYLIGHT
BEGIN:STANDARD
TZOFFSETFROM:-0400
TZOFFSETTO:-0500
TZNAME:EST
DTSTART:20161106T060000
END:STANDARD
BEGIN:DAYLIGHT
TZOFFSETFROM:-0500
TZOFFSETTO:-0400
TZNAME:EDT
DTSTART:20170312T070000
END:DAYLIGHT
BEGIN:STANDARD
TZOFFSETFROM:-0400
TZOFFSETTO:-0500
TZNAME:EST
DTSTART:20171105T060000
END:STANDARD
END:VTIMEZONE
BEGIN:VEVENT
DTSTART;TZID=America/New_York:20161127T103000
DTEND;TZID=America/New_York:20161127T113000
DTSTAMP:20260421T162935
CREATED:20161107T162317Z
LAST-MODIFIED:20161107T162317Z
UID:10000168-1480242600-1480246200@uucpalisades.org
SUMMARY:AN INTERSPIRITUAL LOOK AT ADVENT - Rev. Paul Dodenhoff
DESCRIPTION:Please join us for today’s service led by Rev. Paul Dodenhoff. This is the 1st in a 4 part Interspiritual Advent series. The season of Advent\, which comes from the Latin word adventus meaning “coming” or “visit\,” begins four Sundays before Christmas and ends on Christmas Eve. Advent is the beginning of the liturgical year for Christians as they prepare for\, and anticipate\, the coming of Jesus of Nazareth\, who is called “the Light of the world.” But many spiritual traditions also celebrate the coming of the Light around the same time of year. Tonight we’ll consider how we can celebrate and honor the coming of the Light into our own lives. \nBring a friend and stay for coffee and light refreshments. We look forward to seeing you! \nPoster by: Liandra Pires
URL:https://uucpalisades.org/event/an-interspiritual-look-at-advent-rev-paul-dodenhoff/
LOCATION:Englewood\, 07631\, United States
ORGANIZER;CN="UUCP":MAILTO:Use our contact form on our website
END:VEVENT
END:VCALENDAR