BEGIN:VCALENDAR
VERSION:2.0
PRODID:-// - ECPv6.15.20//NONSGML v1.0//EN
CALSCALE:GREGORIAN
METHOD:PUBLISH
X-ORIGINAL-URL:https://uucpalisades.org
X-WR-CALDESC:Events for 
REFRESH-INTERVAL;VALUE=DURATION:PT1H
X-Robots-Tag:noindex
X-PUBLISHED-TTL:PT1H
BEGIN:VTIMEZONE
TZID:America/New_York
BEGIN:DAYLIGHT
TZOFFSETFROM:-0500
TZOFFSETTO:-0400
TZNAME:EDT
DTSTART:20150308T070000
END:DAYLIGHT
BEGIN:STANDARD
TZOFFSETFROM:-0400
TZOFFSETTO:-0500
TZNAME:EST
DTSTART:20151101T060000
END:STANDARD
BEGIN:DAYLIGHT
TZOFFSETFROM:-0500
TZOFFSETTO:-0400
TZNAME:EDT
DTSTART:20160313T070000
END:DAYLIGHT
BEGIN:STANDARD
TZOFFSETFROM:-0400
TZOFFSETTO:-0500
TZNAME:EST
DTSTART:20161106T060000
END:STANDARD
BEGIN:DAYLIGHT
TZOFFSETFROM:-0500
TZOFFSETTO:-0400
TZNAME:EDT
DTSTART:20170312T070000
END:DAYLIGHT
BEGIN:STANDARD
TZOFFSETFROM:-0400
TZOFFSETTO:-0500
TZNAME:EST
DTSTART:20171105T060000
END:STANDARD
END:VTIMEZONE
BEGIN:VEVENT
DTSTART;TZID=America/New_York:20161002T103000
DTEND;TZID=America/New_York:20161002T113000
DTSTAMP:20260421T235413
CREATED:20160923T173014Z
LAST-MODIFIED:20160923T173014Z
UID:10000130-1475404200-1475407800@uucpalisades.org
SUMMARY:NEW YEAR-NEW SPIRIT - Deborah Singer Pires
DESCRIPTION:Please join us for today’s service led by UUCP Co-President\, Deborah Singer Pires. Come celebrate Rosh Hashanah\, the Jewish New Year. This morning we honor the traditions of this important Jewish holiday\, which is also the beginning of a 10-day period of rigorous spiritual self-examination. The first part of the service will be intergenerational. \nBring a friend and stay for coffee and light refreshments. We look forward to seeing you! \nPoster by: Liandra Pires
URL:https://uucpalisades.org/event/new-year-new-spirit-deborah-singer-pires/
LOCATION:Englewood\, 07631\, United States
ORGANIZER;CN="UUCP":MAILTO:Use our contact form on our website
END:VEVENT
END:VCALENDAR