BEGIN:VCALENDAR
VERSION:2.0
PRODID:-// - ECPv6.15.20//NONSGML v1.0//EN
CALSCALE:GREGORIAN
METHOD:PUBLISH
X-ORIGINAL-URL:https://uucpalisades.org
X-WR-CALDESC:Events for 
REFRESH-INTERVAL;VALUE=DURATION:PT1H
X-Robots-Tag:noindex
X-PUBLISHED-TTL:PT1H
BEGIN:VTIMEZONE
TZID:America/New_York
BEGIN:DAYLIGHT
TZOFFSETFROM:-0500
TZOFFSETTO:-0400
TZNAME:EDT
DTSTART:20150308T070000
END:DAYLIGHT
BEGIN:STANDARD
TZOFFSETFROM:-0400
TZOFFSETTO:-0500
TZNAME:EST
DTSTART:20151101T060000
END:STANDARD
BEGIN:DAYLIGHT
TZOFFSETFROM:-0500
TZOFFSETTO:-0400
TZNAME:EDT
DTSTART:20160313T070000
END:DAYLIGHT
BEGIN:STANDARD
TZOFFSETFROM:-0400
TZOFFSETTO:-0500
TZNAME:EST
DTSTART:20161106T060000
END:STANDARD
BEGIN:DAYLIGHT
TZOFFSETFROM:-0500
TZOFFSETTO:-0400
TZNAME:EDT
DTSTART:20170312T070000
END:DAYLIGHT
BEGIN:STANDARD
TZOFFSETFROM:-0400
TZOFFSETTO:-0500
TZNAME:EST
DTSTART:20171105T060000
END:STANDARD
END:VTIMEZONE
BEGIN:VEVENT
DTSTART;TZID=America/New_York:20160814T103000
DTEND;TZID=America/New_York:20160814T113000
DTSTAMP:20260422T033325
CREATED:20160804T165508Z
LAST-MODIFIED:20160808T234346Z
UID:10000022-1471170600-1471174200@uucpalisades.org
SUMMARY:THE ULTIMATE CHALLENGE; WHAT ONE PERSON CAN DO\, EXCERPTS FROM TONY ROBBINS' BOOK 'AWAKEN THE GIANT WITHIN - Cassandra Jennings Hall
DESCRIPTION:Please join us for today’s service led by UUCP member\, Cassandra Jennings Hall. Tony Robbins is one of the great influencers of this generation.  Awaken the Giant Within is a fascinating\, intriguing presentation of cutting-edge findings and insights across a broad spectrum of issues\, including the growing consciousness that true success is first anchored to enduring values and service to others. \nBring a friend and stay for coffee and light refreshments. We look forward to seeing you! \nPoster by: Liandra Pires
URL:https://uucpalisades.org/event/the-ultimate-challenge-what-one-person-can-do-excerpts-from-anthony-robbins-book-awaken-the-giant-within-cassandra-jennings-hall/
LOCATION:Englewood\, 07631\, United States
ORGANIZER;CN="UUCP":MAILTO:Use our contact form on our website
END:VEVENT
END:VCALENDAR