BEGIN:VCALENDAR
VERSION:2.0
PRODID:-// - ECPv6.15.20//NONSGML v1.0//EN
CALSCALE:GREGORIAN
METHOD:PUBLISH
X-ORIGINAL-URL:https://uucpalisades.org
X-WR-CALDESC:Events for 
REFRESH-INTERVAL;VALUE=DURATION:PT1H
X-Robots-Tag:noindex
X-PUBLISHED-TTL:PT1H
BEGIN:VTIMEZONE
TZID:America/New_York
BEGIN:DAYLIGHT
TZOFFSETFROM:-0500
TZOFFSETTO:-0400
TZNAME:EDT
DTSTART:20150308T070000
END:DAYLIGHT
BEGIN:STANDARD
TZOFFSETFROM:-0400
TZOFFSETTO:-0500
TZNAME:EST
DTSTART:20151101T060000
END:STANDARD
BEGIN:DAYLIGHT
TZOFFSETFROM:-0500
TZOFFSETTO:-0400
TZNAME:EDT
DTSTART:20160313T070000
END:DAYLIGHT
BEGIN:STANDARD
TZOFFSETFROM:-0400
TZOFFSETTO:-0500
TZNAME:EST
DTSTART:20161106T060000
END:STANDARD
BEGIN:DAYLIGHT
TZOFFSETFROM:-0500
TZOFFSETTO:-0400
TZNAME:EDT
DTSTART:20170312T070000
END:DAYLIGHT
BEGIN:STANDARD
TZOFFSETFROM:-0400
TZOFFSETTO:-0500
TZNAME:EST
DTSTART:20171105T060000
END:STANDARD
END:VTIMEZONE
BEGIN:VEVENT
DTSTART;TZID=America/New_York:20160807T103000
DTEND;TZID=America/New_York:20160807T113000
DTSTAMP:20260422T033326
CREATED:20160725T180728Z
LAST-MODIFIED:20160725T180728Z
UID:10000114-1470565800-1470569400@uucpalisades.org
SUMMARY:COME ON\, GET HAPPY - Deborah Singer Pires
DESCRIPTION:Please join us for today’s service led by UUCP Co-President\, Deborah Singer Pires. What is happiness? How do we find it? What makes us unhappy? Everyone suffers but can we reduce our suffering? Join us to find the answers. \nBring a friend and stay for coffee and light refreshments. We look forward to seeing you! \n \nPoster by: Liandra Pires
URL:https://uucpalisades.org/event/come-on-get-happy-deborah-singer-pires/
LOCATION:Englewood\, 07631\, United States
ORGANIZER;CN="UUCP":MAILTO:Use our contact form on our website
END:VEVENT
END:VCALENDAR