BEGIN:VCALENDAR
VERSION:2.0
PRODID:-// - ECPv6.15.20//NONSGML v1.0//EN
CALSCALE:GREGORIAN
METHOD:PUBLISH
X-ORIGINAL-URL:https://uucpalisades.org
X-WR-CALDESC:Events for 
REFRESH-INTERVAL;VALUE=DURATION:PT1H
X-Robots-Tag:noindex
X-PUBLISHED-TTL:PT1H
BEGIN:VTIMEZONE
TZID:America/New_York
BEGIN:DAYLIGHT
TZOFFSETFROM:-0500
TZOFFSETTO:-0400
TZNAME:EDT
DTSTART:20150308T070000
END:DAYLIGHT
BEGIN:STANDARD
TZOFFSETFROM:-0400
TZOFFSETTO:-0500
TZNAME:EST
DTSTART:20151101T060000
END:STANDARD
BEGIN:DAYLIGHT
TZOFFSETFROM:-0500
TZOFFSETTO:-0400
TZNAME:EDT
DTSTART:20160313T070000
END:DAYLIGHT
BEGIN:STANDARD
TZOFFSETFROM:-0400
TZOFFSETTO:-0500
TZNAME:EST
DTSTART:20161106T060000
END:STANDARD
BEGIN:DAYLIGHT
TZOFFSETFROM:-0500
TZOFFSETTO:-0400
TZNAME:EDT
DTSTART:20170312T070000
END:DAYLIGHT
BEGIN:STANDARD
TZOFFSETFROM:-0400
TZOFFSETTO:-0500
TZNAME:EST
DTSTART:20171105T060000
END:STANDARD
END:VTIMEZONE
BEGIN:VEVENT
DTSTART;TZID=America/New_York:20160703T103000
DTEND;TZID=America/New_York:20160703T113000
DTSTAMP:20260422T052250
CREATED:20160627T204907Z
LAST-MODIFIED:20160628T191802Z
UID:10000104-1467541800-1467545400@uucpalisades.org
SUMMARY:"FOUR SPIRITUAL TEACHERS WALK INTO A BAR..." - Rev. Paul Dodenhoff
DESCRIPTION:Please join us for today’s service led by Rev. Paul Dodenhoff. This is the 1st in a 4 Part series. Some of the greatest conversations\, even spiritual ones\, happen in bars (or coffee houses\, if you prefer.) Even though it’s often the beginning of a joke\, the idea of these four great spiritual teachers sitting around a table having a conversation about spiritual truths is compelling. What would they have to say to each other? Would there be an argument or a calm deep discussion about each of their paths? Would they find common ground? \nToday begins a four-part series considering this scenario and how it relates to our own differing paths and ideas about the life of Spirit. \nPoster by: Liandra Pires
URL:https://uucpalisades.org/event/moses-at-the-bar-rev-paul-dodenhoff/
LOCATION:Englewood\, 07631\, United States
ORGANIZER;CN="UUCP":MAILTO:Use our contact form on our website
END:VEVENT
END:VCALENDAR