BEGIN:VCALENDAR
VERSION:2.0
PRODID:-// - ECPv6.15.20//NONSGML v1.0//EN
CALSCALE:GREGORIAN
METHOD:PUBLISH
X-ORIGINAL-URL:https://uucpalisades.org
X-WR-CALDESC:Events for 
REFRESH-INTERVAL;VALUE=DURATION:PT1H
X-Robots-Tag:noindex
X-PUBLISHED-TTL:PT1H
BEGIN:VTIMEZONE
TZID:America/New_York
BEGIN:DAYLIGHT
TZOFFSETFROM:-0500
TZOFFSETTO:-0400
TZNAME:EDT
DTSTART:20150308T070000
END:DAYLIGHT
BEGIN:STANDARD
TZOFFSETFROM:-0400
TZOFFSETTO:-0500
TZNAME:EST
DTSTART:20151101T060000
END:STANDARD
BEGIN:DAYLIGHT
TZOFFSETFROM:-0500
TZOFFSETTO:-0400
TZNAME:EDT
DTSTART:20160313T070000
END:DAYLIGHT
BEGIN:STANDARD
TZOFFSETFROM:-0400
TZOFFSETTO:-0500
TZNAME:EST
DTSTART:20161106T060000
END:STANDARD
BEGIN:DAYLIGHT
TZOFFSETFROM:-0500
TZOFFSETTO:-0400
TZNAME:EDT
DTSTART:20170312T070000
END:DAYLIGHT
BEGIN:STANDARD
TZOFFSETFROM:-0400
TZOFFSETTO:-0500
TZNAME:EST
DTSTART:20171105T060000
END:STANDARD
END:VTIMEZONE
BEGIN:VEVENT
DTSTART;TZID=America/New_York:20160626T103000
DTEND;TZID=America/New_York:20160626T113000
DTSTAMP:20260422T033325
CREATED:20160603T172558Z
LAST-MODIFIED:20160620T195658Z
UID:10000020-1466937000-1466940600@uucpalisades.org
SUMMARY:SANTERIA - Julio Perez and Judy Manton
DESCRIPTION:Please join us for today’s service led by special guest speaker\, Julio Perez and UUCP member\, Judy Manton. Santeria\, a union of Catholicism and the Yoruba religion of Nigeria was developed during the days of slavery in the Caribbean. Julio Perez and Judy Manton will present the essence of this religion and how it is practiced today\, not only in the Caribbean\, but also in New Jersey.  Julio will speak as a practitioner and Judy\, professor at Fairleigh Dickinson\, will present Santeria from a cultural viewpoint. A colorful altar will enhance our meeting space. \nWe look forward to seeing you! \nPoster by: Liandra Pires
URL:https://uucpalisades.org/event/santeria-julio-perez-and-judy-manton/
LOCATION:Englewood\, 07631\, United States
ORGANIZER;CN="UUCP":MAILTO:Use our contact form on our website
END:VEVENT
END:VCALENDAR