BEGIN:VCALENDAR
VERSION:2.0
PRODID:-// - ECPv6.15.20//NONSGML v1.0//EN
CALSCALE:GREGORIAN
METHOD:PUBLISH
X-ORIGINAL-URL:https://uucpalisades.org
X-WR-CALDESC:Events for 
REFRESH-INTERVAL;VALUE=DURATION:PT1H
X-Robots-Tag:noindex
X-PUBLISHED-TTL:PT1H
BEGIN:VTIMEZONE
TZID:America/New_York
BEGIN:DAYLIGHT
TZOFFSETFROM:-0500
TZOFFSETTO:-0400
TZNAME:EDT
DTSTART:20150308T070000
END:DAYLIGHT
BEGIN:STANDARD
TZOFFSETFROM:-0400
TZOFFSETTO:-0500
TZNAME:EST
DTSTART:20151101T060000
END:STANDARD
BEGIN:DAYLIGHT
TZOFFSETFROM:-0500
TZOFFSETTO:-0400
TZNAME:EDT
DTSTART:20160313T070000
END:DAYLIGHT
BEGIN:STANDARD
TZOFFSETFROM:-0400
TZOFFSETTO:-0500
TZNAME:EST
DTSTART:20161106T060000
END:STANDARD
BEGIN:DAYLIGHT
TZOFFSETFROM:-0500
TZOFFSETTO:-0400
TZNAME:EDT
DTSTART:20170312T070000
END:DAYLIGHT
BEGIN:STANDARD
TZOFFSETFROM:-0400
TZOFFSETTO:-0500
TZNAME:EST
DTSTART:20171105T060000
END:STANDARD
END:VTIMEZONE
BEGIN:VEVENT
DTSTART;TZID=America/New_York:20160619T103000
DTEND;TZID=America/New_York:20160619T113000
DTSTAMP:20260422T052224
CREATED:20160603T172847Z
LAST-MODIFIED:20160603T173124Z
UID:10000101-1466332200-1466335800@uucpalisades.org
SUMMARY:SURFING ON SAND - Rev. Paul Dodenhoff
DESCRIPTION:Please join us for today’s service led by Rev. Paul Dodenhoff. We are living in times of uncertainty\, times when the winds are causing the cultural and spiritual sands to shift. Today we’ll consider the times we live in and how the rules of surfing can help us to ride those shifting sands. \nStay for coffee and light refreshments. We look forward to seeing you! \nPoster by: Liandra Pires
URL:https://uucpalisades.org/event/surfing-on-sand-rev-paul-dodenhoff/
LOCATION:Englewood\, 07631\, United States
ORGANIZER;CN="UUCP":MAILTO:Use our contact form on our website
END:VEVENT
BEGIN:VEVENT
DTSTART;TZID=America/New_York:20160624T190000
DTEND;TZID=America/New_York:20160624T210000
DTSTAMP:20260422T052224
CREATED:20160614T204416Z
LAST-MODIFIED:20160614T204416Z
UID:10000102-1466794800-1466802000@uucpalisades.org
SUMMARY:AN EVENING OF IMPROV
DESCRIPTION:Join the fun on Friday\, June 24th at 7:00 PM for An Evening of Improv. Micki Shilan\, voted the funniest female in New Jersey and professionally known as the Varicose Vixen\, will lead us in an evening of improvisational theater. Without scripts or preparation\, we’ll act out different situations. No need to have any acting experience. Anybody can do it!  The idea is to have fun and LAUGH!! \nAt The Unitarian Universalist Congregation of the Palisades! Bring a friend or family member.  Guaranteed laughter! \nLight Refreshments will be served. Suggested donation\, $5.00. \nMicki Shilan has been doing stand up and improv at New York and New Jersey Comedy Clubs since 1998. She can be seen at BergenPac in Ladies of Laughter on July 21st. \nPoster by: Liandra Pires
URL:https://uucpalisades.org/event/an-evening-of-improv/
ORGANIZER;CN="UUCP":MAILTO:Use our contact form on our website
END:VEVENT
END:VCALENDAR