BEGIN:VCALENDAR
VERSION:2.0
PRODID:-// - ECPv6.15.20//NONSGML v1.0//EN
CALSCALE:GREGORIAN
METHOD:PUBLISH
X-ORIGINAL-URL:https://uucpalisades.org
X-WR-CALDESC:Events for 
REFRESH-INTERVAL;VALUE=DURATION:PT1H
X-Robots-Tag:noindex
X-PUBLISHED-TTL:PT1H
BEGIN:VTIMEZONE
TZID:America/New_York
BEGIN:DAYLIGHT
TZOFFSETFROM:-0500
TZOFFSETTO:-0400
TZNAME:EDT
DTSTART:20150308T070000
END:DAYLIGHT
BEGIN:STANDARD
TZOFFSETFROM:-0400
TZOFFSETTO:-0500
TZNAME:EST
DTSTART:20151101T060000
END:STANDARD
BEGIN:DAYLIGHT
TZOFFSETFROM:-0500
TZOFFSETTO:-0400
TZNAME:EDT
DTSTART:20160313T070000
END:DAYLIGHT
BEGIN:STANDARD
TZOFFSETFROM:-0400
TZOFFSETTO:-0500
TZNAME:EST
DTSTART:20161106T060000
END:STANDARD
BEGIN:DAYLIGHT
TZOFFSETFROM:-0500
TZOFFSETTO:-0400
TZNAME:EDT
DTSTART:20170312T070000
END:DAYLIGHT
BEGIN:STANDARD
TZOFFSETFROM:-0400
TZOFFSETTO:-0500
TZNAME:EST
DTSTART:20171105T060000
END:STANDARD
END:VTIMEZONE
BEGIN:VEVENT
DTSTART;TZID=America/New_York:20160612T000000
DTEND;TZID=America/New_York:20160612T133000
DTSTAMP:20260422T070214
CREATED:20160124T204204Z
LAST-MODIFIED:20160124T204204Z
UID:10000084-1465689600-1465738200@uucpalisades.org
SUMMARY:Annual Meeting
DESCRIPTION:
URL:https://uucpalisades.org/event/annual-meeting/
LOCATION:Englewood\, 07631\, United States
CATEGORIES:Team Meetings
ORGANIZER;CN="UUCP":MAILTO:Use our contact form on our website
END:VEVENT
BEGIN:VEVENT
DTSTART;TZID=America/New_York:20160612T103000
DTEND;TZID=America/New_York:20160612T113000
DTSTAMP:20260422T070214
CREATED:20160426T205949Z
LAST-MODIFIED:20160427T144100Z
UID:10000016-1465727400-1465731000@uucpalisades.org
SUMMARY:ICARUS AND OEDIPUS: WHY MYTH MATTERS - Rev. Paul Dodenhoff
DESCRIPTION:Please join us for today’s service led by Rev. Paul Dodenhoff. “Myths are clues to the spiritual potentialities of the human life\,” wrote the mythologist Joseph Campbell. Today we’ll consider two of the most widely-known myths and how an understanding of them and of other myths can help us in understanding the personal myths of our own lives. \nBring a friend and stay for coffee and light refreshments. We look forward to seeing you! \nPoster by: Liandra Pires
URL:https://uucpalisades.org/event/icarus-and-oedipus-why-myth-matters-rev-paul-dodenhoff/
LOCATION:Englewood\, 07631\, United States
ORGANIZER;CN="UUCP":MAILTO:Use our contact form on our website
END:VEVENT
BEGIN:VEVENT
DTSTART;TZID=America/New_York:20160612T120000
DTEND;TZID=America/New_York:20160612T130000
DTSTAMP:20260422T070214
CREATED:20160313T195943Z
LAST-MODIFIED:20160313T195943Z
UID:10000094-1465732800-1465736400@uucpalisades.org
SUMMARY:Annual Meeting
DESCRIPTION:
URL:https://uucpalisades.org/event/annual-meeting-2/
LOCATION:Englewood\, 07631\, United States
ORGANIZER;CN="UUCP":MAILTO:Use our contact form on our website
END:VEVENT
BEGIN:VEVENT
DTSTART;TZID=America/New_York:20160616T190000
DTEND;TZID=America/New_York:20160616T210000
DTSTAMP:20260422T070214
CREATED:20160124T204056Z
LAST-MODIFIED:20160124T204056Z
UID:10000083-1466103600-1466110800@uucpalisades.org
SUMMARY:Board of Trustees Meeting
DESCRIPTION:
URL:https://uucpalisades.org/event/board-of-trustees-meeting-4/
ORGANIZER;CN="UUCP":MAILTO:Use our contact form on our website
END:VEVENT
END:VCALENDAR