BEGIN:VCALENDAR
VERSION:2.0
PRODID:-// - ECPv6.15.20//NONSGML v1.0//EN
CALSCALE:GREGORIAN
METHOD:PUBLISH
X-ORIGINAL-URL:https://uucpalisades.org
X-WR-CALDESC:Events for 
REFRESH-INTERVAL;VALUE=DURATION:PT1H
X-Robots-Tag:noindex
X-PUBLISHED-TTL:PT1H
BEGIN:VTIMEZONE
TZID:America/New_York
BEGIN:DAYLIGHT
TZOFFSETFROM:-0500
TZOFFSETTO:-0400
TZNAME:EDT
DTSTART:20150308T070000
END:DAYLIGHT
BEGIN:STANDARD
TZOFFSETFROM:-0400
TZOFFSETTO:-0500
TZNAME:EST
DTSTART:20151101T060000
END:STANDARD
BEGIN:DAYLIGHT
TZOFFSETFROM:-0500
TZOFFSETTO:-0400
TZNAME:EDT
DTSTART:20160313T070000
END:DAYLIGHT
BEGIN:STANDARD
TZOFFSETFROM:-0400
TZOFFSETTO:-0500
TZNAME:EST
DTSTART:20161106T060000
END:STANDARD
BEGIN:DAYLIGHT
TZOFFSETFROM:-0500
TZOFFSETTO:-0400
TZNAME:EDT
DTSTART:20170312T070000
END:DAYLIGHT
BEGIN:STANDARD
TZOFFSETFROM:-0400
TZOFFSETTO:-0500
TZNAME:EST
DTSTART:20171105T060000
END:STANDARD
END:VTIMEZONE
BEGIN:VEVENT
DTSTART;TZID=America/New_York:20160327T103000
DTEND;TZID=America/New_York:20160327T113000
DTSTAMP:20260422T083508
CREATED:20160306T190629Z
LAST-MODIFIED:20160323T175615Z
UID:10000091-1459074600-1459078200@uucpalisades.org
SUMMARY:EASTER AND EMPTINESS - REV. PAUL DODENHOFF
DESCRIPTION:Please join us for today’s service led by Rev. Paul Dodenhoff. Easter is about resurrection. But Easter is also about emptiness. Without it\, there is no resurrection! Join us as we consider the Easter story and its meaning for us in our daily lives. \nBring a friend and stay for coffee and light refreshments. We look forward to seeing you! \n \n 
URL:https://uucpalisades.org/event/easter-and-emptiness-rev-paul-dodenhoff/
LOCATION:Englewood\, 07631\, United States
ORGANIZER;CN="UUCP":MAILTO:Use our contact form on our website
END:VEVENT
BEGIN:VEVENT
DTSTART;TZID=America/New_York:20160328T170000
DTEND;TZID=America/New_York:20160328T190000
DTSTAMP:20260422T083508
CREATED:20160308T171242Z
LAST-MODIFIED:20160308T171505Z
UID:10000092-1459184400-1459191600@uucpalisades.org
SUMMARY:FABULOUS FABRICS FROM FIVE CONTINENTS EXHIBIT
DESCRIPTION:“Fabulous Fabrics from Five Continents” collected by Judy Manton\, adjunct professor of cross-cultural studies at Fairleigh Dickinson University\, will be exhibited at the Southeast Senior Center for Independent Living (SESCIL) March 28th thru April 10th. The exhibit is being co-sponsored by the Unitarian Universalist Congregation of the Palisades which holds its Sunday morning meetings at SESCIL. \nMost of the fabrics are hand-woven or hand decorated. Techniques include tie dye\, batik\, applique\, hand-printing and embroidery on silk\, cotton\, bark cloth and goat hair. Some of the extraordinary pieces are a Coptic cotton fragment\, intensely embroidered wedding kurtas from the Sindh in Pakistan\, exquisite embroidered pieces from minority areas in China and Judy’s heirloom which is a handwoven\, wool bedspread dating back to 1848. Other special pieces are a silk applique of the eight precious treasures of Buddhism made for Manton in a monastery in Tibet and pictorial story cloth made in a refugee camp by a woman from Laos who embroidered her escape from the Pathet Lao. \nThe opening night event on March 28th from 5:00 – 7:00 p.m. will feature not only a power point presentation by Manton showing fabric artists at work around the world\, but also a trousseau of Turkish fabrics inherited by Irene Danis-Kremen\, former textile designer and stylist. Refreshments will be served. For reservations\, call (SESCIL) at 201-569-4080. \nEXHIBIT HOURS THROUGH APRIL 10th: \nTuesdays & Thursdays – 2:30-4:00 \nFridays – 3:00-4:00 \nSaturdays – 1:00-4:00 \nSundays – 1:00-4:00 \nPoster by: Liandra Pires \n 
URL:https://uucpalisades.org/event/fabulous-fabrics-from-five-continents-exhibit-judy-manton/
LOCATION:Englewood\, 07631\, United States
ORGANIZER;CN="UUCP":MAILTO:Use our contact form on our website
END:VEVENT
END:VCALENDAR