BEGIN:VCALENDAR
VERSION:2.0
PRODID:-// - ECPv6.15.20//NONSGML v1.0//EN
CALSCALE:GREGORIAN
METHOD:PUBLISH
X-ORIGINAL-URL:https://uucpalisades.org
X-WR-CALDESC:Events for 
REFRESH-INTERVAL;VALUE=DURATION:PT1H
X-Robots-Tag:noindex
X-PUBLISHED-TTL:PT1H
BEGIN:VTIMEZONE
TZID:America/New_York
BEGIN:DAYLIGHT
TZOFFSETFROM:-0500
TZOFFSETTO:-0400
TZNAME:EDT
DTSTART:20150308T070000
END:DAYLIGHT
BEGIN:STANDARD
TZOFFSETFROM:-0400
TZOFFSETTO:-0500
TZNAME:EST
DTSTART:20151101T060000
END:STANDARD
BEGIN:DAYLIGHT
TZOFFSETFROM:-0500
TZOFFSETTO:-0400
TZNAME:EDT
DTSTART:20160313T070000
END:DAYLIGHT
BEGIN:STANDARD
TZOFFSETFROM:-0400
TZOFFSETTO:-0500
TZNAME:EST
DTSTART:20161106T060000
END:STANDARD
BEGIN:DAYLIGHT
TZOFFSETFROM:-0500
TZOFFSETTO:-0400
TZNAME:EDT
DTSTART:20170312T070000
END:DAYLIGHT
BEGIN:STANDARD
TZOFFSETFROM:-0400
TZOFFSETTO:-0500
TZNAME:EST
DTSTART:20171105T060000
END:STANDARD
END:VTIMEZONE
BEGIN:VEVENT
DTSTART;TZID=America/New_York:20160320T103000
DTEND;TZID=America/New_York:20160320T113000
DTSTAMP:20260422T101614
CREATED:20160222T164738Z
LAST-MODIFIED:20160222T164738Z
UID:10000009-1458469800-1458473400@uucpalisades.org
SUMMARY:THINKING ABOUT THINKING - Rev. Paul Dodenhoff
DESCRIPTION:Please join us for today’s service led by Rev. Paul Dodenhoff. “Our life is shaped by our mind; we become what we think\,” said the Buddha. Thoughts have power. But do they actually create our reality? Today we’ll think about what the Buddha and others have taught about the power of thought and just what that means – and doesn’t mean – in our daily lives. \nBring a friend and stay for coffee and light refreshments. We look forward to seeing you! \nPoster by: Liandra Pires
URL:https://uucpalisades.org/event/thinking-about-thinking-rev-paul-dodenhoff/
LOCATION:Englewood\, 07631\, United States
ORGANIZER;CN="UUCP":MAILTO:Use our contact form on our website
END:VEVENT
BEGIN:VEVENT
DTSTART;TZID=America/New_York:20160325T193000
DTEND;TZID=America/New_York:20160325T220000
DTSTAMP:20260422T101614
CREATED:20160319T171753Z
LAST-MODIFIED:20160319T171753Z
UID:10000096-1458934200-1458943200@uucpalisades.org
SUMMARY:JOURNEY OF THE UNIVERSE: An Epic Story of Cosmic\, Earth\, and Human Transformation
DESCRIPTION:Please join the Unitarian Universalist Congregation of the Palisades (UUCP) for a screening of the EMMY® Award-Winning Film for Best Documentary\, “Journey of the Universe.” Acclaimed author and evolutionary philosopher Brian Thomas Swimme talks about our role as humans in this awe-inspiring universe\, and his insights will light up the night skies. As the host\, co-writer\, and fellow traveler\, he shares his infectious curiosity about life’s biggest questions in the epic JOURNEY OF THE UNIVERSE. \nUsing his skills as a masterful storyteller\, Swimme connects such big picture issues as the birth of the cosmos 14 billion years ago – to the invisible frontiers of the human genome – as well as to our current impact on Earth’s evolutionary dynamics. Through his engaging and thoughtful observations audiences everywhere will discover the profound role we play in this intricate web of life. \nFrom the Big Bang to the epic impact humans have on the planet today\, this film is designed to inspire a new and closer relationship with Earth in a period of growing environmental and social crisis. \nBring a friend and stay for a discussion after the film and light refreshments. We look forward to seeing you! \nPoster by: Liandra Pires
URL:https://uucpalisades.org/event/journey-of-the-universe-an-epic-story-of-cosmic-earth-and-human-transformation/
LOCATION:Englewood\, 07631\, United States
END:VEVENT
END:VCALENDAR