BEGIN:VCALENDAR
VERSION:2.0
PRODID:-// - ECPv6.15.20//NONSGML v1.0//EN
CALSCALE:GREGORIAN
METHOD:PUBLISH
X-ORIGINAL-URL:https://uucpalisades.org
X-WR-CALDESC:Events for 
REFRESH-INTERVAL;VALUE=DURATION:PT1H
X-Robots-Tag:noindex
X-PUBLISHED-TTL:PT1H
BEGIN:VTIMEZONE
TZID:America/New_York
BEGIN:DAYLIGHT
TZOFFSETFROM:-0500
TZOFFSETTO:-0400
TZNAME:EDT
DTSTART:20150308T070000
END:DAYLIGHT
BEGIN:STANDARD
TZOFFSETFROM:-0400
TZOFFSETTO:-0500
TZNAME:EST
DTSTART:20151101T060000
END:STANDARD
BEGIN:DAYLIGHT
TZOFFSETFROM:-0500
TZOFFSETTO:-0400
TZNAME:EDT
DTSTART:20160313T070000
END:DAYLIGHT
BEGIN:STANDARD
TZOFFSETFROM:-0400
TZOFFSETTO:-0500
TZNAME:EST
DTSTART:20161106T060000
END:STANDARD
BEGIN:DAYLIGHT
TZOFFSETFROM:-0500
TZOFFSETTO:-0400
TZNAME:EDT
DTSTART:20170312T070000
END:DAYLIGHT
BEGIN:STANDARD
TZOFFSETFROM:-0400
TZOFFSETTO:-0500
TZNAME:EST
DTSTART:20171105T060000
END:STANDARD
END:VTIMEZONE
BEGIN:VEVENT
DTSTART;TZID=America/New_York:20160117T103000
DTEND;TZID=America/New_York:20160117T113000
DTSTAMP:20260422T151845
CREATED:20151228T191008Z
LAST-MODIFIED:20160108T013518Z
UID:10000086-1453026600-1453030200@uucpalisades.org
SUMMARY:FACING THE FACTS ABOUT RELIGION AND VIOLENCE - Rev. Paul Dodenhoff
DESCRIPTION:Please join us for today’s service led by Rev. Paul Dodenhoff. Is religion responsible for most of the violence in the world? Is Islam a violent religion? What about Christianity\, Judaism\, Hinduism? Is any religion free from violence? Is violence only physical or are there other forms of violence?\nToday we’ll consider those and other questions and try to make some sense of a topic that is increasingly in the news. \nBring a friend and stay for coffee and great conversation. We look forward to seeing you! \nPoster by: Bonnie Savitz
URL:https://uucpalisades.org/event/facing-the-facts-about-religion-and-violence-rev-paul-dodenhoff/
LOCATION:Englewood\, 07631\, United States
ORGANIZER;CN="UUCP":MAILTO:Use our contact form on our website
END:VEVENT
BEGIN:VEVENT
DTSTART;TZID=America/New_York:20160122T190000
DTEND;TZID=America/New_York:20160122T213000
DTSTAMP:20260422T151845
CREATED:20160114T195143Z
LAST-MODIFIED:20160114T201227Z
UID:10000085-1453489200-1453498200@uucpalisades.org
SUMMARY:EMERSON: THE IDEAL IN AMERICA (DOCUMENTARY)
DESCRIPTION:On Friday\, January 22nd at 7:00 PM\, UUCP will be hosting a viewing of the documentary\, “Emerson: The Ideal in America”. Please join us! \nRalph Waldo Emerson\, American essayist\, lecturer and poet who led the Transcendentalist movement of the mid-19th century is still seen today as a champion of individualism. His belief in “the infinitude of the private man” still resonates with spiritual seekers today. Most people know Emerson’s essay\, “Self-Reliance\,” but there is much more to the fascinating life of the man and his circle\, which included Henry David Thoreau\, Walt Whitman\, and Margaret Fuller. You will never look at Emerson – or yourself – quite the same way again. \n“Why should we not also enjoy an original relation to the universe? Why should we not have a poetry and philosophy of insight and not of tradition\, and a religion by revelation to us\, and not the history of theirs?” (Nature\, 1836) \nBring a friend. We look forward to seeing you! \nPoster by: Bonnie Savitz \n 
URL:https://uucpalisades.org/event/emerson-the-ideal-in-america-documentary/
LOCATION:Englewood\, 07631\, United States
ORGANIZER;CN="UUCP":MAILTO:Use our contact form on our website
END:VEVENT
END:VCALENDAR