BEGIN:VCALENDAR
VERSION:2.0
PRODID:-// - ECPv6.15.20//NONSGML v1.0//EN
CALSCALE:GREGORIAN
METHOD:PUBLISH
X-ORIGINAL-URL:https://uucpalisades.org
X-WR-CALDESC:Events for 
REFRESH-INTERVAL;VALUE=DURATION:PT1H
X-Robots-Tag:noindex
X-PUBLISHED-TTL:PT1H
BEGIN:VTIMEZONE
TZID:America/New_York
BEGIN:DAYLIGHT
TZOFFSETFROM:-0500
TZOFFSETTO:-0400
TZNAME:EDT
DTSTART:20140309T070000
END:DAYLIGHT
BEGIN:STANDARD
TZOFFSETFROM:-0400
TZOFFSETTO:-0500
TZNAME:EST
DTSTART:20141102T060000
END:STANDARD
BEGIN:DAYLIGHT
TZOFFSETFROM:-0500
TZOFFSETTO:-0400
TZNAME:EDT
DTSTART:20150308T070000
END:DAYLIGHT
BEGIN:STANDARD
TZOFFSETFROM:-0400
TZOFFSETTO:-0500
TZNAME:EST
DTSTART:20151101T060000
END:STANDARD
BEGIN:DAYLIGHT
TZOFFSETFROM:-0500
TZOFFSETTO:-0400
TZNAME:EDT
DTSTART:20160313T070000
END:DAYLIGHT
BEGIN:STANDARD
TZOFFSETFROM:-0400
TZOFFSETTO:-0500
TZNAME:EST
DTSTART:20161106T060000
END:STANDARD
END:VTIMEZONE
BEGIN:VEVENT
DTSTART;TZID=America/New_York:20151108T103000
DTEND;TZID=America/New_York:20151108T113000
DTSTAMP:20260422T184602
CREATED:20151027T160128Z
LAST-MODIFIED:20220528T004812Z
UID:10000057-1446978600-1446982200@uucpalisades.org
SUMMARY:HEALING THE WORLD - ONE INNER CHILD AT A TIME - Dr. Jay Kantor
DESCRIPTION:Please join us for today’s service led by special guest speaker\, Dr. Jay Kantor. Each of us has an Inner Child\, an aspect of our mind created in childhood that lasts a lifetime. If we were hurt in childhood\, our Inner Child lives with that trauma until we heal it\, no matter how long it takes. Healing and nurturing a wounded Inner Child – learning what it really means to love ourselves unconditionally – is the critical step in a person’s spiritual development we will explore today. \nDr. Jay Kantor holds a Ph.D. in Psychology from Columbia University and began utilizing the Inner Child concept in 1990 to help people overcome the effects of inadequate parenting and parental abuse.  Jay combines the use of Inner Child Psychology with other forms of energy and spiritual healing to help people overcome long-term emotional\, psychological\, and relationship problems\, which have not responded to talk or drug therapies. \nBring a friend and stay for coffee and great conversation. We look forward to seeing you! \nPoster by: Bonnie Savitz
URL:https://uucpalisades.org/event/healing-the-world-one-inner-child-at-a-time-dr-jay-kantor/
LOCATION:
END:VEVENT
BEGIN:VEVENT
DTSTART;VALUE=DATE:20151114
DTEND;VALUE=DATE:20151115
DTSTAMP:20260422T184602
CREATED:20150903T165930Z
LAST-MODIFIED:20150903T165930Z
UID:10000027-1447459200-1447545599@uucpalisades.org
SUMMARY:15TH Annual Unitarian Universalist Outreach Auction
DESCRIPTION:SATURDAY\, NOVEMBER 14\, 2015 \nCENTRAL UNITARIAN CHURCH \n15 FOREST AVENUE \nPARAMUS\, NJ  07652 \n  \nThis gala event has raised over $400\,000 since 2000 for Bergen County Charities with 100% of the proceeds going to the selected charities.  The 2015 charities include: \n  \nShelter our Sisters \nCenter for Food Action \nCourt Appointed Special Advocates (CASA) \nHolley Childcare & Development Center \nChildren’s Aid and Family Services \nFamily Promise of Bergen County \n  \nThe Outreach Auction features a live auction as well as a Trick Tray and includes live entertainment and hors d’oeuvres. \n  \nBe sure to SAVE THE DATE for this very important and worthwhile event that benefits our friends and neighbors in need in Bergen County.  When we work together\, we are greater than the sum of our parts! \n  \nFor more information\, contact uuoutreachauction@gmail.com.
URL:https://uucpalisades.org/event/15th-annual-unitarian-universalist-outreach-auction/
ORGANIZER;CN="Unnamed Organizer":MAILTO:uuoutreachauction@gmail.com
END:VEVENT
BEGIN:VEVENT
DTSTART;TZID=America/New_York:20151114T183000
DTEND;TZID=America/New_York:20151114T220000
DTSTAMP:20260422T184602
CREATED:20150903T170219Z
LAST-MODIFIED:20151027T160951Z
UID:10000029-1447525800-1447538400@uucpalisades.org
SUMMARY:15TH ANNUAL UNITARIAN UNIVERSALIST OUTREACH AUCTION
DESCRIPTION:Saturday\, November 14\n6:30 PM\nCentral Unitarian Church\n156 Forest Avenue\nParamus\, NJ\n\nWhat is the Outreach Auction? \n\nThis gala evening features a live auction as well as a tricky tray and is sponsored by three congregations in Bergen County:\n\nCentral Unitarian Church\nUnitarian Society of Ridgewood\nUnitarian Universalist Congregation of the Palisades\n\nwith 100% of the proceeds going to selected charities. The charities are selected based on the impact they have on those in need in Bergen County\, regardless of religious affiliation. \n\nOur first Outreach Auction was held in 2000. Over the years\, this brainchild of Central Unitarian Church has grown to include two additional congregations\, and has raised more than $400\,000 to support Bergen County charities. The auction raises money with bids from $10 to $1\,000\, demonstrating that when we work together\, we are greater than the sum of our parts. \n\nThe auction is an annual event calling upon members\, friends\, businesses and the local community for support. \n\nTickets: $30 (Includes hors d’oeuvres\, beverages\, coffee\, dessert\, and a free sheet of tricky tray tickets valued at $15)\nSelected Causes and Charities for 2015 \n(1) Providing Safe Housing\nCenter for Hope and Safety provides access to safe housing and services for women and children forced to ﬂee their homes due to domestic violence.\n(2) Reducing Hunger\nCenter for Food Action provides food and homelessness prevention assistance at five locations.\n(3) Escaping Poverty\nFamily Promise of Bergen County provides shelter for families\, walk-in dinners for 120 people daily\, transitional housing and other services.\n(4) Advocacy for Children\nCourt Appointed Special Advocates (CASA) support and promote court-appointed volunteer advocacy for abused and neglected children.\n(5) Assisting Children in Need\nHolley Childcare and Development Center is a 55-bed residential treatment facility\, serving children 5 to 12 years old who are emotionally handicapped as a result of abuse\, neglect\, poverty\, abandonment or other circumstances.\n(6) Providing Services for Children\nChildren’s Aid and Family Services provides human services and child welfare programs\, including adoption and foster care for children who have been abused and traumatized.\nFor more information\, contact uuoutreachauction@gmail.com.
URL:https://uucpalisades.org/event/15th-annual-unitarian-universalist-outreach-auction-2/
END:VEVENT
END:VCALENDAR