BEGIN:VCALENDAR
VERSION:2.0
PRODID:-// - ECPv6.15.20//NONSGML v1.0//EN
CALSCALE:GREGORIAN
METHOD:PUBLISH
X-ORIGINAL-URL:https://uucpalisades.org
X-WR-CALDESC:Events for 
REFRESH-INTERVAL;VALUE=DURATION:PT1H
X-Robots-Tag:noindex
X-PUBLISHED-TTL:PT1H
BEGIN:VTIMEZONE
TZID:America/New_York
BEGIN:DAYLIGHT
TZOFFSETFROM:-0500
TZOFFSETTO:-0400
TZNAME:EDT
DTSTART:20140309T070000
END:DAYLIGHT
BEGIN:STANDARD
TZOFFSETFROM:-0400
TZOFFSETTO:-0500
TZNAME:EST
DTSTART:20141102T060000
END:STANDARD
BEGIN:DAYLIGHT
TZOFFSETFROM:-0500
TZOFFSETTO:-0400
TZNAME:EDT
DTSTART:20150308T070000
END:DAYLIGHT
BEGIN:STANDARD
TZOFFSETFROM:-0400
TZOFFSETTO:-0500
TZNAME:EST
DTSTART:20151101T060000
END:STANDARD
BEGIN:DAYLIGHT
TZOFFSETFROM:-0500
TZOFFSETTO:-0400
TZNAME:EDT
DTSTART:20160313T070000
END:DAYLIGHT
BEGIN:STANDARD
TZOFFSETFROM:-0400
TZOFFSETTO:-0500
TZNAME:EST
DTSTART:20161106T060000
END:STANDARD
END:VTIMEZONE
BEGIN:VEVENT
DTSTART;TZID=America/New_York:20150830T103000
DTEND;TZID=America/New_York:20150830T113000
DTSTAMP:20260422T202543
CREATED:20150720T212358Z
LAST-MODIFIED:20150804T191523Z
UID:10000049-1440930600-1440934200@uucpalisades.org
SUMMARY:HONORING THE INHERENT WORTH AND DIGNITY OF PEOPLE OF ALL AGES - Arlene Holpp Scalaa
DESCRIPTION:Poster By: Bonnie Savitz \nPlease join us for today’s service led by UUCP Co-President\, Arlene Holpp Scalaa. This service will draw on the First Unitarian Universalist Principle to address ageism\, discrimination against the young and the old. Internalized oppression\, particularly among older adults\, will be addressed.
URL:https://uucpalisades.org/event/honoring-the-inherent-worth-and-dignity-of-people-of-all-ages-arlene-holpp-scalaa/
LOCATION:Englewood\, 07631\, United States
END:VEVENT
END:VCALENDAR