BEGIN:VCALENDAR
VERSION:2.0
PRODID:-// - ECPv6.15.20//NONSGML v1.0//EN
CALSCALE:GREGORIAN
METHOD:PUBLISH
X-ORIGINAL-URL:https://uucpalisades.org
X-WR-CALDESC:Events for 
REFRESH-INTERVAL;VALUE=DURATION:PT1H
X-Robots-Tag:noindex
X-PUBLISHED-TTL:PT1H
BEGIN:VTIMEZONE
TZID:America/New_York
BEGIN:DAYLIGHT
TZOFFSETFROM:-0500
TZOFFSETTO:-0400
TZNAME:EDT
DTSTART:20140309T070000
END:DAYLIGHT
BEGIN:STANDARD
TZOFFSETFROM:-0400
TZOFFSETTO:-0500
TZNAME:EST
DTSTART:20141102T060000
END:STANDARD
BEGIN:DAYLIGHT
TZOFFSETFROM:-0500
TZOFFSETTO:-0400
TZNAME:EDT
DTSTART:20150308T070000
END:DAYLIGHT
BEGIN:STANDARD
TZOFFSETFROM:-0400
TZOFFSETTO:-0500
TZNAME:EST
DTSTART:20151101T060000
END:STANDARD
BEGIN:DAYLIGHT
TZOFFSETFROM:-0500
TZOFFSETTO:-0400
TZNAME:EDT
DTSTART:20160313T070000
END:DAYLIGHT
BEGIN:STANDARD
TZOFFSETFROM:-0400
TZOFFSETTO:-0500
TZNAME:EST
DTSTART:20161106T060000
END:STANDARD
END:VTIMEZONE
BEGIN:VEVENT
DTSTART;TZID=America/New_York:20150329T103000
DTEND;TZID=America/New_York:20150329T233000
DTSTAMP:20260423T043503
CREATED:20150324T121508Z
LAST-MODIFIED:20150324T121508Z
UID:10000043-1427625000-1427671800@uucpalisades.org
SUMMARY:Learn the meaning of Passover and its relevance to us as Unitarian Universalists
DESCRIPTION:Instead of our usual service format\, we will experience the Jewish holiday of Passover with a traditional Seder. Learn the meaning of Passover and its relevance to us as Unitarian Universalists. Please bring a dish to share\, but please do not bring food items made with pork\, shellfish\, or bread. Please be on time to be seated at the table in order to not disrupt the service after it has begun. All are welcome: bring family and friends.
URL:https://uucpalisades.org/event/learn-the-meaning-of-passover-and-its-relevance-to-us-as-unitarian-universalists/
LOCATION:Englewood\, 07631\, United States
END:VEVENT
END:VCALENDAR