BEGIN:VCALENDAR
VERSION:2.0
PRODID:-// - ECPv6.15.20//NONSGML v1.0//EN
CALSCALE:GREGORIAN
METHOD:PUBLISH
X-ORIGINAL-URL:https://uucpalisades.org
X-WR-CALDESC:Events for 
REFRESH-INTERVAL;VALUE=DURATION:PT1H
X-Robots-Tag:noindex
X-PUBLISHED-TTL:PT1H
BEGIN:VTIMEZONE
TZID:America/New_York
BEGIN:DAYLIGHT
TZOFFSETFROM:-0500
TZOFFSETTO:-0400
TZNAME:EDT
DTSTART:20170312T070000
END:DAYLIGHT
BEGIN:STANDARD
TZOFFSETFROM:-0400
TZOFFSETTO:-0500
TZNAME:EST
DTSTART:20171105T060000
END:STANDARD
BEGIN:DAYLIGHT
TZOFFSETFROM:-0500
TZOFFSETTO:-0400
TZNAME:EDT
DTSTART:20180311T070000
END:DAYLIGHT
BEGIN:STANDARD
TZOFFSETFROM:-0400
TZOFFSETTO:-0500
TZNAME:EST
DTSTART:20181104T060000
END:STANDARD
BEGIN:DAYLIGHT
TZOFFSETFROM:-0500
TZOFFSETTO:-0400
TZNAME:EDT
DTSTART:20190310T070000
END:DAYLIGHT
BEGIN:STANDARD
TZOFFSETFROM:-0400
TZOFFSETTO:-0500
TZNAME:EST
DTSTART:20191103T060000
END:STANDARD
END:VTIMEZONE
BEGIN:VEVENT
DTSTART;TZID=America/New_York:20181104T103000
DTEND;TZID=America/New_York:20181104T113000
DTSTAMP:20260419T201722
CREATED:20181024T211332Z
LAST-MODIFIED:20181024T211332Z
UID:10000143-1541327400-1541331000@uucpalisades.org
SUMMARY:HAVE YOU BEEN LIVING IN A CAVE? - Rev. Paul Dodenhoff
DESCRIPTION:Please join UUCP today for our service at 10:30 a.m. led by Rev. Paul Dodenhoff. What is real and what isn’t? Is reality subjective or objective? How do we think about and approach the search for reality in a Reality TV day and age? Join us today as we explore what Plato had to say about Reality and consider how we can apply his ideas to our own lives. \nBring a friend and stay for coffee and light refreshments. We look forward to seeing you! \nPoster by: Liandra Pires
URL:https://uucpalisades.org/event/have-you-been-living-in-a-cave-rev-paul-dodenhoff/
LOCATION:Englewood\, 07631\, United States
ORGANIZER;CN="UUCP":MAILTO:Use our contact form on our website
END:VEVENT
BEGIN:VEVENT
DTSTART;TZID=America/New_York:20181111T103000
DTEND;TZID=America/New_York:20181111T113000
DTSTAMP:20260419T201722
CREATED:20181031T154652Z
LAST-MODIFIED:20181031T154652Z
UID:10000145-1541932200-1541935800@uucpalisades.org
SUMMARY:POST ELECTION POETRY - Deborah Singer Pires
DESCRIPTION:Please join UUCP for today’s service at 10:30 a.m. led by UUCP Co-President\, Deborah Singer Pires. Whatever the outcome of the election\, come share your feelings by reading a poem. If you are trying to get away from politics\, then you can share a poem about autumn. \nBring a friend and stay for coffee and light refreshments. We look forward to seeing you! \nPoster by: Liandra Pires
URL:https://uucpalisades.org/event/post-election-poetry-deborah-singer-pires/
LOCATION:Englewood\, 07631\, United States
ORGANIZER;CN="UUCP":MAILTO:Use our contact form on our website
END:VEVENT
BEGIN:VEVENT
DTSTART;TZID=America/New_York:20181111T120000
DTEND;TZID=America/New_York:20181111T130000
DTSTAMP:20260419T201722
CREATED:20181029T194418Z
LAST-MODIFIED:20181029T194418Z
UID:10000144-1541937600-1541941200@uucpalisades.org
SUMMARY:UUCP Racial & Social Justice Team Meeting
DESCRIPTION:Hello UUCP Members and Friends\, \nPlease join the UUCP Racial & Social Justice Team (Sunday\, November 11 at 12:00 PM). At this time when there are SO MANY things happening it’s important for us to meet\, compare notes/ideas and plan activities and events. If you’re not happy with what’s going on in the country\, then come be a part of making your voice heard and making a difference. We welcome newcomers and look forward to seeing you! \nNovember 11\, 2018 \n12:00 PM \nThe Lydecker Homestead \n228 Grand Avenue \nEnglewood\, NJ 07631 \nUUCP Racial & Social Justice Team
URL:https://uucpalisades.org/event/uucp-racial-social-justice-team-meeting-4/
LOCATION:Englewood\, 07631\, United States
ORGANIZER;CN="UUCP":MAILTO:Use our contact form on our website
END:VEVENT
BEGIN:VEVENT
DTSTART;TZID=America/New_York:20181118T103000
DTEND;TZID=America/New_York:20181118T113000
DTSTAMP:20260419T201722
CREATED:20181112T174127Z
LAST-MODIFIED:20220528T004920Z
UID:10000146-1542537000-1542540600@uucpalisades.org
SUMMARY:GIVING THANKS IN TENSE TIMES - Rev. Paul Dodenhoff
DESCRIPTION:Please join UUCP for today’s service at 10:30 a.m. led by Rev. Paul Dodenhoff. It’s not easy to be thankful all the time\, especially in times that are full of tension and stress. Yet\, being grateful can help us during those difficult times if we allow ourselves to understand and learn gratitude as a spiritual practice. Join us today as we think about giving thanks in these times. \nBring a friend and stay for coffee and light refreshments. We look forward to seeing you! \nPoster by: Liandra Pires
URL:https://uucpalisades.org/event/giving-thanks-in-tense-times-rev-paul-dodenhoff/
LOCATION:
ORGANIZER;CN="UUCP":MAILTO:Use our contact form on our website
END:VEVENT
BEGIN:VEVENT
DTSTART;TZID=America/New_York:20181125T103000
DTEND;TZID=America/New_York:20181125T113000
DTSTAMP:20260419T201722
CREATED:20181119T212035Z
LAST-MODIFIED:20181119T212035Z
UID:10000147-1543141800-1543145400@uucpalisades.org
SUMMARY:HONORING GURU NANAK AND THE SIKH TRADITION - Rev. Paul Dodenhoff
DESCRIPTION:Please join UUCP for today’s service at 10:30 a.m. led by Rev. Paul Dodenhoff. Our Living Tradition states that we gather “wisdom from the world’s religions which inspires us in our ethical and spiritual life.” November 23rd marks the birthday of Guru Nanak Dev Sahib\, the founder of the Sikh tradition. Join us today as we honor this important spiritual leader’s birth and consider the similarities between Sikhism and our own liberal religious tradition. \nBring a friend and stay for coffee and light refreshments. We look forward to seeing you! \nPoster by: Liandra Pires
URL:https://uucpalisades.org/event/honoring-guru-nanak-and-the-sikh-tradition-rev-paul-dodenhoff/
LOCATION:Englewood\, 07631\, United States
ORGANIZER;CN="UUCP":MAILTO:Use our contact form on our website
END:VEVENT
END:VCALENDAR