BEGIN:VCALENDAR
VERSION:2.0
PRODID:-// - ECPv6.15.20//NONSGML v1.0//EN
CALSCALE:GREGORIAN
METHOD:PUBLISH
X-ORIGINAL-URL:https://uucpalisades.org
X-WR-CALDESC:Events for 
REFRESH-INTERVAL;VALUE=DURATION:PT1H
X-Robots-Tag:noindex
X-PUBLISHED-TTL:PT1H
BEGIN:VTIMEZONE
TZID:America/New_York
BEGIN:DAYLIGHT
TZOFFSETFROM:-0500
TZOFFSETTO:-0400
TZNAME:EDT
DTSTART:20170312T070000
END:DAYLIGHT
BEGIN:STANDARD
TZOFFSETFROM:-0400
TZOFFSETTO:-0500
TZNAME:EST
DTSTART:20171105T060000
END:STANDARD
BEGIN:DAYLIGHT
TZOFFSETFROM:-0500
TZOFFSETTO:-0400
TZNAME:EDT
DTSTART:20180311T070000
END:DAYLIGHT
BEGIN:STANDARD
TZOFFSETFROM:-0400
TZOFFSETTO:-0500
TZNAME:EST
DTSTART:20181104T060000
END:STANDARD
BEGIN:DAYLIGHT
TZOFFSETFROM:-0500
TZOFFSETTO:-0400
TZNAME:EDT
DTSTART:20190310T070000
END:DAYLIGHT
BEGIN:STANDARD
TZOFFSETFROM:-0400
TZOFFSETTO:-0500
TZNAME:EST
DTSTART:20191103T060000
END:STANDARD
END:VTIMEZONE
BEGIN:VEVENT
DTSTART;TZID=America/New_York:20181007T103000
DTEND;TZID=America/New_York:20181007T113000
DTSTAMP:20260419T220302
CREATED:20180927T220819Z
LAST-MODIFIED:20181002T152858Z
UID:10000338-1538908200-1538911800@uucpalisades.org
SUMMARY:LIVING IN A WORLD OF KINDNESS - The DeMasi Brothers
DESCRIPTION:Join award winning UU singer/songwriter/ humorists the DeMasi Brothers as they take us on a musical tour of the seven principles of UUism. Their takes on such subjects as finding spiritual fulfillment\, inner peace and equality for all are insightful and will leave you with a feeling of optimism and satisfaction. Their presentation is guaranteed to put a smile on your face and a song in your heart! \nDeMasi Brothers Bio: \nJoseph and John DeMasi\, the DeMasi Brothers are award winning UU singer/songwriters who began their singing career in the folk clubs of New York City where they were born and raised. They were heavily involved in the folk music revival scene in Greenwich Village in the 1980’s and appeared regularly at the famed “Speakeasy” folk club. In 1992 they joined forces with their lifelong friend Chris Burke\, the actor with Down Syndrome best known for his starring role as “Corky” in the hit ABC-TV show Life Goes On. The trio formed a singing group for children and families\, got a record deal on BMG\, recorded four award winning CD’s and toured the country for 20 years promoting the message of inclusion\, tolerance and ability awareness. They have performed in all 53 states including the states of exhaustion\, confusion and delirium! When Chris retired\, the DeMasi Brothers put their folk group back together and have been appearing at UU churches\, folk clubs and coffee houses all across the country. They can be heard on NPR radio and have released four wonderful CD’s. Their music is embedded with their UU values and principles that they have shared with over 150 UU churches throughout the country. \nBring a friend an stay for light refreshments. You don’t want to miss this musical service. We look forward to seeing you! \nPoster by: Liandra Pires
URL:https://uucpalisades.org/event/living-in-a-world-of-kindness-the-demasi-brothers/
LOCATION:Englewood\, 07631\, United States
ORGANIZER;CN="UUCP":MAILTO:Use our contact form on our website
END:VEVENT
BEGIN:VEVENT
DTSTART;TZID=America/New_York:20181014T103000
DTEND;TZID=America/New_York:20181014T113000
DTSTAMP:20260419T220302
CREATED:20181008T214904Z
LAST-MODIFIED:20181008T214904Z
UID:10000340-1539513000-1539516600@uucpalisades.org
SUMMARY:A TALE OF TWO NATIONS - Rev. Paul Dodenhoff
DESCRIPTION:Please join UUCP for today’s service at 10:30 A.M. led by Rev. Paul Dodenhoff. Is America a divided nation or are we seeing an increasingly rapid split into two nations that share the same space? Are we now\, as Lincoln said\, “engaged in a great civil war?” What can be done to solve the problem? It will require more than voting. Join us today as we consider what our responsibilities are in this crisis. \nBring a friend and stay for coffee and light refreshments. We look forward to seeing you! \nPoster by: Liandra Pires
URL:https://uucpalisades.org/event/a-tale-of-two-nations-rev-paul-dodenhoff/
LOCATION:Englewood\, 07631\, United States
ORGANIZER;CN="UUCP":MAILTO:Use our contact form on our website
END:VEVENT
BEGIN:VEVENT
DTSTART;TZID=America/New_York:20181021T103000
DTEND;TZID=America/New_York:20181021T113000
DTSTAMP:20260419T220302
CREATED:20181015T205217Z
LAST-MODIFIED:20181015T205217Z
UID:10000141-1540117800-1540121400@uucpalisades.org
SUMMARY:ATTENTION MUST BE PAID - Rev. Paul Dodenhoff
DESCRIPTION:Please join UUCP for today’s service at 10:30 a.m. led by Rev. Paul Dodenhoff. Every day we are bombarded with distraction after distraction\, “shiny objects” that keep us from seeing what really matters and where our attention should be focused. Join us today as we consider what the phrase “paying attention” means in our lives and in the world around us. \nBring a friend and stay for coffee and light refreshments. We look forward to seeing you! \nPoster by: Liandra Pires
URL:https://uucpalisades.org/event/attention-must-be-paid-rev-paul-dodenhoff/
LOCATION:Englewood\, 07631\, United States
ORGANIZER;CN="UUCP":MAILTO:Use our contact form on our website
END:VEVENT
BEGIN:VEVENT
DTSTART;TZID=America/New_York:20181028T103000
DTEND;TZID=America/New_York:20181028T113000
DTSTAMP:20260419T220302
CREATED:20181018T203103Z
LAST-MODIFIED:20181018T203103Z
UID:10000142-1540722600-1540726200@uucpalisades.org
SUMMARY:WHAT THE HELL HAPPENED TO JESUS? - Rev. Paul Dodenhoff
DESCRIPTION:Please join UUCP for our service at 10:30 a.m. led by Rev. Paul Dodenhoff. Jesus\, the Prince of Peace\, the Good Shepherd who cares for his flock\, the one who taught that we should love and forgive our enemies\, take care of the poor and sick and “the least of these” among us. Remember him? But it seems that some of his followers have replaced him with a new Jesus\, one that is far different from the one described in the Christian scriptures. \nBring a friend and stay for coffee and light refreshments. We look forward to seeing you! \nPoster by: Liandra Pires
URL:https://uucpalisades.org/event/what-the-hell-happened-to-jesus-rev-paul-dodenhoff/
LOCATION:Englewood\, 07631\, United States
ORGANIZER;CN="UUCP":MAILTO:Use our contact form on our website
END:VEVENT
END:VCALENDAR