BEGIN:VCALENDAR
VERSION:2.0
PRODID:-// - ECPv6.15.20//NONSGML v1.0//EN
CALSCALE:GREGORIAN
METHOD:PUBLISH
X-ORIGINAL-URL:https://uucpalisades.org
X-WR-CALDESC:Events for 
REFRESH-INTERVAL;VALUE=DURATION:PT1H
X-Robots-Tag:noindex
X-PUBLISHED-TTL:PT1H
BEGIN:VTIMEZONE
TZID:America/New_York
BEGIN:DAYLIGHT
TZOFFSETFROM:-0500
TZOFFSETTO:-0400
TZNAME:EDT
DTSTART:20170312T070000
END:DAYLIGHT
BEGIN:STANDARD
TZOFFSETFROM:-0400
TZOFFSETTO:-0500
TZNAME:EST
DTSTART:20171105T060000
END:STANDARD
BEGIN:DAYLIGHT
TZOFFSETFROM:-0500
TZOFFSETTO:-0400
TZNAME:EDT
DTSTART:20180311T070000
END:DAYLIGHT
BEGIN:STANDARD
TZOFFSETFROM:-0400
TZOFFSETTO:-0500
TZNAME:EST
DTSTART:20181104T060000
END:STANDARD
BEGIN:DAYLIGHT
TZOFFSETFROM:-0500
TZOFFSETTO:-0400
TZNAME:EDT
DTSTART:20190310T070000
END:DAYLIGHT
BEGIN:STANDARD
TZOFFSETFROM:-0400
TZOFFSETTO:-0500
TZNAME:EST
DTSTART:20191103T060000
END:STANDARD
END:VTIMEZONE
BEGIN:VEVENT
DTSTART;TZID=America/New_York:20180701T103000
DTEND;TZID=America/New_York:20180701T113000
DTSTAMP:20260420T030622
CREATED:20180614T174135Z
LAST-MODIFIED:20180620T151951Z
UID:10000131-1530441000-1530444600@uucpalisades.org
SUMMARY:UPGRADING OUR SPIRITUAL TECHNOLOGY - Rev. Paul Dodenhoff
DESCRIPTION:Please join UUCP for today’s service at 10:30 a.m. led by Rev. Paul Dodenhoff. When was the last time you upgraded your computer or your cell phone? We’re always reminded that “it’s time to upgrade!” But what about your spiritual technology? Is your spiritual technology out of date? Join us today as we consider how important it is to maintain our spiritual technology and ways that we can keep from crashing or being spiritually hacked! \nBring a friend and stay for coffee and light refreshments. We look forward to seeing you! \nPoster by: Liandra Pires
URL:https://uucpalisades.org/event/upgrading-our-spiritual-technology-rev-paul-dodenhoff/
LOCATION:Englewood\, 07631\, United States
ORGANIZER;CN="UUCP":MAILTO:Use our contact form on our website
END:VEVENT
BEGIN:VEVENT
DTSTART;TZID=America/New_York:20180708T103000
DTEND;TZID=America/New_York:20180708T113000
DTSTAMP:20260420T030622
CREATED:20180703T212342Z
LAST-MODIFIED:20180703T212342Z
UID:10000133-1531045800-1531049400@uucpalisades.org
SUMMARY:A CASE FOR REPARATIONS FOR SLAVERY - Arlene Corsano
DESCRIPTION:Please join us for today’s service at 10:30 a.m. led by UUCP member\, Arlene Corsano. Though slavery has long since been abolished\, it gave birth to racism and segregation\, and the inequality between whites and blacks that still exist today.  This service includes a screening of the 28 minute documentary\, “Slave Reparations: The Final Passage”. \nBring a friend and stay for coffee and light refreshments. we look forward to seeing you! \nPoster by: Liandra Pires
URL:https://uucpalisades.org/event/a-case-for-reparations-for-slavery-arlene-corsano/
LOCATION:Englewood\, 07631\, United States
ORGANIZER;CN="UUCP":MAILTO:Use our contact form on our website
END:VEVENT
BEGIN:VEVENT
DTSTART;TZID=America/New_York:20180715T103000
DTEND;TZID=America/New_York:20180715T113000
DTSTAMP:20260420T030622
CREATED:20180711T163207Z
LAST-MODIFIED:20180711T163207Z
UID:10000135-1531650600-1531654200@uucpalisades.org
SUMMARY:WALLS AND FENCES - Rev. Paul Dodenhoff
DESCRIPTION:Please join us for today’s service at 10:30 a.m. led by Rev. Paul Dodenhoff. “Something there is that doesn’t love a wall\,” said Robert Frost. Join us today as we consider just what it is about a wall that appeals to so many people. \nBring a friend and stay for coffee and light refreshments. We look forward to seeing you! \nPoster by: Liandra Pires
URL:https://uucpalisades.org/event/walls-and-fences-rev-paul-dodenhoff/
LOCATION:Englewood\, 07631\, United States
ORGANIZER;CN="UUCP":MAILTO:Use our contact form on our website
END:VEVENT
BEGIN:VEVENT
DTSTART;TZID=America/New_York:20180722T103000
DTEND;TZID=America/New_York:20180722T113000
DTSTAMP:20260420T030622
CREATED:20180710T171914Z
LAST-MODIFIED:20180711T163434Z
UID:10000134-1532255400-1532259000@uucpalisades.org
SUMMARY:TAKING A VICTORY LAP - Rev. Paul Dodenhoff
DESCRIPTION:Please join us for today’s service at 10:30 a.m. led by Rev. Paul Dodenhoff. Sometimes\, we win. Sometimes\, we lose. Celebrating victories in our lives is important and healthy\, especially at a time when we feel like we’re losing ground every day. \nBring a friend and stay for coffee and light refreshments. We look forward to seeing you! \nPoster by: Liandra Pires
URL:https://uucpalisades.org/event/taking-a-victory-lap-rev-paul-dodenhoff/
LOCATION:Englewood\, 07631\, United States
END:VEVENT
BEGIN:VEVENT
DTSTART;TZID=America/New_York:20180729T103000
DTEND;TZID=America/New_York:20180729T113000
DTSTAMP:20260420T030622
CREATED:20180719T213807Z
LAST-MODIFIED:20180719T213807Z
UID:10000136-1532860200-1532863800@uucpalisades.org
SUMMARY:FINDING SPIRITUALITY IN NATURE - Saritha Clements\, Deborah Singer Pires\, and Arlene Holpp Scala
DESCRIPTION:Please join UUCP for today’s summer service led by Saritha Clements\, Deborah Singer Pires\, and Arlene Holpp Scala. It is summertime and nature poetry comes to mind as a great way to reflect on the interconnectedness of all living things\, particularly in nature. We invite you to bring a nature-themed poem to service on July 29 so we can share poetic reflections about our beautiful natural world. \nBring a friend and stay for coffee and light refreshments. We look forward to seeing you! \nPoster by: Liandra Pires
URL:https://uucpalisades.org/event/finding-spirituality-in-nature-saritha-clements-deborah-singer-pires-and-arlene-holpp-scala/
LOCATION:Englewood\, 07631\, United States
ORGANIZER;CN="UUCP":MAILTO:Use our contact form on our website
END:VEVENT
END:VCALENDAR