BEGIN:VCALENDAR
VERSION:2.0
PRODID:-// - ECPv6.15.20//NONSGML v1.0//EN
CALSCALE:GREGORIAN
METHOD:PUBLISH
X-ORIGINAL-URL:https://uucpalisades.org
X-WR-CALDESC:Events for 
REFRESH-INTERVAL;VALUE=DURATION:PT1H
X-Robots-Tag:noindex
X-PUBLISHED-TTL:PT1H
BEGIN:VTIMEZONE
TZID:America/New_York
BEGIN:DAYLIGHT
TZOFFSETFROM:-0500
TZOFFSETTO:-0400
TZNAME:EDT
DTSTART:20170312T070000
END:DAYLIGHT
BEGIN:STANDARD
TZOFFSETFROM:-0400
TZOFFSETTO:-0500
TZNAME:EST
DTSTART:20171105T060000
END:STANDARD
BEGIN:DAYLIGHT
TZOFFSETFROM:-0500
TZOFFSETTO:-0400
TZNAME:EDT
DTSTART:20180311T070000
END:DAYLIGHT
BEGIN:STANDARD
TZOFFSETFROM:-0400
TZOFFSETTO:-0500
TZNAME:EST
DTSTART:20181104T060000
END:STANDARD
BEGIN:DAYLIGHT
TZOFFSETFROM:-0500
TZOFFSETTO:-0400
TZNAME:EDT
DTSTART:20190310T070000
END:DAYLIGHT
BEGIN:STANDARD
TZOFFSETFROM:-0400
TZOFFSETTO:-0500
TZNAME:EST
DTSTART:20191103T060000
END:STANDARD
END:VTIMEZONE
BEGIN:VEVENT
DTSTART;TZID=America/New_York:20180505T103000
DTEND;TZID=America/New_York:20180505T113000
DTSTAMP:20260420T091426
CREATED:20180426T012517Z
LAST-MODIFIED:20180426T012517Z
UID:10000320-1525516200-1525519800@uucpalisades.org
SUMMARY:Cultural (Mis)Appropriation or Why I Don’t Celebrate Cinco De Mayo
DESCRIPTION:Rev. Paul Dodenhoff — As a spiritually liberal community\, we draw from many sources\, including “wisdom from the world’s religions which inspires us in our ethical and spiritual life.” However\, over the past few years there is an increasing awareness within many spiritual traditions of how that “drawing from” often crosses the line into cultural (mis)appropriation. Marjorie Bowens-Wheatley writes “Our first task in approaching another people\, another culture is to take off our shoes\, for the place we are approaching is holy.” Join us today as we consider this increasingly important topic.
URL:https://uucpalisades.org/event/cultural-misappropriation-or-why-i-dont-celebrate-cinco-de-mayo/
LOCATION:Englewood\, 07631\, United States
ORGANIZER;CN="UUCP":MAILTO:Use our contact form on our website
END:VEVENT
BEGIN:VEVENT
DTSTART;VALUE=DATE:20180506
DTEND;VALUE=DATE:20180507
DTSTAMP:20260420T091426
CREATED:20171211T181951Z
LAST-MODIFIED:20180426T012349Z
UID:10000113-1525564800-1525651199@uucpalisades.org
SUMMARY:Stewardship Sunday
DESCRIPTION:
URL:https://uucpalisades.org/event/stewardship-sunday-2/
LOCATION:Englewood\, 07631\, United States
ORGANIZER;CN="UUCP":MAILTO:Use our contact form on our website
END:VEVENT
BEGIN:VEVENT
DTSTART;TZID=America/New_York:20180506T103000
DTEND;TZID=America/New_York:20180506T113000
DTSTAMP:20260420T091426
CREATED:20180425T172501Z
LAST-MODIFIED:20180425T172501Z
UID:10000319-1525602600-1525606200@uucpalisades.org
SUMMARY:CULTURAL (MIS)APPROPRIATION OR WHY I DON’T CELEBRATE CINCO DE MAYO - Rev. Paul Dodenhoff
DESCRIPTION:Please join us for today’s service at 10:30 a.m. led by Rev. Paul Dodenhoff. As a spiritually liberal community\, we draw from many sources\, including “wisdom from the world’s religions which inspires us in our ethical and spiritual life.” However\, over the past few years there is an increasing awareness within many spiritual traditions of how that “drawing from” often crosses the line into cultural (mis)appropriation. Marjorie Bowens-Wheatley writes “Our first task in approaching another people\, another culture is to take off our shoes\, for the place we are approaching is holy.” Join us today as we consider this increasingly important topic. \nBring a friend and stay for coffee and light refreshments. We look forward to seeing you! \nPoster by: Liandra Pires
URL:https://uucpalisades.org/event/cultural-misappropriation-or-why-i-dont-celebrate-cinco-de-mayo-rev-paul-dodenhoff/
LOCATION:Englewood\, 07631\, United States
ORGANIZER;CN="UUCP":MAILTO:Use our contact form on our website
END:VEVENT
BEGIN:VEVENT
DTSTART;TZID=America/New_York:20180513T103000
DTEND;TZID=America/New_York:20180513T113000
DTSTAMP:20260420T091426
CREATED:20180507T190758Z
LAST-MODIFIED:20180507T190758Z
UID:10000323-1526207400-1526211000@uucpalisades.org
SUMMARY:MOTHERS' DAY: GENERATIONS - Deborah Singer Pires & Arlene Holpp Scala
DESCRIPTION:Please join us today for our Mother’s Day service led by UUCP Co-Presidents\, Deborah Singer Pires & Arlene Holpp Scala. Mothers are daughters and many mothers are grandmothers.  Some even get to be great-grandmothers. Celebrate the women who have mothered us\, and celebrate our connections to those mothers who came before and after us. Congregants are invited to bring photos of their mothers and to share in our traditional flower ceremony. \nBring your mother or a friend and stay for coffee and light refreshments. We look forward to seeing you! \nPoster by: Liandra Pires
URL:https://uucpalisades.org/event/mothers-day-generations-deborah-singer-pires-arlene-holpp-scala/
LOCATION:Englewood\, 07631\, United States
ORGANIZER;CN="UUCP":MAILTO:Use our contact form on our website
END:VEVENT
BEGIN:VEVENT
DTSTART;VALUE=DATE:20180520
DTEND;VALUE=DATE:20180521
DTSTAMP:20260420T091426
CREATED:20171211T182107Z
LAST-MODIFIED:20171211T182107Z
UID:10000115-1526774400-1526860799@uucpalisades.org
SUMMARY:Information Due to Michael Meyers-Jouan for Annual Meeting
DESCRIPTION:
URL:https://uucpalisades.org/event/information-due-to-michael-meyers-jouan-for-annual-meeting/
LOCATION:Englewood\, 07631\, United States
CATEGORIES:Team Meetings
ORGANIZER;CN="UUCP":MAILTO:Use our contact form on our website
END:VEVENT
BEGIN:VEVENT
DTSTART;TZID=America/New_York:20180520T103000
DTEND;TZID=America/New_York:20180520T113000
DTSTAMP:20260420T091426
CREATED:20180430T175523Z
LAST-MODIFIED:20180430T175523Z
UID:10000321-1526812200-1526815800@uucpalisades.org
SUMMARY:THE WINDS OF CHANGE - Rev. Paul Dodenhoff
DESCRIPTION:Please join UUCP for today’s service at 10:30 a.m. led by Rev. Paul Dodenhoff. Today as we honor the Jewish festival of Shavuot and the Christian holiday of Pentecost and consider their spiritual meaning for our lives today as the winds of change begin to blow across our nation and around the world. \nBring a friend and stay for coffee and light refreshments. We look forward to seeing you! \nPoster by: Liandra Pires
URL:https://uucpalisades.org/event/the-winds-of-change-rev-paul-dodenhoff/
LOCATION:Englewood\, 07631\, United States
ORGANIZER;CN="UUCP":MAILTO:Use our contact form on our website
END:VEVENT
BEGIN:VEVENT
DTSTART;VALUE=DATE:20180527
DTEND;VALUE=DATE:20180528
DTSTAMP:20260420T091426
CREATED:20171211T182148Z
LAST-MODIFIED:20171211T182148Z
UID:10000117-1527379200-1527465599@uucpalisades.org
SUMMARY:Packets Completed
DESCRIPTION:
URL:https://uucpalisades.org/event/packets-completed/
LOCATION:Englewood\, 07631\, United States
CATEGORIES:Team Meetings
ORGANIZER;CN="UUCP":MAILTO:Use our contact form on our website
END:VEVENT
BEGIN:VEVENT
DTSTART;TZID=America/New_York:20180527T103000
DTEND;TZID=America/New_York:20180527T113000
DTSTAMP:20260420T091426
CREATED:20180501T193831Z
LAST-MODIFIED:20180501T193831Z
UID:10000322-1527417000-1527420600@uucpalisades.org
SUMMARY:MEMORIAL DAY AND HOW WE RE-MEMBER - Rev. Paul Dodenhoff
DESCRIPTION:Please join UUCP for today’s service at 10:30 a.m. led by Rev. Paul Dodenhoff. As we again take time to honor those who died while serving our nation in the military\, we will consider the larger question of just what it means to re-member. \nBring a friend and stay for coffee and light refreshments. We look forward to seeing you! \nPoster by: Liandra Pires \n 
URL:https://uucpalisades.org/event/memorial-day-and-how-we-re-member-rev-paul-dodenhoff/
LOCATION:Englewood\, 07631\, United States
ORGANIZER;CN="UUCP":MAILTO:Use our contact form on our website
END:VEVENT
END:VCALENDAR