BEGIN:VCALENDAR
VERSION:2.0
PRODID:-// - ECPv6.15.20//NONSGML v1.0//EN
CALSCALE:GREGORIAN
METHOD:PUBLISH
X-ORIGINAL-URL:https://uucpalisades.org
X-WR-CALDESC:Events for 
REFRESH-INTERVAL;VALUE=DURATION:PT1H
X-Robots-Tag:noindex
X-PUBLISHED-TTL:PT1H
BEGIN:VTIMEZONE
TZID:America/New_York
BEGIN:DAYLIGHT
TZOFFSETFROM:-0500
TZOFFSETTO:-0400
TZNAME:EDT
DTSTART:20170312T070000
END:DAYLIGHT
BEGIN:STANDARD
TZOFFSETFROM:-0400
TZOFFSETTO:-0500
TZNAME:EST
DTSTART:20171105T060000
END:STANDARD
BEGIN:DAYLIGHT
TZOFFSETFROM:-0500
TZOFFSETTO:-0400
TZNAME:EDT
DTSTART:20180311T070000
END:DAYLIGHT
BEGIN:STANDARD
TZOFFSETFROM:-0400
TZOFFSETTO:-0500
TZNAME:EST
DTSTART:20181104T060000
END:STANDARD
BEGIN:DAYLIGHT
TZOFFSETFROM:-0500
TZOFFSETTO:-0400
TZNAME:EDT
DTSTART:20190310T070000
END:DAYLIGHT
BEGIN:STANDARD
TZOFFSETFROM:-0400
TZOFFSETTO:-0500
TZNAME:EST
DTSTART:20191103T060000
END:STANDARD
END:VTIMEZONE
BEGIN:VEVENT
DTSTART;VALUE=DATE:20180401
DTEND;VALUE=DATE:20180402
DTSTAMP:20260420T103913
CREATED:20171211T181843Z
LAST-MODIFIED:20171211T181843Z
UID:10000111-1522540800-1522627199@uucpalisades.org
SUMMARY:Easter
DESCRIPTION:
URL:https://uucpalisades.org/event/easter/
LOCATION:Englewood\, 07631\, United States
ORGANIZER;CN="UUCP":MAILTO:Use our contact form on our website
END:VEVENT
BEGIN:VEVENT
DTSTART;TZID=America/New_York:20180401T103000
DTEND;TZID=America/New_York:20180401T113000
DTSTAMP:20260420T103913
CREATED:20180320T193146Z
LAST-MODIFIED:20180320T193146Z
UID:10000313-1522578600-1522582200@uucpalisades.org
SUMMARY:DID JESUS DIE FOR OUR SINS? - Rev. Paul Dodenhoff
DESCRIPTION:Please join UUCP for today’s service at 10:30 a.m. led by Rev. Paul Dodenhoff. Today is the celebration of Easter\, the holiest day in the Western Christian tradition. Today\, in the second of two sermons examining the events of Holy Week from a universalist perspective\, Rev. Paul Dodenhoff examines the death and resurrection of Jesus\, and the theological notion of the need for a bloody sacrifice for sin. \nBring a friend and stay for coffee and light refreshments. We look forward to seeing you! \nPoster by: Liandra Pires
URL:https://uucpalisades.org/event/did-jesus-die-for-our-sins-rev-paul-dodenhoff/
LOCATION:Englewood\, 07631\, United States
ORGANIZER;CN="UUCP":MAILTO:Use our contact form on our website
END:VEVENT
BEGIN:VEVENT
DTSTART;TZID=America/New_York:20180415T103000
DTEND;TZID=America/New_York:20180415T113000
DTSTAMP:20260420T103913
CREATED:20180402T193743Z
LAST-MODIFIED:20180402T193743Z
UID:10000315-1523788200-1523791800@uucpalisades.org
SUMMARY:AT HOME IN THE NOW - Rev. Greg Ganaway
DESCRIPTION:Join UUCP today at 10:30 a.m. for our service led by special guest speaker\, Rev. Greg Ganaway and special guest Yolanda. As creatures of habit\, we often don’t think that what we do every day shapes our lives and how we live and think. We can build habits of awareness that build upon each other. Claiming and fully occupying our place in the present can be fun. It’s doable because it’s our nature. Power\, knowledge\, creation and energy is only available in the present moment. We are at Home only in the Now. \nBring a friend and stay for coffee and light refreshments. We look forward to seeing you! \nPoster by: Liandra Pires
URL:https://uucpalisades.org/event/at-home-in-the-now-rev-greg-ganaway/
LOCATION:Englewood\, 07631\, United States
ORGANIZER;CN="UUCP":MAILTO:Use our contact form on our website
END:VEVENT
BEGIN:VEVENT
DTSTART;TZID=America/New_York:20180422T103000
DTEND;TZID=America/New_York:20180422T113000
DTSTAMP:20260420T103913
CREATED:20180410T163332Z
LAST-MODIFIED:20180410T163332Z
UID:10000318-1524393000-1524396600@uucpalisades.org
SUMMARY:TO PRAY OR NOT TO PRAY - Rev. Paul Dodenhoff
DESCRIPTION:Join UUCP for today’s service at 10:30 a.m. led by Rev. Paul Dodenhoff. Every major religious tradition practices some form of prayer. But just what is prayer? To whom do we pray? Does it matter if we pray or not? Join us today as we examine the subject of prayer and whether or not its relevant to our spiritual lives. \nBring a friend and stay for coffee and light refreshments. We look forward to seeing you! \nPoster by: Liandra Pires
URL:https://uucpalisades.org/event/to-pray-or-not-to-pray-rev-paul-dodenhoff/
LOCATION:Englewood\, 07631\, United States
ORGANIZER;CN="UUCP":MAILTO:Use our contact form on our website
END:VEVENT
BEGIN:VEVENT
DTSTART;TZID=America/New_York:20180429T103000
DTEND;TZID=America/New_York:20180429T113000
DTSTAMP:20260420T103913
CREATED:20180402T211043Z
LAST-MODIFIED:20180402T211043Z
UID:10000316-1524997800-1525001400@uucpalisades.org
SUMMARY:THE TIMES THEY ARE A CHANGING - The DeMasi Brothers
DESCRIPTION:Please join UUCP today at 10:30 a.m. for our musical service presented by The DeMasi Brothers. Music has always been an important part in movements of social change. Join award winning twin brothers and UU musicians/singer/songwriter/humorists Joseph and John DeMasi as they present songs that will inspire\, motivate\, enlighten and touch on issues that are relevant today. \nThe DeMasi Brothers Bio: \nJoseph and John DeMasi\, the DeMasi Brothers are award winning UU singer/songwriters who began their singing career in the folk clubs of New York City where they were born and raised. They were heavily involved in the folk music revival scene in Greenwich Village in the 1980’s and appeared regularly at the famed “Speakeasy” folk club. In 1992 they joined forces with their lifelong friend Chris Burke\, the actor with Down Syndrome best known for his starring role as “Corky”in the hit ABC-TV show Life Goes On. The trio formed a singing group for children and families\, got a record deal on BMG\, recorded four award winning CD’s and toured the country for 20 years promoting the message of inclusion\, tolerance and ability awareness. They have performed in all 53 states including the states of exhaustion\, confusion and delirium! When Chris retired\, the DeMasi Brothers put their folk group back together and have been appearing at UU churches\, folk clubs and coffee houses all across the country. They can be heard on NPR radio and have released four wonderful CD’s. Their music is embedded with their UU values and principles that they have shared with over 150 UU churches throughout the country. \nBring a friend and stay for coffee and light refreshments. We look forward to seeing you! \nPoster by: Liandra Pires
URL:https://uucpalisades.org/event/the-times-they-are-a-changing-the-demasi-brothers/
LOCATION:Englewood\, 07631\, United States
ORGANIZER;CN="UUCP":MAILTO:Use our contact form on our website
END:VEVENT
END:VCALENDAR