BEGIN:VCALENDAR
VERSION:2.0
PRODID:-// - ECPv6.15.20//NONSGML v1.0//EN
CALSCALE:GREGORIAN
METHOD:PUBLISH
X-ORIGINAL-URL:https://uucpalisades.org
X-WR-CALDESC:Events for 
REFRESH-INTERVAL;VALUE=DURATION:PT1H
X-Robots-Tag:noindex
X-PUBLISHED-TTL:PT1H
BEGIN:VTIMEZONE
TZID:America/New_York
BEGIN:DAYLIGHT
TZOFFSETFROM:-0500
TZOFFSETTO:-0400
TZNAME:EDT
DTSTART:20160313T070000
END:DAYLIGHT
BEGIN:STANDARD
TZOFFSETFROM:-0400
TZOFFSETTO:-0500
TZNAME:EST
DTSTART:20161106T060000
END:STANDARD
BEGIN:DAYLIGHT
TZOFFSETFROM:-0500
TZOFFSETTO:-0400
TZNAME:EDT
DTSTART:20170312T070000
END:DAYLIGHT
BEGIN:STANDARD
TZOFFSETFROM:-0400
TZOFFSETTO:-0500
TZNAME:EST
DTSTART:20171105T060000
END:STANDARD
BEGIN:DAYLIGHT
TZOFFSETFROM:-0500
TZOFFSETTO:-0400
TZNAME:EDT
DTSTART:20180311T070000
END:DAYLIGHT
BEGIN:STANDARD
TZOFFSETFROM:-0400
TZOFFSETTO:-0500
TZNAME:EST
DTSTART:20181104T060000
END:STANDARD
END:VTIMEZONE
BEGIN:VEVENT
DTSTART;TZID=America/New_York:20170802T190000
DTEND;TZID=America/New_York:20170802T210000
DTSTAMP:20260420T234122
CREATED:20170724T220611Z
LAST-MODIFIED:20230222T175648Z
UID:10000222-1501700400-1501707600@uucpalisades.org
SUMMARY:WHAT DO WE DO NOW ABOUT HEALTHCARE? - Dr. William Thar and Dr. Winthrop Dillaway
DESCRIPTION:Will you be priced out of getting medical care? Obamacare expanded coverage to millions but millions are still not covered at all or are underinsured – and costs are going up\, up\, up! Congress is looking for creative ways of making things worse! Come to a discussion of “What Do We Do Now About Healthcare?” Hear Dr. William Thar and Dr. Winthrop Dillaway of the Physicians for a National Health Program\, followed by Q&A and discussion. \nSponsored by the Racial & Social Justice Team of the Unitarian Universalist Congregation of the Palisades and The Social Responsibilities Council of the Unitarian Society of Ridgewood. \nBring a friend and join the discussion. We look forward to seeing you! \nPoster by: Liandra Pires
URL:https://uucpalisades.org/event/what-to-do-now-about-healthcare-dr-william-thar-and-dr-winthrop-dillaway/
LOCATION:Englewood\, 07631\, United States
ORGANIZER;CN="UUCP":MAILTO:Use our contact form on our website
END:VEVENT
BEGIN:VEVENT
DTSTART;TZID=America/New_York:20170806T103000
DTEND;TZID=America/New_York:20170806T113000
DTSTAMP:20260420T234122
CREATED:20170713T233532Z
LAST-MODIFIED:20170713T233532Z
UID:10000220-1502015400-1502019000@uucpalisades.org
SUMMARY:THE "J" WORD - Rev. Paul Dodenhoff
DESCRIPTION:Please join us for today’s service led by Rev. Paul Dodenhoff. Most of those who were offended by American Muslim activist Linda Sarsour’s use of the word “jihad” in a recent speech about the current administration didn’t bother to read or listen to her comments in context. And most people are unaware that the real meaning and concept  of “jihad” is not limited to Islam. Join us as we consider how the concept of “jihad” has played a role in Christian thought and history and how\, if we understand it properly\, it can play significant role in our own spirituality. \nBring a friend and stay for coffee and light refreshments. We look forward to seeing you! \nPoster by: Liandra Pires
URL:https://uucpalisades.org/event/the-j-word-rev-paul-dodenhoff/
LOCATION:Englewood\, 07631\, United States
ORGANIZER;CN="UUCP":MAILTO:Use our contact form on our website
END:VEVENT
BEGIN:VEVENT
DTSTART;TZID=America/New_York:20170813T103000
DTEND;TZID=America/New_York:20170813T113000
DTSTAMP:20260420T234122
CREATED:20170803T170610Z
LAST-MODIFIED:20170803T170610Z
UID:10000224-1502620200-1502623800@uucpalisades.org
SUMMARY:SLEEP - MICHAEL S. MEYERS-JOUAN
DESCRIPTION:Please join us for today’s service led by UUCP member Michael S. Meyers-Jouan. Let’s consider sleep\, and its contributions to our physical\, mental\, and spiritual well-being. I’ll try not to put you to sleep with my talk! \nBring a friend and stay for coffee and light refreshments. We look forward to seeing you! \nPoster by: Liandra Pires
URL:https://uucpalisades.org/event/sleep-michael-s-meyers-jouan/
LOCATION:Englewood\, 07631\, United States
ORGANIZER;CN="UUCP":MAILTO:Use our contact form on our website
END:VEVENT
BEGIN:VEVENT
DTSTART;TZID=America/New_York:20170827T103000
DTEND;TZID=America/New_York:20170827T113000
DTSTAMP:20260420T234122
CREATED:20170807T205725Z
LAST-MODIFIED:20170807T205725Z
UID:10000226-1503829800-1503833400@uucpalisades.org
SUMMARY:THE SPIRITUALITY OF MARY OLIVER’S POETRY - ARLENE HOLPP-SCALA
DESCRIPTION:Please join us for today’s service led by UUCP Co-President\, Arlene Holpp-Scala. Oliver’s work turns towards nature for its inspiration and describes the sense of wonder it instills\, enabling quiet meditation. Her work has been influenced by Thoreau and Whitman\, and at times she has been compared with Emily Dickinson. She has been described as an “indefatigable guide to the natural world.” \nBring a friend and stay for coffee and light refreshments. We look forward to seeing you! \nPoster by: Liandra Pires
URL:https://uucpalisades.org/event/the-spirituality-of-mary-olivers-poetry-arlene-holpp-scala/
LOCATION:Englewood\, 07631\, United States
ORGANIZER;CN="UUCP":MAILTO:Use our contact form on our website
END:VEVENT
END:VCALENDAR