BEGIN:VCALENDAR
VERSION:2.0
PRODID:-// - ECPv6.15.20//NONSGML v1.0//EN
CALSCALE:GREGORIAN
METHOD:PUBLISH
X-ORIGINAL-URL:https://uucpalisades.org
X-WR-CALDESC:Events for 
REFRESH-INTERVAL;VALUE=DURATION:PT1H
X-Robots-Tag:noindex
X-PUBLISHED-TTL:PT1H
BEGIN:VTIMEZONE
TZID:America/New_York
BEGIN:DAYLIGHT
TZOFFSETFROM:-0500
TZOFFSETTO:-0400
TZNAME:EDT
DTSTART:20160313T070000
END:DAYLIGHT
BEGIN:STANDARD
TZOFFSETFROM:-0400
TZOFFSETTO:-0500
TZNAME:EST
DTSTART:20161106T060000
END:STANDARD
BEGIN:DAYLIGHT
TZOFFSETFROM:-0500
TZOFFSETTO:-0400
TZNAME:EDT
DTSTART:20170312T070000
END:DAYLIGHT
BEGIN:STANDARD
TZOFFSETFROM:-0400
TZOFFSETTO:-0500
TZNAME:EST
DTSTART:20171105T060000
END:STANDARD
BEGIN:DAYLIGHT
TZOFFSETFROM:-0500
TZOFFSETTO:-0400
TZNAME:EDT
DTSTART:20180311T070000
END:DAYLIGHT
BEGIN:STANDARD
TZOFFSETFROM:-0400
TZOFFSETTO:-0500
TZNAME:EST
DTSTART:20181104T060000
END:STANDARD
END:VTIMEZONE
BEGIN:VEVENT
DTSTART;TZID=America/New_York:20170604T103000
DTEND;TZID=America/New_York:20170604T113000
DTSTAMP:20260421T024235
CREATED:20170530T195718Z
LAST-MODIFIED:20170530T195718Z
UID:10000207-1496572200-1496575800@uucpalisades.org
SUMMARY:SHHH!! SOME THOUGHTS ON SILENCE - Rev. Paul Dodenhoff
DESCRIPTION:Please join us for today’s service at 10:30 AM led by Rev. Paul Dodenhoff. It’s a very loud world we live in! Taking time just to be silent isn’t always easy or possible. But it’s definitely necessary. \nBring a friend and stay for coffee and light refreshments. We look forward to seeing you! \nPoster by: Liandra Pires
URL:https://uucpalisades.org/event/shhh-some-thoughts-on-silence-rev-paul-dodenhoff/
LOCATION:Englewood\, 07631\, United States
ORGANIZER;CN="UUCP":MAILTO:Use our contact form on our website
END:VEVENT
BEGIN:VEVENT
DTSTART;TZID=America/New_York:20170604T120000
DTEND;TZID=America/New_York:20170604T130000
DTSTAMP:20260421T024235
CREATED:20170603T000617Z
LAST-MODIFIED:20170603T000617Z
UID:10000211-1496577600-1496581200@uucpalisades.org
SUMMARY:UUCP Racial & Social Justice Team Meeting
DESCRIPTION:It’s time to get together again and share our thoughts\, experiences and wisdom on the meaning of current events and how to contribute to defeating the “trump agenda”.\n\n\nProposed Agenda –\n\n– Brief Check In & Introductions\n\n– Summary reports on study topics\n\n     … Health Care\n\n      …The Trump Budget\n\n      …The Threat of War\n\n– Open discussion\n\n– Action alerts and announcements\n– Next Meeting\n\n(other or different agenda suggestions are welcome) \n\nJoin us at this important meeting to keep our contribution to the resistance strong and growing.
URL:https://uucpalisades.org/event/uucp-racial-social-justice-team-meeting/
LOCATION:Englewood\, 07631\, United States
ORGANIZER;CN="UUCP":MAILTO:Use our contact form on our website
END:VEVENT
BEGIN:VEVENT
DTSTART;TZID=America/New_York:20170611T103000
DTEND;TZID=America/New_York:20170611T113000
DTSTAMP:20260421T024235
CREATED:20170530T200126Z
LAST-MODIFIED:20170530T200126Z
UID:10000208-1497177000-1497180600@uucpalisades.org
SUMMARY:PRIDE DAY: A CELEBRATION - Rev. Paul Dodenhoff
DESCRIPTION:Please join us for today’s service at 10:30 AM led by Rev. Paul Dodenhoff. Today we celebrate our LGBTQ friends and family and the advances that have been made in working towards full equality for all people regardless of sexual orientation or gender. But the fight goes on even as the Trump administration and it’s supporters try to undo those advances. Join us as we celebrate and as we consider how we can resist hatred and bigotry and work towards full equality for all people. \n\nBring a friend and stay for coffee and light refreshments. We look forward to seeing you! \n\nPoster by: Liandra Pires
URL:https://uucpalisades.org/event/pride-day-a-celebration-rev-paul-dodenhoff/
LOCATION:Englewood\, 07631\, United States
ORGANIZER;CN="UUCP":MAILTO:Use our contact form on our website
END:VEVENT
BEGIN:VEVENT
DTSTART;TZID=America/New_York:20170618T103000
DTEND;TZID=America/New_York:20170618T113000
DTSTAMP:20260421T024235
CREATED:20170530T200625Z
LAST-MODIFIED:20170530T200625Z
UID:10000209-1497781800-1497785400@uucpalisades.org
SUMMARY:THE JOYS OF AGING - Presented by Program Team members: Saritha Clements\, Deborah Singer Pires\, and Arlene Holpp Scala
DESCRIPTION:Please join us for today’s service at 10:30 AM led by UUCP Program Team members: Saritha Clements\, Deborah Singer Pires and Arlene Holpp Scala. This service will include personal reflections about aging\, the experience of aging as a working woman in the 21st Century\, and the joy of working with young people as a septuagenarian academic. \n\nBring a friend and stay for coffee and light refreshments. We look forward to seeing you! \n\nPoster by: Liandra Pires
URL:https://uucpalisades.org/event/the-joys-of-aging-presented-by-program-team-members-saritha-clements-deborah-singer-pires-and-arlene-holpp-scala/
LOCATION:Englewood\, 07631\, United States
ORGANIZER;CN="UUCP":MAILTO:Use our contact form on our website
END:VEVENT
BEGIN:VEVENT
DTSTART;TZID=America/New_York:20170625T103000
DTEND;TZID=America/New_York:20170625T113000
DTSTAMP:20260421T024235
CREATED:20170530T200917Z
LAST-MODIFIED:20170530T200917Z
UID:10000210-1498386600-1498390200@uucpalisades.org
SUMMARY:WRESTLING WITH YOUR ANGELS - Rev. Paul Dodenhoff
DESCRIPTION:Please join us for today’s service at 10:30 AM led by Rev. Paul Dodenhoff. You’ve heard of wrestling with your demons. But what about wrestling with your angels? And we wrestle with them all the time. Join us today as we wrestle with this topic of angels and just what role they play in our psyche. \n\nBring a friend and stay for coffee and light refreshments. We look forward to seeing you! \n\nPoster by: Liandra Pires
URL:https://uucpalisades.org/event/wrestling-with-your-angels-rev-paul-dodenhoff/
LOCATION:Englewood\, 07631\, United States
ORGANIZER;CN="UUCP":MAILTO:Use our contact form on our website
END:VEVENT
END:VCALENDAR