BEGIN:VCALENDAR
VERSION:2.0
PRODID:-// - ECPv6.15.20//NONSGML v1.0//EN
CALSCALE:GREGORIAN
METHOD:PUBLISH
X-ORIGINAL-URL:https://uucpalisades.org
X-WR-CALDESC:Events for 
REFRESH-INTERVAL;VALUE=DURATION:PT1H
X-Robots-Tag:noindex
X-PUBLISHED-TTL:PT1H
BEGIN:VTIMEZONE
TZID:America/New_York
BEGIN:DAYLIGHT
TZOFFSETFROM:-0500
TZOFFSETTO:-0400
TZNAME:EDT
DTSTART:20160313T070000
END:DAYLIGHT
BEGIN:STANDARD
TZOFFSETFROM:-0400
TZOFFSETTO:-0500
TZNAME:EST
DTSTART:20161106T060000
END:STANDARD
BEGIN:DAYLIGHT
TZOFFSETFROM:-0500
TZOFFSETTO:-0400
TZNAME:EDT
DTSTART:20170312T070000
END:DAYLIGHT
BEGIN:STANDARD
TZOFFSETFROM:-0400
TZOFFSETTO:-0500
TZNAME:EST
DTSTART:20171105T060000
END:STANDARD
BEGIN:DAYLIGHT
TZOFFSETFROM:-0500
TZOFFSETTO:-0400
TZNAME:EDT
DTSTART:20180311T070000
END:DAYLIGHT
BEGIN:STANDARD
TZOFFSETFROM:-0400
TZOFFSETTO:-0500
TZNAME:EST
DTSTART:20181104T060000
END:STANDARD
END:VTIMEZONE
BEGIN:VEVENT
DTSTART;TZID=America/New_York:20170402T103000
DTEND;TZID=America/New_York:20170402T113000
DTSTAMP:20260421T055033
CREATED:20170327T234729Z
LAST-MODIFIED:20170327T234729Z
UID:10000070-1491129000-1491132600@uucpalisades.org
SUMMARY:THIS I BELIEVE
DESCRIPTION:Please join us for today’s service. Inspired by a Public Radio (NPR) series\, hear three congregants\, Micki Shilan\, Ron Hilliard\, and Michael Meyers-Jouan talk about their philosophy of life and how  it influences their actions and beliefs. \nBring a friend and stay for coffee and light refreshments. We look forward to seeing you! \nPoster by: Liandra Pires
URL:https://uucpalisades.org/event/this-i-believe/
LOCATION:Englewood\, 07631\, United States
ORGANIZER;CN="UUCP":MAILTO:Use our contact form on our website
END:VEVENT
BEGIN:VEVENT
DTSTART;TZID=America/New_York:20170402T120000
DTEND;TZID=America/New_York:20170402T130000
DTSTAMP:20260421T055033
CREATED:20170328T001430Z
LAST-MODIFIED:20170328T001430Z
UID:10000076-1491134400-1491138000@uucpalisades.org
SUMMARY:Racial & Social Justice Team Meeting
DESCRIPTION:The Racial & Social Justice Team of the Unitarian Universalist Congregation of the Palisades is organizing our resistance to ‘trumpism’ and it’s threats to our democracy. Come join us in finding ways to resist and defeat the retrograde and deadly agenda of the new administration! \nJoin us at our next meeting this Sunday\, April 2nd at 12:00 noon at the Historic Lydecker Homestead at 228 Grand Avenue in Englewood\, NJ. We look forward to seeing you! \n 
URL:https://uucpalisades.org/event/racial-social-justice-team-meeting/
LOCATION:Englewood\, 07631\, United States
ORGANIZER;CN="UUCP":MAILTO:Use our contact form on our website
END:VEVENT
BEGIN:VEVENT
DTSTART;TZID=America/New_York:20170409T103000
DTEND;TZID=America/New_York:20170409T113000
DTSTAMP:20260421T055033
CREATED:20170328T000231Z
LAST-MODIFIED:20170328T000246Z
UID:10000071-1491733800-1491737400@uucpalisades.org
SUMMARY:POT LUCK PASSOVER SEDER
DESCRIPTION:Please join us this Sunday at 10:30 AM for a pot luck Passover Seder led by UUCP Co-President\, Deborah Singer Pires. Instead of our usual service format\, we will experience the Jewish holiday of Passover with a traditional Seder. Learn the meaning of Passover and its relevance to Unitarian Universalists. \nBring a dish to share\, but please do not bring food items made with pork\, shellfish\, or bread. Please be on time to be seated at the table in order to not disrupt the service after it has begun. All are welcome: bring family and friends. \nWe look forward to seeing you! \nPoster by: Liandra Pires
URL:https://uucpalisades.org/event/pot-luck-passover-seder/
LOCATION:Englewood\, 07631\, United States
ORGANIZER;CN="UUCP":MAILTO:Use our contact form on our website
END:VEVENT
BEGIN:VEVENT
DTSTART;TZID=America/New_York:20170416T103000
DTEND;TZID=America/New_York:20170416T113000
DTSTAMP:20260421T055033
CREATED:20170328T001020Z
LAST-MODIFIED:20170328T001020Z
UID:10000074-1492338600-1492342200@uucpalisades.org
SUMMARY:THE EASTER MESSAGE: RADICALS RISE UP - Rev. Paul Dodenhoff
DESCRIPTION:Please join us for today’s service led by Rev. Paul Dodenhoff. Easter is the holiest day on the Christian calendar. It’s also the most radical spiritual message ever given\, calling us to wake up\, rise up\, and fully engage in the work of toppling a system that is built on oppression\, inequality\,  abuse of power\, bigotry\, and falsehood.   Whether you believe it literally or metaphorically\, the radical message of Easter and its call to action has never been more urgent.  \nBring a friend and stay for coffee and light refreshments. We look forward to seeing you! \nPoster by: Liandra Pires
URL:https://uucpalisades.org/event/the-easter-message-radicals-rise-up-rev-paul-dodenhoff/
LOCATION:Englewood\, 07631\, United States
ORGANIZER;CN="UUCP":MAILTO:Use our contact form on our website
END:VEVENT
BEGIN:VEVENT
DTSTART;TZID=America/New_York:20170420T190000
DTEND;TZID=America/New_York:20170420T210000
DTSTAMP:20260421T055033
CREATED:20170410T152824Z
LAST-MODIFIED:20170410T152824Z
UID:10000078-1492714800-1492722000@uucpalisades.org
SUMMARY:BLACK HISTORY'S LESSONS FOR 2017
DESCRIPTION:Please join UUCP for a lecture and discussion at 7:00 PM\, led by Al Stawsky\, Chair Racial & Social Justice Team; founder and formerly Chair Criminal Justice Reform Task Force of Unitarian Universalist Legislative Ministry of New Jersey. \nThe lessons and significance of Black History cannot be segregated into one month of the year. At this critical moment in United States history we look for answers which can help guide us to defeat the very worst elements of reaction that have taken power. The history of African Americans is central to U.S. history.  It can guide us to those answers. \nWe look forward to seeing you! \nPoster by: Liandra Pires
URL:https://uucpalisades.org/event/black-historys-lessons-for-2017/
LOCATION:Englewood\, 07631\, United States
ORGANIZER;CN="UUCP":MAILTO:Use our contact form on our website
END:VEVENT
BEGIN:VEVENT
DTSTART;TZID=America/New_York:20170422T190000
DTEND;TZID=America/New_York:20170422T220000
DTSTAMP:20260421T055033
CREATED:20170125T223222Z
LAST-MODIFIED:20170412T211340Z
UID:10000198-1492887600-1492898400@uucpalisades.org
SUMMARY:UUCP SERVICE AUCTION
DESCRIPTION:Please join UUCP for our annual Service Auction. There will be a Tricky Tray\, Boutique\, Live Auction\, Professional Caller and more! \nTickets are $20 in advance / $25 at the door\nPrice includes appetizers and dessert.\n\nBring a friend and stay for an evening of fun!\n\n\nPoster by: Liandra Pires
URL:https://uucpalisades.org/event/uucp-service-auction/
LOCATION:Englewood\, 07631\, United States
ORGANIZER;CN="UUCP":MAILTO:Use our contact form on our website
END:VEVENT
BEGIN:VEVENT
DTSTART;TZID=America/New_York:20170423T103000
DTEND;TZID=America/New_York:20170423T113000
DTSTAMP:20260421T055033
CREATED:20170412T210010Z
LAST-MODIFIED:20220528T005005Z
UID:10000200-1492943400-1492947000@uucpalisades.org
SUMMARY:WELCOMING THE STRANGER: JESUS\, REFUGEES\, AND BOMBS - Rev. Paul Dodenhoff
DESCRIPTION:Please join us for today’s service led by Rev. Paul Dodenhoff. Would Jesus welcome the refugees from Syria and other nations in turmoil? Would he break apart families and deport undocumented immigrants? There are many so-called evangelical Christian leaders and their supporters who use the Bible to justify such actions. Today\, Rev. Paul returns to his Christian roots to examine their claims. And he begs to differ. \nBring a friend and stay for coffee and light refreshments. We look forward to seeing you! \nPoster by: Liandra Pires
URL:https://uucpalisades.org/event/welcoming-the-stranger-jesus-refugees-and-bombs-rev-paul-dodenhoff/
LOCATION:Englewood\, 07631\, United States
ORGANIZER;CN="UUCP":MAILTO:Use our contact form on our website
END:VEVENT
BEGIN:VEVENT
DTSTART;TZID=America/New_York:20170428T190000
DTEND;TZID=America/New_York:20170428T220000
DTSTAMP:20260421T055033
CREATED:20170412T210515Z
LAST-MODIFIED:20170412T211022Z
UID:10000201-1493406000-1493416800@uucpalisades.org
SUMMARY:"THE RUSSIANS ARE COMING! THE RUSSIANS ARE COMING!" FILM SCREENING
DESCRIPTION:Need a break from the daily onslaught of terrible news? Then please join us at 7:00 p.m. at the Unitarian Universalist Congregation of the Palisades on April 28th for a film screening of the 1966 cold-war comedy classic\, “The Russians Are Coming! The Russians Are Coming!” Starring Alan Arkin\, Carl Reiner\, Eva Marie-Saint\, and Jonathan Winters.\n \nThere will be popcorn\, candy\, and other movie night goodies\, too!  \nSuggested donation. \nPoster by: Liandra Pires
URL:https://uucpalisades.org/event/the-russians-are-coming-the-russians-are-coming-film-screening/
LOCATION:Englewood\, 07631\, United States
ORGANIZER;CN="UUCP":MAILTO:Use our contact form on our website
END:VEVENT
BEGIN:VEVENT
DTSTART;TZID=America/New_York:20170430T103000
DTEND;TZID=America/New_York:20170430T113000
DTSTAMP:20260421T055033
CREATED:20170424T195343Z
LAST-MODIFIED:20170424T195343Z
UID:10000202-1493548200-1493551800@uucpalisades.org
SUMMARY:BUILDING A CAPACITY FOR JOY! - Rev. Glen Morton Ganaway
DESCRIPTION:Please join UUCP today for our service led by special guest speaker\, Rev. Glen Morton Ganaway. How much joy can you live with? Building and growing a spiritual practice is a lifestyle. In a mature spiritual practice we construct containers that produce the experience we want to have. We are creative and will create either consciously or not. Creating consciously is what produces the joyful life promised by all the holy books. \nBring a friend and stay for coffee and light refreshments. We look forward to seeing you! \nPoster by: Liandra Pires
URL:https://uucpalisades.org/event/building-a-capacity-for-joy-rev-glen-morton-ganaway/
LOCATION:Englewood\, 07631\, United States
ORGANIZER;CN="UUCP":MAILTO:Use our contact form on our website
END:VEVENT
END:VCALENDAR