BEGIN:VCALENDAR
VERSION:2.0
PRODID:-// - ECPv6.15.20//NONSGML v1.0//EN
CALSCALE:GREGORIAN
METHOD:PUBLISH
X-ORIGINAL-URL:https://uucpalisades.org
X-WR-CALDESC:Events for 
REFRESH-INTERVAL;VALUE=DURATION:PT1H
X-Robots-Tag:noindex
X-PUBLISHED-TTL:PT1H
BEGIN:VTIMEZONE
TZID:America/New_York
BEGIN:DAYLIGHT
TZOFFSETFROM:-0500
TZOFFSETTO:-0400
TZNAME:EDT
DTSTART:20160313T070000
END:DAYLIGHT
BEGIN:STANDARD
TZOFFSETFROM:-0400
TZOFFSETTO:-0500
TZNAME:EST
DTSTART:20161106T060000
END:STANDARD
BEGIN:DAYLIGHT
TZOFFSETFROM:-0500
TZOFFSETTO:-0400
TZNAME:EDT
DTSTART:20170312T070000
END:DAYLIGHT
BEGIN:STANDARD
TZOFFSETFROM:-0400
TZOFFSETTO:-0500
TZNAME:EST
DTSTART:20171105T060000
END:STANDARD
BEGIN:DAYLIGHT
TZOFFSETFROM:-0500
TZOFFSETTO:-0400
TZNAME:EDT
DTSTART:20180311T070000
END:DAYLIGHT
BEGIN:STANDARD
TZOFFSETFROM:-0400
TZOFFSETTO:-0500
TZNAME:EST
DTSTART:20181104T060000
END:STANDARD
END:VTIMEZONE
BEGIN:VEVENT
DTSTART;TZID=America/New_York:20170305T103000
DTEND;TZID=America/New_York:20170305T113000
DTSTAMP:20260421T072530
CREATED:20170125T221120Z
LAST-MODIFIED:20170125T221120Z
UID:10000195-1488709800-1488713400@uucpalisades.org
SUMMARY:AN EARLY PURIM CELEBRATION! - Rev. Paul Dodenhoff
DESCRIPTION:Please join us for today’s service led by Rev. Paul Dodenhoff. Purim\, the celebration that commemorates a time when the Jewish people living in Persia were all saved from being killed by the evil Haman\, an advisor to the king of Persia. The story is found in the book of Esther. It’s a joyous celebration with costumes\, lots of laughter\, noisemakers\, and food! Today we’ll be celebrating Purim a week early since Rev. Dodenhoff will be on vacation starting next week and he loves hamentashen! (You’ll have to come to find out what that is if you don’t know!) And be sure to wear a costume! \nBring a friend and stay for coffee and light refreshments. We look forward to seeing you! \nPoster by: Liandra Pires
URL:https://uucpalisades.org/event/an-early-purim-celebration-rev-paul-dodenhoff/
LOCATION:Englewood\, 07631\, United States
ORGANIZER;CN="UUCP":MAILTO:Use our contact form on our website
END:VEVENT
BEGIN:VEVENT
DTSTART;TZID=America/New_York:20170312T103000
DTEND;TZID=America/New_York:20170312T113000
DTSTAMP:20260421T072530
CREATED:20170228T170020Z
LAST-MODIFIED:20170228T170020Z
UID:10000062-1489314600-1489318200@uucpalisades.org
SUMMARY:SPIRITUALITY IN THE SHADOW OF FASCISM - Al Stawsky
DESCRIPTION:Please join us for today’s service led by Al Stawsky\, UUCP member and Chair of the Congregational Racial and Social Justice Team. Our society has now been placed in the power of those who are intent on instituting  extreme suppression\, giving license to racism and hate and destroying democracy.  What is the meaning of spirituality and the message of our Unitarian Universalist faith at such a time? \nBring a friend and stay for coffee and light refreshments. We look forward to seeing you! \nPoster by: Liandra Pires
URL:https://uucpalisades.org/event/spirituality-in-the-shadow-of-fascism-al-stawsky/
LOCATION:Englewood\, 07631\, United States
ORGANIZER;CN="UUCP":MAILTO:Use our contact form on our website
END:VEVENT
BEGIN:VEVENT
DTSTART;TZID=America/New_York:20170319T103000
DTEND;TZID=America/New_York:20170319T113000
DTSTAMP:20260421T072530
CREATED:20170313T232815Z
LAST-MODIFIED:20170313T232815Z
UID:10000066-1489919400-1489923000@uucpalisades.org
SUMMARY:"HERSTORY: WELL BEHAVED WOMEN RARELY MAKE HISTORY: UNITARIAN UNIVERSALIST WOMEN AND OTHER MISBEHAVED RESISTERS” - Arlene Holpp Scala
DESCRIPTION:Please join us for today’s service led by UUCP Co-President\, Arlene Holpp Scala. In this reflection Arlene will talk about several Unitarian and Unitarian Universalist “misbehaved” women\, as well as women from other traditions who have resisted oppressive systems. ​ \nBring a friend and stay for coffee and light refreshments. We look forward to seeing you! \nPoster by: Liandra Pires
URL:https://uucpalisades.org/event/herstory-well-behaved-women-rarely-make-history-unitarian-universalist-women-and-other-misbehaved-resisters-arlene-holpp-scala/
LOCATION:Englewood\, 07631\, United States
ORGANIZER;CN="UUCP":MAILTO:Use our contact form on our website
END:VEVENT
BEGIN:VEVENT
DTSTART;TZID=America/New_York:20170324T190000
DTEND;TZID=America/New_York:20170324T210000
DTSTAMP:20260421T072530
CREATED:20170317T211852Z
LAST-MODIFIED:20170317T211852Z
UID:10000068-1490382000-1490389200@uucpalisades.org
SUMMARY:POETRY SLAM
DESCRIPTION:Please join UUCP Friday\, March 24th at 7:00 PM for an exciting poetry slam. Everyone is welcome! You can read/perform original poetry or poetry authored by others. Love poetry\, political themes\, humorous poems\, rhyming or free verse\, and more are appropriate for this slam. Let your creativity flow and join us for this fun event! \nLight refreshments will be served. We look forward to seeing you! \nContact person: Arlene Holpp Scala (201) 669-1358 \nPoster by: Liandra Pires
URL:https://uucpalisades.org/event/poetry-slam/
LOCATION:Englewood\, 07631\, United States
ORGANIZER;CN="UUCP":MAILTO:Use our contact form on our website
END:VEVENT
BEGIN:VEVENT
DTSTART;TZID=America/New_York:20170326T103000
DTEND;TZID=America/New_York:20170326T113000
DTSTAMP:20260421T072530
CREATED:20170228T170357Z
LAST-MODIFIED:20170228T170357Z
UID:10000064-1490524200-1490527800@uucpalisades.org
SUMMARY:STANDING ON THE SIDE OF LOVE - Deborah Singer Pires
DESCRIPTION:Please join us for today’s service led by UUCP Co-President\, Deborah Singer Pires. We believe that all people deserve love and respect. No person should be dehumanized through acts of exclusion\, oppression\, or violence. We have listened to many acts of hatred lately but today\, let’s listen to some courageous acts of love\, and learn about the UU’s campaign to stand on the side of love to overcome hate. \nBring a friend and stay for coffee and light refreshments. We look forward to seeing you! \nPoster by: Liandra Pires
URL:https://uucpalisades.org/event/standing-on-the-side-of-love-deborah-singer-pires/
LOCATION:Englewood\, 07631\, United States
ORGANIZER;CN="UUCP":MAILTO:Use our contact form on our website
END:VEVENT
END:VCALENDAR