BEGIN:VCALENDAR
VERSION:2.0
PRODID:-// - ECPv6.15.20//NONSGML v1.0//EN
CALSCALE:GREGORIAN
METHOD:PUBLISH
X-ORIGINAL-URL:https://uucpalisades.org
X-WR-CALDESC:Events for 
REFRESH-INTERVAL;VALUE=DURATION:PT1H
X-Robots-Tag:noindex
X-PUBLISHED-TTL:PT1H
BEGIN:VTIMEZONE
TZID:America/New_York
BEGIN:DAYLIGHT
TZOFFSETFROM:-0500
TZOFFSETTO:-0400
TZNAME:EDT
DTSTART:20150308T070000
END:DAYLIGHT
BEGIN:STANDARD
TZOFFSETFROM:-0400
TZOFFSETTO:-0500
TZNAME:EST
DTSTART:20151101T060000
END:STANDARD
BEGIN:DAYLIGHT
TZOFFSETFROM:-0500
TZOFFSETTO:-0400
TZNAME:EDT
DTSTART:20160313T070000
END:DAYLIGHT
BEGIN:STANDARD
TZOFFSETFROM:-0400
TZOFFSETTO:-0500
TZNAME:EST
DTSTART:20161106T060000
END:STANDARD
BEGIN:DAYLIGHT
TZOFFSETFROM:-0500
TZOFFSETTO:-0400
TZNAME:EDT
DTSTART:20170312T070000
END:DAYLIGHT
BEGIN:STANDARD
TZOFFSETFROM:-0400
TZOFFSETTO:-0500
TZNAME:EST
DTSTART:20171105T060000
END:STANDARD
END:VTIMEZONE
BEGIN:VEVENT
DTSTART;TZID=America/New_York:20161204T103000
DTEND;TZID=America/New_York:20161204T113000
DTSTAMP:20260421T125207
CREATED:20161107T162556Z
LAST-MODIFIED:20161107T162556Z
UID:10000169-1480847400-1480851000@uucpalisades.org
SUMMARY:CELEBRATING BODHI DAY - Rev. Paul Dodenhoff
DESCRIPTION:Please join us for today’s service led by Rev. Paul Dodenhoff. This is the 2nd in a 4 part Interspiritual Advent series. December 8th\, Bodhi Day\, is celebrated in the Buddhist tradition around the world as the day that Gautama Buddha attained enlightenment while sitting under the body tree. Join us today as we celebrate Bodhi Day and consider our own potential for enlightenment. \nBring a friend and stay for coffee and light refreshments. We look forward to seeing you! \nPoster by: Liandra Pires
URL:https://uucpalisades.org/event/celebrating-bodhi-day-rev-paul-dodenhoff/
LOCATION:Englewood\, 07631\, United States
ORGANIZER;CN="UUCP":MAILTO:Use our contact form on our website
END:VEVENT
BEGIN:VEVENT
DTSTART;TZID=America/New_York:20161211T103000
DTEND;TZID=America/New_York:20161211T113000
DTSTAMP:20260421T125207
CREATED:20161130T191800Z
LAST-MODIFIED:20161130T191800Z
UID:10000174-1481452200-1481455800@uucpalisades.org
SUMMARY:THIS I BELIEVE – HOLIDAY MEMORIES & TRADITIONS - UUCP Program Team
DESCRIPTION:Please join us for today’s service led by the UUCP Program Team. What are your holiday memories? Coming from different religious and cultural backgrounds\, Unitarian Universalists have many varied memories of the holiday season. Join us as we hear about some of our members’ diverse customs\, myriad beliefs\, and fondest memories of this time of year. \nBring a friend and stay for coffee and light refreshments. We look forward to seeing you! \nPoster by: Liandra Pires
URL:https://uucpalisades.org/event/this-i-believe-holiday-memories-traditions-uucp-program-team/
LOCATION:Englewood\, 07631\, United States
ORGANIZER;CN="UUCP":MAILTO:Use our contact form on our website
END:VEVENT
BEGIN:VEVENT
DTSTART;TZID=America/New_York:20161218T103000
DTEND;TZID=America/New_York:20161218T113000
DTSTAMP:20260421T125207
CREATED:20161107T162950Z
LAST-MODIFIED:20161107T162950Z
UID:10000170-1482057000-1482060600@uucpalisades.org
SUMMARY:RING OUT SOLSTICE BELLS! THE LIGHT RETURNS! - Rev. Paul Dodenhoff
DESCRIPTION:Please join us for today’s service led by Rev. Paul Dodenhoff. This is the 3rd in a 4 part Interspiritual Advent series. The shortest day and the longest night of the year have been celebrated since time immemorial by various cultures around the world as harbingers of the return of the light. Join us as we continue our interspiritual celebration of advent and consider the spiritual meaning of the Winter Solstice in the 21st Century. \nBring a friend and stay for coffee and light refreshments. We look forward to seeing you! \nPoster by: Liandra Pires \n 
URL:https://uucpalisades.org/event/ring-out-solstice-bells-the-light-returns-rev-paul-dodenhoff/
LOCATION:Englewood\, 07631\, United States
ORGANIZER;CN="UUCP":MAILTO:Use our contact form on our website
END:VEVENT
BEGIN:VEVENT
DTSTART;TZID=America/New_York:20161222T190000
DTEND;TZID=America/New_York:20161222T210000
DTSTAMP:20260421T125207
CREATED:20160829T213311Z
LAST-MODIFIED:20160829T213311Z
UID:10000125-1482433200-1482440400@uucpalisades.org
SUMMARY:Board of Trustees
DESCRIPTION:
URL:https://uucpalisades.org/event/board-of-trustees-4/
LOCATION:Englewood\, 07631\, United States
ORGANIZER;CN="UUCP":MAILTO:Use our contact form on our website
END:VEVENT
BEGIN:VEVENT
DTSTART;TZID=America/New_York:20161223T193000
DTEND;TZID=America/New_York:20161223T213000
DTSTAMP:20260421T125207
CREATED:20160829T213433Z
LAST-MODIFIED:20160829T213433Z
UID:10000126-1482521400-1482528600@uucpalisades.org
SUMMARY:FOURTH FRIDAY EVENT - HOLIDAY PARTY
DESCRIPTION:
URL:https://uucpalisades.org/event/fourth-friday-event-holiday-party/
LOCATION:Englewood\, 07631\, United States
ORGANIZER;CN="UUCP":MAILTO:Use our contact form on our website
END:VEVENT
BEGIN:VEVENT
DTSTART;TZID=America/New_York:20161224T170000
DTEND;TZID=America/New_York:20161224T183000
DTSTAMP:20260421T125207
CREATED:20161107T163518Z
LAST-MODIFIED:20161107T164031Z
UID:10000171-1482598800-1482604200@uucpalisades.org
SUMMARY:YOU ARE THE LIGHT OF THE WORLD - Rev. Paul Dodenhoff
DESCRIPTION:Please join us for tonight’s service at 5:00 PM\, led by Rev. Paul Dodenhoff. Join us this evening for the last of our Interspiritual Advent services as we celebrate Christmas and Chanukah and the importance of being Light in a world that often seems very dark. \nBring family and friends. Stay for coffee and light refreshments. We look forward to seeing you! \nPoster by: Liandra Pires \n 
URL:https://uucpalisades.org/event/you-are-the-light-of-the-world-rev-paul-dodenhoff/
LOCATION:Englewood\, 07631\, United States
ORGANIZER;CN="UUCP":MAILTO:Use our contact form on our website
END:VEVENT
BEGIN:VEVENT
DTSTART;TZID=America/New_York:20161225T103000
DTEND;TZID=America/New_York:20161225T113000
DTSTAMP:20260421T125207
CREATED:20160829T213645Z
LAST-MODIFIED:20160829T213645Z
UID:10000127-1482661800-1482665400@uucpalisades.org
SUMMARY:SUNDAY SERVICE (CANCELLED)
DESCRIPTION:
URL:https://uucpalisades.org/event/sunday-service-cancelled/
LOCATION:Englewood\, 07631\, United States
ORGANIZER;CN="UUCP":MAILTO:Use our contact form on our website
END:VEVENT
END:VCALENDAR