BEGIN:VCALENDAR
VERSION:2.0
PRODID:-// - ECPv6.15.20//NONSGML v1.0//EN
CALSCALE:GREGORIAN
METHOD:PUBLISH
X-ORIGINAL-URL:https://uucpalisades.org
X-WR-CALDESC:Events for 
REFRESH-INTERVAL;VALUE=DURATION:PT1H
X-Robots-Tag:noindex
X-PUBLISHED-TTL:PT1H
BEGIN:VTIMEZONE
TZID:America/New_York
BEGIN:DAYLIGHT
TZOFFSETFROM:-0500
TZOFFSETTO:-0400
TZNAME:EDT
DTSTART:20150308T070000
END:DAYLIGHT
BEGIN:STANDARD
TZOFFSETFROM:-0400
TZOFFSETTO:-0500
TZNAME:EST
DTSTART:20151101T060000
END:STANDARD
BEGIN:DAYLIGHT
TZOFFSETFROM:-0500
TZOFFSETTO:-0400
TZNAME:EDT
DTSTART:20160313T070000
END:DAYLIGHT
BEGIN:STANDARD
TZOFFSETFROM:-0400
TZOFFSETTO:-0500
TZNAME:EST
DTSTART:20161106T060000
END:STANDARD
BEGIN:DAYLIGHT
TZOFFSETFROM:-0500
TZOFFSETTO:-0400
TZNAME:EDT
DTSTART:20170312T070000
END:DAYLIGHT
BEGIN:STANDARD
TZOFFSETFROM:-0400
TZOFFSETTO:-0500
TZNAME:EST
DTSTART:20171105T060000
END:STANDARD
END:VTIMEZONE
BEGIN:VEVENT
DTSTART;TZID=America/New_York:20161106T103000
DTEND;TZID=America/New_York:20161106T113000
DTSTAMP:20260421T182021
CREATED:20161019T170823Z
LAST-MODIFIED:20161019T170823Z
UID:10000165-1478428200-1478431800@uucpalisades.org
SUMMARY:SAVING TIME? - Rev. Paul Dodenhoff
DESCRIPTION:Please join us for today’s service led by Rev. Paul Dodenhoff. Today begins daylight saving time for most of the U.S. Join us this morning as we spend some time thinking about time and how we save\, spend\, and often waste it. And don’t forget to set your clocks back on Saturday night! \nBring a friend and stay for coffee and light refreshments. We look forward to seeing you! \nPoster by: Liandra Pires
URL:https://uucpalisades.org/event/saving-time-rev-paul-dodenhoff/
LOCATION:Englewood\, 07631\, United States
ORGANIZER;CN="UUCP":MAILTO:Use our contact form on our website
END:VEVENT
BEGIN:VEVENT
DTSTART;TZID=America/New_York:20161113T103000
DTEND;TZID=America/New_York:20161113T113000
DTSTAMP:20260421T182021
CREATED:20161101T182915Z
LAST-MODIFIED:20161101T182915Z
UID:10000166-1479033000-1479036600@uucpalisades.org
SUMMARY:TURN OFF THE NOISE - Deborah Singer Pires
DESCRIPTION:Please join us for today’s service led by UUCP Co-President\, Deborah Singer Pires. It’s finally over. (or is it?)  This has been a very long and worrisome election. What can we learn from the Jewish tradition of observing the Sabbath to help us keep our sanity during times of insanity? First\, turn off the media. Join us to find out what else Sabbath observers do to maintain a sense of peace. \nBring a friend and stay for coffee and light refreshments. We look forward to seeing you! \nPoster by: Liandra Pires
URL:https://uucpalisades.org/event/turn-off-the-noise-deborah-singer-pires/
LOCATION:Englewood\, 07631\, United States
ORGANIZER;CN="UUCP":MAILTO:Use our contact form on our website
END:VEVENT
BEGIN:VEVENT
DTSTART;TZID=America/New_York:20161117T190000
DTEND;TZID=America/New_York:20161117T210000
DTSTAMP:20260421T182021
CREATED:20160829T212717Z
LAST-MODIFIED:20160829T212717Z
UID:10000121-1479409200-1479416400@uucpalisades.org
SUMMARY:Board of Trustees
DESCRIPTION:
URL:https://uucpalisades.org/event/board-of-trustees-2/
LOCATION:Englewood\, 07631\, United States
ORGANIZER;CN="UUCP":MAILTO:Use our contact form on our website
END:VEVENT
BEGIN:VEVENT
DTSTART;TZID=America/New_York:20161117T190000
DTEND;TZID=America/New_York:20161117T210000
DTSTAMP:20260421T182021
CREATED:20161109T211153Z
LAST-MODIFIED:20161109T211153Z
UID:10000172-1479409200-1479416400@uucpalisades.org
SUMMARY:POST-ELECTION DISCUSSION...SO WHAT HAPPENS NOW?
DESCRIPTION:Now that the all-consuming election process is over\, join UUCP for a lively discussion to share your thoughts\, feelings and experiences. What happened and why did it happen? What does the future hold? What happens to critical issues that were somehow given second place?  What about economic inequality and big money controls on government and what about dismantling the embedded racism that is crippling our society? What could we learn about this election that can help achieve real\, lasting social progress and what does it tell us about what we should do? The discussion will be led by Al Stawsky\, Chair\, Congregational Racial and Social Justice Team; Founder & Former Chair\, Criminal Justice Reform Task Force of the Unitarian Universalist Legislative Ministry of New Jersey. Cookies and coffee will be served. Donations appreciated. \nPoster by: Liandra Pires
URL:https://uucpalisades.org/event/post-election-discussion-so-what-happens-now/
LOCATION:Englewood\, 07631\, United States
ORGANIZER;CN="UUCP":MAILTO:Use our contact form on our website
END:VEVENT
BEGIN:VEVENT
DTSTART;TZID=America/New_York:20161120T103000
DTEND;TZID=America/New_York:20161120T113000
DTSTAMP:20260421T182021
CREATED:20161107T162048Z
LAST-MODIFIED:20161107T162048Z
UID:10000167-1479637800-1479641400@uucpalisades.org
SUMMARY:THANKSGIVING AGAIN? - Rev. Paul Dodenhoff
DESCRIPTION:In 1863\, President Lincoln made the observance of an annual day of thanksgiving an official national holiday. And since that proclamation\, Thanksgiving has become one of the most beloved of our national holidays.  And ever since then clergy people have delivered the obligatory annual Thanksgiving sermon! Join us today as Rev. Paul Dodenhoff offers his thoughts on thanks\, giving\, and how they are important to a real appreciation of this holiday. \nBring a friend and stay for coffee and light refreshments. We look forward to seeing you! \nPoster by: Liandra Pires
URL:https://uucpalisades.org/event/thanksgiving-again-rev-paul-dodenhoff/
LOCATION:Englewood\, 07631\, United States
ORGANIZER;CN="UUCP":MAILTO:Use our contact form on our website
END:VEVENT
BEGIN:VEVENT
DTSTART;TZID=America/New_York:20161120T114500
DTEND;TZID=America/New_York:20161120T124500
DTSTAMP:20260421T182021
CREATED:20160829T212824Z
LAST-MODIFIED:20160829T212824Z
UID:10000122-1479642300-1479645900@uucpalisades.org
SUMMARY:Congregational Meeting
DESCRIPTION:
URL:https://uucpalisades.org/event/congregational-meeting-3/
LOCATION:Englewood\, 07631\, United States
ORGANIZER;CN="UUCP":MAILTO:Use our contact form on our website
END:VEVENT
BEGIN:VEVENT
DTSTART;TZID=America/New_York:20161125T190000
DTEND;TZID=America/New_York:20161125T210000
DTSTAMP:20260421T182021
CREATED:20161121T220731Z
LAST-MODIFIED:20161121T220731Z
UID:10000173-1480100400-1480107600@uucpalisades.org
SUMMARY:AN EVENING OF COLORING MEDITATION
DESCRIPTION:On Friday\, November 25th at 7:00 PM\, The Unitarian Universalist Congregation of the Palisades (UUCP) will be hosting “An Evening of Coloring Meditation.” \nThe word mandala comes from the ancient Sanskrit language and loosely means “circle” or “center.” The mandala is a circular matrix with a center point\, a sacred center that helps to stimulate and promote creativity\, relaxation\, healing\, and other positive states of being. As an alternate style of meditation\, coloring allows us to enter into and experience the power of the mandala in our lives. \nRev. Paul Dodenhoff will begin the evening with a brief talk on meditation and the mandala before we begin our evening of coloring. Our coloring meditation will be a silent one followed by a time for refreshments and conversation. Crayons\, colored pencils\, and coloring mandalas will be provided. Please join us for this special evening and feel free to bring a Thanksgiving leftover treat to share. \nPoster by: Liandra Pires \n 
URL:https://uucpalisades.org/event/an-evening-of-coloring-meditation/
LOCATION:Englewood\, 07631\, United States
ORGANIZER;CN="UUCP":MAILTO:Use our contact form on our website
END:VEVENT
BEGIN:VEVENT
DTSTART;TZID=America/New_York:20161125T193000
DTEND;TZID=America/New_York:20161125T210000
DTSTAMP:20260421T182021
CREATED:20160829T212911Z
LAST-MODIFIED:20160829T212911Z
UID:10000123-1480102200-1480107600@uucpalisades.org
SUMMARY:FOURTH FRIDAY EVENT
DESCRIPTION:
URL:https://uucpalisades.org/event/fourth-friday-event-3/
LOCATION:Englewood\, 07631\, United States
ORGANIZER;CN="UUCP":MAILTO:Use our contact form on our website
END:VEVENT
BEGIN:VEVENT
DTSTART;TZID=America/New_York:20161127T103000
DTEND;TZID=America/New_York:20161127T113000
DTSTAMP:20260421T182021
CREATED:20161107T162317Z
LAST-MODIFIED:20161107T162317Z
UID:10000168-1480242600-1480246200@uucpalisades.org
SUMMARY:AN INTERSPIRITUAL LOOK AT ADVENT - Rev. Paul Dodenhoff
DESCRIPTION:Please join us for today’s service led by Rev. Paul Dodenhoff. This is the 1st in a 4 part Interspiritual Advent series. The season of Advent\, which comes from the Latin word adventus meaning “coming” or “visit\,” begins four Sundays before Christmas and ends on Christmas Eve. Advent is the beginning of the liturgical year for Christians as they prepare for\, and anticipate\, the coming of Jesus of Nazareth\, who is called “the Light of the world.” But many spiritual traditions also celebrate the coming of the Light around the same time of year. Tonight we’ll consider how we can celebrate and honor the coming of the Light into our own lives. \nBring a friend and stay for coffee and light refreshments. We look forward to seeing you! \nPoster by: Liandra Pires
URL:https://uucpalisades.org/event/an-interspiritual-look-at-advent-rev-paul-dodenhoff/
LOCATION:Englewood\, 07631\, United States
ORGANIZER;CN="UUCP":MAILTO:Use our contact form on our website
END:VEVENT
END:VCALENDAR