BEGIN:VCALENDAR
VERSION:2.0
PRODID:-// - ECPv6.15.20//NONSGML v1.0//EN
CALSCALE:GREGORIAN
METHOD:PUBLISH
X-ORIGINAL-URL:https://uucpalisades.org
X-WR-CALDESC:Events for 
REFRESH-INTERVAL;VALUE=DURATION:PT1H
X-Robots-Tag:noindex
X-PUBLISHED-TTL:PT1H
BEGIN:VTIMEZONE
TZID:America/New_York
BEGIN:DAYLIGHT
TZOFFSETFROM:-0500
TZOFFSETTO:-0400
TZNAME:EDT
DTSTART:20150308T070000
END:DAYLIGHT
BEGIN:STANDARD
TZOFFSETFROM:-0400
TZOFFSETTO:-0500
TZNAME:EST
DTSTART:20151101T060000
END:STANDARD
BEGIN:DAYLIGHT
TZOFFSETFROM:-0500
TZOFFSETTO:-0400
TZNAME:EDT
DTSTART:20160313T070000
END:DAYLIGHT
BEGIN:STANDARD
TZOFFSETFROM:-0400
TZOFFSETTO:-0500
TZNAME:EST
DTSTART:20161106T060000
END:STANDARD
BEGIN:DAYLIGHT
TZOFFSETFROM:-0500
TZOFFSETTO:-0400
TZNAME:EDT
DTSTART:20170312T070000
END:DAYLIGHT
BEGIN:STANDARD
TZOFFSETFROM:-0400
TZOFFSETTO:-0500
TZNAME:EST
DTSTART:20171105T060000
END:STANDARD
END:VTIMEZONE
BEGIN:VEVENT
DTSTART;TZID=America/New_York:20160904T103000
DTEND;TZID=America/New_York:20160904T113000
DTSTAMP:20260421T235528
CREATED:20160802T181505Z
LAST-MODIFIED:20160802T181505Z
UID:10000116-1472985000-1472988600@uucpalisades.org
SUMMARY:"FOUR SPIRITUAL TEACHERS WALK INTO A BAR..." - Rev. Paul Dodenhoff
DESCRIPTION:Please join us for today’s service led by Rev. Paul Dodenhoff. This is the 4th in a 4 Part series. Some of the greatest conversations\, even spiritual ones\, happen in bars (or coffee houses\, if you prefer.) Even though it’s often the beginning of a joke\, the idea of these four great spiritual teachers sitting around a table having a conversation about spiritual truths is compelling. What would they have to say to each other? Would there be an argument or a calm deep discussion about each of their paths? Would they find common ground? \nToday ends a four-part series considering this scenario and how it relates to our own differing paths and ideas about the life of Spirit. \nPoster by: Liandra Pires
URL:https://uucpalisades.org/event/four-spiritual-teachers-walk-into-a-bar-rev-paul-dodenhoff/
LOCATION:Englewood\, 07631\, United States
ORGANIZER;CN="UUCP":MAILTO:Use our contact form on our website
END:VEVENT
BEGIN:VEVENT
DTSTART;TZID=America/New_York:20160911T103000
DTEND;TZID=America/New_York:20160911T113000
DTSTAMP:20260421T235528
CREATED:20160902T170229Z
LAST-MODIFIED:20160902T170333Z
UID:10000128-1473589800-1473593400@uucpalisades.org
SUMMARY:MOVING FORWARD FROM 9/11 - Michael S. Meyers-Jouan
DESCRIPTION:Please join us for today’s service led by UUCP member\, Michael S. Meyers-Jouan. It has been fifteen years since the events that have given this date such resonance. Let us reflect on what we have learned\, and experienced; let us consider what we should be doing about it. \nBring a friend and stay for coffee and light refreshments. We look forward to seeing you. \nPoster by: Liandra Pires
URL:https://uucpalisades.org/event/moving-foward-from-911-michael-s-meyers-jouan/
LOCATION:Englewood\, 07631\, United States
ORGANIZER;CN="UUCP":MAILTO:Use our contact form on our website
END:VEVENT
BEGIN:VEVENT
DTSTART;TZID=America/New_York:20160915T190000
DTEND;TZID=America/New_York:20160915T210000
DTSTAMP:20260421T235528
CREATED:20160829T211452Z
LAST-MODIFIED:20160829T211934Z
UID:10000026-1473966000-1473973200@uucpalisades.org
SUMMARY:Board of Trustees
DESCRIPTION:
URL:https://uucpalisades.org/event/collage-workshop-service-auction-item-cassandra-jennings-hall/
LOCATION:Englewood\, 07631\, United States
ORGANIZER;CN="UUCP":MAILTO:Use our contact form on our website
END:VEVENT
BEGIN:VEVENT
DTSTART;TZID=America/New_York:20160918T103000
DTEND;TZID=America/New_York:20160918T113000
DTSTAMP:20260421T235528
CREATED:20160829T161124Z
LAST-MODIFIED:20160829T161540Z
UID:10000023-1474194600-1474198200@uucpalisades.org
SUMMARY:IT’S ALL ABOUT BALANCE…OR IS IT? - Rev. Paul Dodenhoff
DESCRIPTION:Please join us for today’s service led by Rev. Paul Dodenhoff. It’s become the common cry of almost everyone: “I feel like I’m walking a tightrope! I need to find some balance in my life!” An entire industry has even sprung up around that perceived need: seminars\, books\, online courses\, support groups all designed to help us achieve that elusive quality in our lives. \nBut is it all about balance or are we missing something else that’s as equally important? Join us as we consider how we can do a better job of walking that tightrope without falling off. \nBring a friend and stay for coffee and light refreshments. We look forward to seeing you! \nPoster by: Liandra Pires
URL:https://uucpalisades.org/event/its-all-about-balanceor-is-it-rev-paul-dodenhoff/
LOCATION:Englewood\, 07631\, United States
ORGANIZER;CN="UUCP":MAILTO:Use our contact form on our website
END:VEVENT
BEGIN:VEVENT
DTSTART;TZID=America/New_York:20160923T193000
DTEND;TZID=America/New_York:20160923T210000
DTSTAMP:20260421T235528
CREATED:20160829T212101Z
LAST-MODIFIED:20160829T212101Z
UID:10000028-1474659000-1474664400@uucpalisades.org
SUMMARY:FOURTH FRIDAY EVENT
DESCRIPTION:
URL:https://uucpalisades.org/event/fourth-friday-event/
LOCATION:Englewood\, 07631\, United States
ORGANIZER;CN="UUCP":MAILTO:Use our contact form on our website
END:VEVENT
BEGIN:VEVENT
DTSTART;TZID=America/New_York:20160925T103000
DTEND;TZID=America/New_York:20160925T113000
DTSTAMP:20260421T235528
CREATED:20160829T161450Z
LAST-MODIFIED:20160829T161450Z
UID:10000024-1474799400-1474803000@uucpalisades.org
SUMMARY:A CELEBRATION OF AUTUMN - Rev. Paul Dodenhoff
DESCRIPTION:Please join us for today’s service led by Rev. Paul Dodenhoff. The seasons change once again. Join us today as we celebrate the return of autumn\, a season of chilly air\, great beauty\, falling leaves\, and introspection. \nBring a friend and stay for coffee and light refreshments. We look forward to seeing you! \nPoster by: Liandra Pires
URL:https://uucpalisades.org/event/a-celebration-of-autumn-rev-paul-dodenhoff/
LOCATION:Englewood\, 07631\, United States
ORGANIZER;CN="UUCP":MAILTO:Use our contact form on our website
END:VEVENT
END:VCALENDAR