BEGIN:VCALENDAR
VERSION:2.0
PRODID:-// - ECPv6.15.20//NONSGML v1.0//EN
CALSCALE:GREGORIAN
METHOD:PUBLISH
X-ORIGINAL-URL:https://uucpalisades.org
X-WR-CALDESC:Events for 
REFRESH-INTERVAL;VALUE=DURATION:PT1H
X-Robots-Tag:noindex
X-PUBLISHED-TTL:PT1H
BEGIN:VTIMEZONE
TZID:America/New_York
BEGIN:DAYLIGHT
TZOFFSETFROM:-0500
TZOFFSETTO:-0400
TZNAME:EDT
DTSTART:20150308T070000
END:DAYLIGHT
BEGIN:STANDARD
TZOFFSETFROM:-0400
TZOFFSETTO:-0500
TZNAME:EST
DTSTART:20151101T060000
END:STANDARD
BEGIN:DAYLIGHT
TZOFFSETFROM:-0500
TZOFFSETTO:-0400
TZNAME:EDT
DTSTART:20160313T070000
END:DAYLIGHT
BEGIN:STANDARD
TZOFFSETFROM:-0400
TZOFFSETTO:-0500
TZNAME:EST
DTSTART:20161106T060000
END:STANDARD
BEGIN:DAYLIGHT
TZOFFSETFROM:-0500
TZOFFSETTO:-0400
TZNAME:EDT
DTSTART:20170312T070000
END:DAYLIGHT
BEGIN:STANDARD
TZOFFSETFROM:-0400
TZOFFSETTO:-0500
TZNAME:EST
DTSTART:20171105T060000
END:STANDARD
END:VTIMEZONE
BEGIN:VEVENT
DTSTART;TZID=America/New_York:20160703T103000
DTEND;TZID=America/New_York:20160703T113000
DTSTAMP:20260422T033418
CREATED:20160627T204907Z
LAST-MODIFIED:20160628T191802Z
UID:10000104-1467541800-1467545400@uucpalisades.org
SUMMARY:"FOUR SPIRITUAL TEACHERS WALK INTO A BAR..." - Rev. Paul Dodenhoff
DESCRIPTION:Please join us for today’s service led by Rev. Paul Dodenhoff. This is the 1st in a 4 Part series. Some of the greatest conversations\, even spiritual ones\, happen in bars (or coffee houses\, if you prefer.) Even though it’s often the beginning of a joke\, the idea of these four great spiritual teachers sitting around a table having a conversation about spiritual truths is compelling. What would they have to say to each other? Would there be an argument or a calm deep discussion about each of their paths? Would they find common ground? \nToday begins a four-part series considering this scenario and how it relates to our own differing paths and ideas about the life of Spirit. \nPoster by: Liandra Pires
URL:https://uucpalisades.org/event/moses-at-the-bar-rev-paul-dodenhoff/
LOCATION:Englewood\, 07631\, United States
ORGANIZER;CN="UUCP":MAILTO:Use our contact form on our website
END:VEVENT
BEGIN:VEVENT
DTSTART;TZID=America/New_York:20160710T103000
DTEND;TZID=America/New_York:20160710T113000
DTSTAMP:20260422T033418
CREATED:20160627T205858Z
LAST-MODIFIED:20160627T214511Z
UID:10000110-1468146600-1468150200@uucpalisades.org
SUMMARY:CELEBRATIONS - Deborah Singer Pires & Arlene Holpp Scala
DESCRIPTION:Please join us for today’s service led by UUCP Co-Presidents\, Deborah Singer Pires & Arlene Holpp Scala. Most people celebrate major events without thinking about the spiritual necessity of these celebrations. Why do we celebrate? Is it important to celebrate?  Is there a place for ritual in our celebrations? We’ll discuss these questions and consequences of celebrating (or not) the special times of our lives. \nStay for coffee and light refreshments. We look forward to seeing you! \nPoster by: Liandra Pires \n 
URL:https://uucpalisades.org/event/celebrations-deborah-singer-pires-arlene-holpp-scala/
LOCATION:Englewood\, 07631\, United States
ORGANIZER;CN="UUCP":MAILTO:Use our contact form on our website
END:VEVENT
BEGIN:VEVENT
DTSTART;TZID=America/New_York:20160717T103000
DTEND;TZID=America/New_York:20160717T113000
DTSTAMP:20260422T033418
CREATED:20160627T205133Z
LAST-MODIFIED:20160628T191921Z
UID:10000106-1468751400-1468755000@uucpalisades.org
SUMMARY:"FOUR SPIRITUAL TEACHERS WALK INTO A BAR..." - Rev. Paul Dodenhoff
DESCRIPTION:Please join us for today’s service led by Rev. Paul Dodenhoff. This is the 2nd in a 4 Part series. Some of the greatest conversations\, even spiritual ones\, happen in bars (or coffee houses\, if you prefer.) Even though it’s often the beginning of a joke\, the idea of these four great spiritual teachers sitting around a table having a conversation about spiritual truths is compelling. What would they have to say to each other? Would there be an argument or a calm deep discussion about each of their paths? Would they find common ground? \nToday continues a four-part series considering this scenario and how it relates to our own differing paths and ideas about the life of Spirit. \nPoster by: Liandra Pires
URL:https://uucpalisades.org/event/buddha-at-the-bar-rev-paul-dodenhoff/
LOCATION:Englewood\, 07631\, United States
ORGANIZER;CN="UUCP":MAILTO:Use our contact form on our website
END:VEVENT
BEGIN:VEVENT
DTSTART;TZID=America/New_York:20160724T103000
DTEND;TZID=America/New_York:20160724T113000
DTSTAMP:20260422T033418
CREATED:20160627T205409Z
LAST-MODIFIED:20160628T192121Z
UID:10000108-1469356200-1469359800@uucpalisades.org
SUMMARY:"FOUR SPIRITUAL TEACHERS WALK INTO A BAR..." - Rev. Paul Dodenhoff
DESCRIPTION:Please join us for today’s service led by Rev. Paul Dodenhoff. This is the 3rd in a 4 Part series. Some of the greatest conversations\, even spiritual ones\, happen in bars (or coffee houses\, if you prefer.) Even though it’s often the beginning of a joke\, the idea of these four great spiritual teachers sitting around a table having a conversation about spiritual truths is compelling. What would they have to say to each other? Would there be an argument or a calm deep discussion about each of their paths? Would they find common ground? \nToday continues a four-part series considering this scenario and how it relates to our own differing paths and ideas about the life of Spirit. \nPoster by: Liandra Pires
URL:https://uucpalisades.org/event/jesus-at-the-bar-rev-paul-dodenhoff/
LOCATION:Englewood\, 07631\, United States
ORGANIZER;CN="UUCP":MAILTO:Use our contact form on our website
END:VEVENT
BEGIN:VEVENT
DTSTART;TZID=America/New_York:20160731T103000
DTEND;TZID=America/New_York:20160731T113000
DTSTAMP:20260422T033418
CREATED:20160715T160059Z
LAST-MODIFIED:20160715T160059Z
UID:10000112-1469961000-1469964600@uucpalisades.org
SUMMARY:A SUMMERS MEDITATION - JON KING
DESCRIPTION:Please join us for today’s service led by UUCP member\, Jon King. Today Jon will lead a meditation service for an experience of deep relaxation and peace. Meditation can help you to become more peaceful\, more focused\, less worried\, more appreciative and attentive to everything in your life. \nBring a friend and stay for coffee and light refreshments. We look forward to seeing you! \nPoster by: Liandra Pires
URL:https://uucpalisades.org/event/a-summers-meditation-jon-king/
LOCATION:Englewood\, 07631\, United States
ORGANIZER;CN="UUCP":MAILTO:Use our contact form on our website
END:VEVENT
END:VCALENDAR