BEGIN:VCALENDAR
VERSION:2.0
PRODID:-// - ECPv6.15.20//NONSGML v1.0//EN
CALSCALE:GREGORIAN
METHOD:PUBLISH
X-ORIGINAL-URL:https://uucpalisades.org
X-WR-CALDESC:Events for 
REFRESH-INTERVAL;VALUE=DURATION:PT1H
X-Robots-Tag:noindex
X-PUBLISHED-TTL:PT1H
BEGIN:VTIMEZONE
TZID:America/New_York
BEGIN:DAYLIGHT
TZOFFSETFROM:-0500
TZOFFSETTO:-0400
TZNAME:EDT
DTSTART:20150308T070000
END:DAYLIGHT
BEGIN:STANDARD
TZOFFSETFROM:-0400
TZOFFSETTO:-0500
TZNAME:EST
DTSTART:20151101T060000
END:STANDARD
BEGIN:DAYLIGHT
TZOFFSETFROM:-0500
TZOFFSETTO:-0400
TZNAME:EDT
DTSTART:20160313T070000
END:DAYLIGHT
BEGIN:STANDARD
TZOFFSETFROM:-0400
TZOFFSETTO:-0500
TZNAME:EST
DTSTART:20161106T060000
END:STANDARD
BEGIN:DAYLIGHT
TZOFFSETFROM:-0500
TZOFFSETTO:-0400
TZNAME:EDT
DTSTART:20170312T070000
END:DAYLIGHT
BEGIN:STANDARD
TZOFFSETFROM:-0400
TZOFFSETTO:-0500
TZNAME:EST
DTSTART:20171105T060000
END:STANDARD
END:VTIMEZONE
BEGIN:VEVENT
DTSTART;TZID=America/New_York:20160403T103000
DTEND;TZID=America/New_York:20160403T113000
DTSTAMP:20260422T070102
CREATED:20160323T173903Z
LAST-MODIFIED:20160323T174309Z
UID:10000098-1459679400-1459683000@uucpalisades.org
SUMMARY:ARE YOU HITTING THE SPIRITUAL SNOOZE BUTTON? - Rev. Paul Dodenhoff
DESCRIPTION:Please join us for today’s service led by Rev. Paul Dodenhoff. Are you one of those people who consider the snooze button one of the greatest inventions in the history of humanity? You may be right! But when it comes to our spiritual lives\, snoozing isn’t really a helpful option! \nBring a friend and stay for coffee and light refreshments. We look forward to seeing you!
URL:https://uucpalisades.org/event/are-you-hitting-the-spiritual-snooze-button-rev-paul-dodenhoff/
LOCATION:Englewood\, 07631\, United States
END:VEVENT
BEGIN:VEVENT
DTSTART;TZID=America/New_York:20160403T120000
DTEND;TZID=America/New_York:20160403T130000
DTSTAMP:20260422T070102
CREATED:20160314T163042Z
LAST-MODIFIED:20160314T163042Z
UID:10000095-1459684800-1459688400@uucpalisades.org
SUMMARY:Congregational Meeting
DESCRIPTION:Congregational Meeting after service.
URL:https://uucpalisades.org/event/congregational-meeting-2/
LOCATION:Englewood\, 07631\, United States
ORGANIZER;CN="UUCP":MAILTO:Use our contact form on our website
END:VEVENT
BEGIN:VEVENT
DTSTART;TZID=America/New_York:20160409T190000
DTEND;TZID=America/New_York:20160409T220000
DTSTAMP:20260422T070102
CREATED:20160124T204641Z
LAST-MODIFIED:20160426T152224Z
UID:10000004-1460228400-1460239200@uucpalisades.org
SUMMARY:UUCP SERVICE AUCTION 2016
DESCRIPTION:It’s that time of year again! \nPlease join the Unitarian Universalist Congregation of the Palisades (UUCP) for their annual service auction on Saturday\, April 9th at 7:00 PM. Come and enjoy a live and silent auction presented by a professional auctioneer. \nSome items included are musical events\, dinners\, restaurant/service certificates\, our boutique and more! This fun filled evening helps UUCP to continue their work of promoting social justice and interfaith cooperation and understanding. \nYou don’t want to miss this event! We look forward to seeing you there! \nTickets: $15.00 in advance\, $20.00 at the door \nFor advance tickets call: (201) 568-5540 \nPoster by: Bonnie Savitz \nLive Auction Catalog\nSilent Auction Catalog
URL:https://uucpalisades.org/event/service-auction/
LOCATION:Englewood\, 07631\, United States
ORGANIZER;CN="UUCP":MAILTO:Use our contact form on our website
END:VEVENT
BEGIN:VEVENT
DTSTART;TZID=America/New_York:20160410T103000
DTEND;TZID=America/New_York:20160410T113000
DTSTAMP:20260422T070102
CREATED:20160319T172337Z
LAST-MODIFIED:20160319T172337Z
UID:10000097-1460284200-1460287800@uucpalisades.org
SUMMARY:UNAUTHORIZED IMMIGRANT PARENTS: SEEKING A COMPASSIONATE RESPONSE - Dr. Sue Kenney
DESCRIPTION:Dr. Kenney will address the difficult decision that some parents must make to leave their children behind in their country of origin\, and the equally untenable flip side of this issue:  undocumented parents who face deportation\, and must decide whether to leave their American citizen children behind in the U.S.  She will also discuss the 3.6 million unauthorized parents who are potentially eligible for DAPA (Deferred Action for Parental Accountability)\, the Obama Administration’s program to defer deportations of these parents for three years. Immigration is one of the issues that the UU Legislative Ministry addresses. \nDr. Sue Kenney’s Bio: \nDr. Sue Kenney became interested in immigrants’ rights work during her years as a restaurant owner in Hackensack\, New Jersey.  She joined First Friends\, an immigrants’ rights advocacy group in 2011\, and has been visiting undocumented immigrants being held in detention ever since. Sue lives with her husband\, Tom\, in Washington Township\, and teaches English at Immaculate Heart Academy.  Last year Sue earned her doctorate in interdisciplinary humanities from Drew University. \nPoster by: Liandra Pires
URL:https://uucpalisades.org/event/unauthorized-immigrant-parents-seeking-a-compassionate-response-dr-sue-kenney/
LOCATION:Englewood\, 07631\, United States
END:VEVENT
BEGIN:VEVENT
DTSTART;TZID=America/New_York:20160417T103000
DTEND;TZID=America/New_York:20160417T113000
DTSTAMP:20260422T070102
CREATED:20160323T174224Z
LAST-MODIFIED:20160323T174224Z
UID:10000099-1460889000-1460892600@uucpalisades.org
SUMMARY:THINKING ABOUT THINKING PART 2 - Rev. Paul Dodenhoff
DESCRIPTION:Please join us for today’s service led by Rev. Paul Dodenhoff. Part 2 of Rev. Paul’s sermon on the power of thought. Drawing from the work of James Allen’s book\, “As A Man Thinketh\,” we do some more thinking about thinking and about the power of thought and just what that means – and doesn’t mean – in our daily lives. \nBring a friend and stay for coffee and light refreshments. We look forward to seeing you! \n \n 
URL:https://uucpalisades.org/event/thinking-about-thinking-part-2-rev-paul-dodenhoff/
LOCATION:Englewood\, 07631\, United States
END:VEVENT
BEGIN:VEVENT
DTSTART;TZID=America/New_York:20160421T190000
DTEND;TZID=America/New_York:20160421T210000
DTSTAMP:20260422T070102
CREATED:20160124T203759Z
LAST-MODIFIED:20160124T203759Z
UID:10000082-1461265200-1461272400@uucpalisades.org
SUMMARY:Board of Trustees Meeting
DESCRIPTION:
URL:https://uucpalisades.org/event/board-of-trustees-meeting-3/
ORGANIZER;CN="UUCP":MAILTO:Use our contact form on our website
END:VEVENT
BEGIN:VEVENT
DTSTART;TZID=America/New_York:20160424T103000
DTEND;TZID=America/New_York:20160424T113000
DTSTAMP:20260422T070102
CREATED:20160328T163903Z
LAST-MODIFIED:20160328T163903Z
UID:10000100-1461493800-1461497400@uucpalisades.org
SUMMARY:POT LUCK PASSOVER SEDER - Deborah Singer Pires
DESCRIPTION:Please join us for today’s service led by UUCP Co-President Deborah Singer Pires. Instead of our usual service format\, we will experience the Jewish holiday of Passover with a traditional Seder. Learn the meaning of Passover and its relevance to Unitarian Universalists. \nBring a dish to share\, but please do not bring food items made with pork\, shellfish\, or bread. Please be on time to be seated at the table in order to not disrupt the service after it has begun. All are welcome: bring family and friends. \nWe look forward to seeing you! \nPoster by: Liandra Pires
URL:https://uucpalisades.org/event/pot-luck-passover-seder-deborah-singer-pires/
LOCATION:Englewood\, 07631\, United States
END:VEVENT
END:VCALENDAR