BEGIN:VCALENDAR
VERSION:2.0
PRODID:-// - ECPv6.15.20//NONSGML v1.0//EN
CALSCALE:GREGORIAN
METHOD:PUBLISH
X-ORIGINAL-URL:https://uucpalisades.org
X-WR-CALDESC:Events for 
REFRESH-INTERVAL;VALUE=DURATION:PT1H
X-Robots-Tag:noindex
X-PUBLISHED-TTL:PT1H
BEGIN:VTIMEZONE
TZID:America/New_York
BEGIN:DAYLIGHT
TZOFFSETFROM:-0500
TZOFFSETTO:-0400
TZNAME:EDT
DTSTART:20140309T070000
END:DAYLIGHT
BEGIN:STANDARD
TZOFFSETFROM:-0400
TZOFFSETTO:-0500
TZNAME:EST
DTSTART:20141102T060000
END:STANDARD
BEGIN:DAYLIGHT
TZOFFSETFROM:-0500
TZOFFSETTO:-0400
TZNAME:EDT
DTSTART:20150308T070000
END:DAYLIGHT
BEGIN:STANDARD
TZOFFSETFROM:-0400
TZOFFSETTO:-0500
TZNAME:EST
DTSTART:20151101T060000
END:STANDARD
BEGIN:DAYLIGHT
TZOFFSETFROM:-0500
TZOFFSETTO:-0400
TZNAME:EDT
DTSTART:20160313T070000
END:DAYLIGHT
BEGIN:STANDARD
TZOFFSETFROM:-0400
TZOFFSETTO:-0500
TZNAME:EST
DTSTART:20161106T060000
END:STANDARD
END:VTIMEZONE
BEGIN:VEVENT
DTSTART;TZID=America/New_York:20151206T103000
DTEND;TZID=America/New_York:20151206T113000
DTSTAMP:20260422T133925
CREATED:20151123T151507Z
LAST-MODIFIED:20151123T151507Z
UID:10000063-1449397800-1449401400@uucpalisades.org
SUMMARY:CHANUKAH - Rev. Paul Dodenhoff
DESCRIPTION:Please join us for today’s service led by Rev. Paul Dodenhoff. Today we will light the Chanukah menorah and consider the spiritual meaning of both the miracle of Chanukah and the lighting of the candles. \nBring a friend and stay for coffee and great conversation. We look forward to seeing you! \nPoster by: Bonnie Savitz
URL:https://uucpalisades.org/event/chanukah-rev-paul-dodenhoff/
LOCATION:Englewood\, 07631\, United States
END:VEVENT
BEGIN:VEVENT
DTSTART;TZID=America/New_York:20151213T103000
DTEND;TZID=America/New_York:20151213T233000
DTSTAMP:20260422T133926
CREATED:20151130T185640Z
LAST-MODIFIED:20151207T154924Z
UID:10000065-1450002600-1450049400@uucpalisades.org
SUMMARY:WINTER SOLSTICE - Lauren Hooker
DESCRIPTION:Poster by: Bonnie Savitz \nJoin pianist/vocalist Lauren Hooker celebrating this year’s Winter Solstice with song\, native American flute music and African Djembe call and response. A time for reflection as well as group participation. \nLAUREN HOOKER – BIO \nLauren Hooker is known throughout the Metropolitan area as a jazz vocalist\, pianist\, songwriter and lyricist\, as well as an acclaimed music and events producer via an arts coalition she founded\, and a storyteller via her arts in education company: Musical Legends.  With numerous radio and television appearances and three cd’s to her credit\, she performs regularly with her quartet and as a solo artist. As an educator\, she currently teaches piano in her home studio and as a teaching artist via Arts Horizons. Much more than just a singer or a musician\, she has lived the life of an artist\, going from one important project to another and uplifting each area of her life with her creativity\, wit and sensitivity. For more info visit:www.laurenhooker.com \n \nBring a friend and stay for coffee and light refreshments. We look forward to seeing you! \n 
URL:https://uucpalisades.org/event/winter-solstice-lauren-hooker/
LOCATION:Englewood\, 07631\, United States
END:VEVENT
BEGIN:VEVENT
DTSTART;TZID=America/New_York:20151220T103000
DTEND;TZID=America/New_York:20151220T113000
DTSTAMP:20260422T133926
CREATED:20151207T160505Z
LAST-MODIFIED:20151207T160505Z
UID:10000069-1450607400-1450611000@uucpalisades.org
SUMMARY:DANCING IN THE DARK - Rev. Paul Dodenhoff
DESCRIPTION:Please join us for today’s service led by Rev. Paul Dodenhoff. December 21st is the Winter Solstice\, the shortest day of the year and a time to consider how both darkness and light are necessary for all things – including our spirit – to grow and thrive. Today we’ll consider how our ancestors observe this event and what it means for us today. \nBring a friend and stay for coffee and light refreshments. We look forward to seeing you! \nPoster by: Bonnie Savitz
URL:https://uucpalisades.org/event/dancing-in-the-dark-rev-paul-dodenhoff/
LOCATION:Englewood\, 07631\, United States
END:VEVENT
BEGIN:VEVENT
DTSTART;TZID=America/New_York:20151224T170000
DTEND;TZID=America/New_York:20151224T190000
DTSTAMP:20260422T133926
CREATED:20151207T161136Z
LAST-MODIFIED:20151207T161203Z
UID:10000072-1450976400-1450983600@uucpalisades.org
SUMMARY:THE COMING OF THE COSMIC CHRIST - Rev. Paul Dodenhoff
DESCRIPTION:Please join us for today’s Christmas service led by Rev. Paul Dodenhoff. Christmas isnt merely about the birth of Jesus of Nazareth. It’s about the birth of the Cosmic Christ spirit that lives within each of us and of which Jesus was one example. The Coming of the Cosmic Christ is an event that is always happening. We simply have to open our hearts to it. \nBring friends and family and stay for coffee and light refreshments. We look forward to seeing you!
URL:https://uucpalisades.org/event/the-coming-of-the-cosmic-christ/
LOCATION:Englewood\, 07631\, United States
END:VEVENT
BEGIN:VEVENT
DTSTART;TZID=America/New_York:20151227T103000
DTEND;TZID=America/New_York:20151227T113000
DTSTAMP:20260422T133926
CREATED:20151225T171624Z
LAST-MODIFIED:20151225T172318Z
UID:10000073-1451212200-1451215800@uucpalisades.org
SUMMARY:WINTER CONTEMPLATIONS - The Program Team
DESCRIPTION:Please join the UUCP Program Team at 10:30 AM in a service where we will share short stories and musings about the holidays and this time of year. If you have a favorite reading or short story we might not know\, please bring it to share with the congregation. \nBring a friend and stay for coffee and good conversation. We look forward to seeing you! \nPoster by: Bonnie Savitz
URL:https://uucpalisades.org/event/winter-contemplations-the-program-team/
LOCATION:Englewood\, 07631\, United States
ORGANIZER;CN="UUCP":MAILTO:Use our contact form on our website
END:VEVENT
END:VCALENDAR