BEGIN:VCALENDAR
VERSION:2.0
PRODID:-// - ECPv6.15.20//NONSGML v1.0//EN
CALSCALE:GREGORIAN
METHOD:PUBLISH
X-ORIGINAL-URL:https://uucpalisades.org
X-WR-CALDESC:Events for 
REFRESH-INTERVAL;VALUE=DURATION:PT1H
X-Robots-Tag:noindex
X-PUBLISHED-TTL:PT1H
BEGIN:VTIMEZONE
TZID:America/New_York
BEGIN:DAYLIGHT
TZOFFSETFROM:-0500
TZOFFSETTO:-0400
TZNAME:EDT
DTSTART:20140309T070000
END:DAYLIGHT
BEGIN:STANDARD
TZOFFSETFROM:-0400
TZOFFSETTO:-0500
TZNAME:EST
DTSTART:20141102T060000
END:STANDARD
BEGIN:DAYLIGHT
TZOFFSETFROM:-0500
TZOFFSETTO:-0400
TZNAME:EDT
DTSTART:20150308T070000
END:DAYLIGHT
BEGIN:STANDARD
TZOFFSETFROM:-0400
TZOFFSETTO:-0500
TZNAME:EST
DTSTART:20151101T060000
END:STANDARD
BEGIN:DAYLIGHT
TZOFFSETFROM:-0500
TZOFFSETTO:-0400
TZNAME:EDT
DTSTART:20160313T070000
END:DAYLIGHT
BEGIN:STANDARD
TZOFFSETFROM:-0400
TZOFFSETTO:-0500
TZNAME:EST
DTSTART:20161106T060000
END:STANDARD
END:VTIMEZONE
BEGIN:VEVENT
DTSTART;TZID=America/New_York:20150906T103000
DTEND;TZID=America/New_York:20150906T113000
DTSTAMP:20260422T184558
CREATED:20150721T212945Z
LAST-MODIFIED:20150724T180045Z
UID:10000090-1441535400-1441539000@uucpalisades.org
SUMMARY:WHATEVER HAPPENED TO ATTICUS? - Rev. Paul Dodenhoff
DESCRIPTION:Poster By: Bonnie Savitz \nPlease join us for today’s service led by Rev. Paul Dodenhoff. Harper Lee’s new novel “Go Set A Watchman\,” the sequel to her classic “To Kill A Mockingbird” has given the world an entirely new look at the iconic Atticus Finch. What does this “new” Atticus have to say to us today about issues of prejudice and race in America?
URL:https://uucpalisades.org/event/whatever-happened-to-atticus-rev-paul-dodenhoff/
LOCATION:Englewood\, 07631\, United States
END:VEVENT
BEGIN:VEVENT
DTSTART;TZID=America/New_York:20150913T103000
DTEND;TZID=America/New_York:20150913T113500
DTSTAMP:20260422T184558
CREATED:20150804T191050Z
LAST-MODIFIED:20150908T173111Z
UID:10000089-1442140200-1442144100@uucpalisades.org
SUMMARY:BEGINNINGS:  ROSH HASHANAH - Deborah Singer Pires
DESCRIPTION:Please join us for today’s service led by UUCP Co-President\, Deborah Singer Pires. Today marks the beginning of Rosh Hashanah\, the Jewish New Year.  It is also Grandparent’s Day. The convergence of these two holidays reminds us of the importance of ritual and celebration in passing on traditions from one generation to the next. \nPoster By: Bonnie Savitz
URL:https://uucpalisades.org/event/beginnings-rosh-hashanah-and-grandparents-day/
LOCATION:Englewood\, 07631\, United States
END:VEVENT
BEGIN:VEVENT
DTSTART;TZID=America/New_York:20150913T114500
DTEND;TZID=America/New_York:20150913T130000
DTSTAMP:20260422T184558
CREATED:20150831T200826Z
LAST-MODIFIED:20150908T172254Z
UID:10000088-1442144700-1442149200@uucpalisades.org
SUMMARY:UUCP WELCOME BACK PICNIC
DESCRIPTION:The annual UUCP Welcome Back Picnic will take place on Sunday\, September 13\, after the service. \n\nThe picnic will be at the Garret Lydecker House\, 228 Grand Avenue\, Englewood\, NJ. Food and drink will be provided by the Board of Trustees; however\, you are invited to contribute your favorite picnic dishes.
URL:https://uucpalisades.org/event/uucp-welcome-back-picnic/
LOCATION:Englewood\, 07631\, United States
END:VEVENT
BEGIN:VEVENT
DTSTART;TZID=America/New_York:20150920T103000
DTEND;TZID=America/New_York:20150920T120000
DTSTAMP:20260422T184558
CREATED:20150908T171921Z
LAST-MODIFIED:20150908T171921Z
UID:10000053-1442745000-1442750400@uucpalisades.org
SUMMARY:THE TRANSCENDENTALISTS: ROOTS OF THE NEW SPIRITUALITY - Rev. Paul Dodenhoff
DESCRIPTION:Please join us for today’s service led by Rev. Paul Dodenhoff. Polls continue to show that many people consider themselves “spiritual but not religious.” Today we’ll take a look at the 19th century Transcendentalist movement\, which included such luminaries as Ralph Waldo Emerson\, Henry David Throeau\, and Margaret Fuller\, and explore some of the ways in which it gave birth to the SBNR phenomenon.
URL:https://uucpalisades.org/event/the-transcendentalists-roots-of-the-new-spirituality-rev-paul-dodenhoff/
LOCATION:Englewood\, 07631\, United States
END:VEVENT
END:VCALENDAR