BEGIN:VCALENDAR
VERSION:2.0
PRODID:-// - ECPv6.15.20//NONSGML v1.0//EN
CALSCALE:GREGORIAN
METHOD:PUBLISH
X-ORIGINAL-URL:https://uucpalisades.org
X-WR-CALDESC:Events for 
REFRESH-INTERVAL;VALUE=DURATION:PT1H
X-Robots-Tag:noindex
X-PUBLISHED-TTL:PT1H
BEGIN:VTIMEZONE
TZID:America/New_York
BEGIN:DAYLIGHT
TZOFFSETFROM:-0500
TZOFFSETTO:-0400
TZNAME:EDT
DTSTART:20140309T070000
END:DAYLIGHT
BEGIN:STANDARD
TZOFFSETFROM:-0400
TZOFFSETTO:-0500
TZNAME:EST
DTSTART:20141102T060000
END:STANDARD
BEGIN:DAYLIGHT
TZOFFSETFROM:-0500
TZOFFSETTO:-0400
TZNAME:EDT
DTSTART:20150308T070000
END:DAYLIGHT
BEGIN:STANDARD
TZOFFSETFROM:-0400
TZOFFSETTO:-0500
TZNAME:EST
DTSTART:20151101T060000
END:STANDARD
BEGIN:DAYLIGHT
TZOFFSETFROM:-0500
TZOFFSETTO:-0400
TZNAME:EDT
DTSTART:20160313T070000
END:DAYLIGHT
BEGIN:STANDARD
TZOFFSETFROM:-0400
TZOFFSETTO:-0500
TZNAME:EST
DTSTART:20161106T060000
END:STANDARD
END:VTIMEZONE
BEGIN:VEVENT
DTSTART;TZID=America/New_York:20150802T103000
DTEND;TZID=America/New_York:20150802T113000
DTSTAMP:20260422T202422
CREATED:20150721T211549Z
LAST-MODIFIED:20150724T175707Z
UID:10000050-1438511400-1438515000@uucpalisades.org
SUMMARY:THE PROPHETHOOD OF ALL BELIEVERS - Rev. Paul Dodenhoff
DESCRIPTION:Poster By: Bonnie Savitz \nPlease join us for today’s service led by Rev. Paul Dodenhoff. All of us are called\, not just a certain few. Today we’ll be taking a look at UU theoogian James Luther Adams’ idea of the prophethood of all believers.
URL:https://uucpalisades.org/event/the-prophethood-of-all-believers-rev-paul-dodenhoff/
LOCATION:Englewood\, 07631\, United States
END:VEVENT
BEGIN:VEVENT
DTSTART;TZID=America/New_York:20150809T103000
DTEND;TZID=America/New_York:20150809T113000
DTSTAMP:20260422T202422
CREATED:20150720T211239Z
LAST-MODIFIED:20150727T235056Z
UID:10000048-1439116200-1439119800@uucpalisades.org
SUMMARY:THE CREATIVE LIFESTYLE - Cassandra Jennings-Hall
DESCRIPTION:Poster By: Bonnie Savitz \nPlease join us for today’s service led by UUCP member\, Cassandra Jennings-Hall. Cassandra will describe how the creative force within her emerges in the form of artistic expression.
URL:https://uucpalisades.org/event/the-creative-lifestyle-cassandra-jennings-hall/
LOCATION:Englewood\, 07631\, United States
END:VEVENT
BEGIN:VEVENT
DTSTART;TZID=America/New_York:20150823T103000
DTEND;TZID=America/New_York:20150823T113000
DTSTAMP:20260422T202422
CREATED:20150721T212525Z
LAST-MODIFIED:20150727T235539Z
UID:10000051-1440325800-1440329400@uucpalisades.org
SUMMARY:SEEKING SECURITY - Judy Manton and Yonas Dule
DESCRIPTION:Please join us for today’s service led by Judy Manton and special guest speaker\, Yonas Dule. Yonas\, a Christian\, will share with us his source of strength and perseverance during his 10-year\, 10-country journey from being accused of being a spy\, beaten and tortured in the jails of both Eritrea and Ethiopia\, to the trauma at the US-Mexican border\, to his release from the detention and sponsorship by the Bergen County Sanctuary Committee. \nPoster by: Bonnie Savitz
URL:https://uucpalisades.org/event/seeking-security-judy-manton-and-yonas-dule/
LOCATION:Englewood\, 07631\, United States
END:VEVENT
BEGIN:VEVENT
DTSTART;TZID=America/New_York:20150830T103000
DTEND;TZID=America/New_York:20150830T113000
DTSTAMP:20260422T202422
CREATED:20150720T212358Z
LAST-MODIFIED:20150804T191523Z
UID:10000049-1440930600-1440934200@uucpalisades.org
SUMMARY:HONORING THE INHERENT WORTH AND DIGNITY OF PEOPLE OF ALL AGES - Arlene Holpp Scalaa
DESCRIPTION:Poster By: Bonnie Savitz \nPlease join us for today’s service led by UUCP Co-President\, Arlene Holpp Scalaa. This service will draw on the First Unitarian Universalist Principle to address ageism\, discrimination against the young and the old. Internalized oppression\, particularly among older adults\, will be addressed.
URL:https://uucpalisades.org/event/honoring-the-inherent-worth-and-dignity-of-people-of-all-ages-arlene-holpp-scalaa/
LOCATION:Englewood\, 07631\, United States
END:VEVENT
END:VCALENDAR